BEGIN:VCALENDAR
VERSION:2.0
PRODID:-//Fuzz Club - ECPv6.15.17.1//NONSGML v1.0//EN
CALSCALE:GREGORIAN
METHOD:PUBLISH
X-WR-CALNAME:Fuzz Club
X-ORIGINAL-URL:https://www.fuzzclub.gr
X-WR-CALDESC:Events for Fuzz Club
REFRESH-INTERVAL;VALUE=DURATION:PT1H
X-Robots-Tag:noindex
X-PUBLISHED-TTL:PT1H
BEGIN:VTIMEZONE
TZID:Europe/Athens
BEGIN:DAYLIGHT
TZOFFSETFROM:+0200
TZOFFSETTO:+0300
TZNAME:EEST
DTSTART:20250330T010000
END:DAYLIGHT
BEGIN:STANDARD
TZOFFSETFROM:+0300
TZOFFSETTO:+0200
TZNAME:EET
DTSTART:20251026T010000
END:STANDARD
BEGIN:DAYLIGHT
TZOFFSETFROM:+0200
TZOFFSETTO:+0300
TZNAME:EEST
DTSTART:20260329T010000
END:DAYLIGHT
BEGIN:STANDARD
TZOFFSETFROM:+0300
TZOFFSETTO:+0200
TZNAME:EET
DTSTART:20261025T010000
END:STANDARD
BEGIN:DAYLIGHT
TZOFFSETFROM:+0200
TZOFFSETTO:+0300
TZNAME:EEST
DTSTART:20270328T010000
END:DAYLIGHT
BEGIN:STANDARD
TZOFFSETFROM:+0300
TZOFFSETTO:+0200
TZNAME:EET
DTSTART:20271031T010000
END:STANDARD
END:VTIMEZONE
BEGIN:VEVENT
DTSTART;TZID=Europe/Athens:20260321T203000
DTEND;TZID=Europe/Athens:20260321T233000
DTSTAMP:20260420T223139
CREATED:20260216T113657Z
LAST-MODIFIED:20260216T113658Z
UID:8699-1774125000-1774135800@www.fuzzclub.gr
SUMMARY:ΡΑΨΩΔΟΣ ΦΙΛΟΛΟΓΟΣ - "ΑΜΑΛΓΑΜΑ"
DESCRIPTION:Ο Ραψωδός Φιλόλογος παρουσιάζει τον νέο του δίσκο «Αμάλγαμα» Σάββατο 21 Μαρτίου 2026 | Fuzz Club \nΤο «Αμάλγαμα» είναι ο 7ος δίσκος του Ραψωδού Φιλόλογου και ένα σημείο-σταθμός στη διαδρομή του. Είναι ένα κράμα της πορείας \, της ταυτότητάς και της δισκογραφίας του μέχρι σήμερα — ένας καθαρά hip-hop δίσκος που στέκεται γερά στο ουσιαστικό και δίχως κενολογίες περιεχόμενο\, χωρίς εκπτώσεις και χωρίς προσπάθεια να γίνει κάτι άλλο από αυτό που είναι. \nΜε στίχους αιχμηρούς\, εσωτερικούς και ψυχογραφικούς και beats που υπηρετούν κάθε λέξη\, το «Αμάλγαμα» δεν είναι ανασκόπηση\, αλλά σύνθεση και επέκταση. Όχι ένα βήμα μπροστά ή πίσω — αλλά ένα σημείο όπου όλα συναντιούνται: ο ακρωτηριασμός\, το κελί\, η Αλεξάνδρεια\, η εμμονή και η απόδραση. \nΗ παρουσίαση στο Fuzz Club θα είναι μια αυθεντική hip-hop βραδιά\, με τον Ραψωδό Φιλόλογο να φέρνει στη σκηνή όλη τη δισκογραφική του πορεία μέσα από το φίλτρο του νέου δίσκου. \nSpecial Guests +++ \n*Οι πόρτες θα ανοίξουν στις 20:30\n*Official Merchandise διαθέσιμο κατά τη διάρκεια της παρουσίασης. \nΕπικοινωνία : support@rapsodosfilologos.gr
URL:https://www.fuzzclub.gr/event/rapsodos-filologos/
LOCATION:Fuzz Club\, PIREOS 209 KAI PATRIARXOU IOAKIM 1\, Athens\, Greece
CATEGORIES:Concerts
ATTACH;FMTTYPE=image/jpeg:https://www.fuzzclub.gr/wp-content/uploads/2026/02/cropped-image-1-1.jpg
END:VEVENT
BEGIN:VEVENT
DTSTART;TZID=Europe/Athens:20260328T200000
DTEND;TZID=Europe/Athens:20260328T233000
DTSTAMP:20260420T223139
CREATED:20260109T123821Z
LAST-MODIFIED:20260109T123929Z
UID:8659-1774728000-1774740600@www.fuzzclub.gr
SUMMARY:BAD MOVIES LIVE AT FUZZ
DESCRIPTION:BAD MOVIES LIVE AT FUZZ\nΣάββατο 28 Μαρτίου\nspecial guests : Pirates City\npresale : 13€ (early bird) και 15€\nentry : 18€ \nHARD COPIES :\n– Rhythm Records\, Εμ.Μπενάκη 74\, Αθήνα 10681\n– Outsiders Barbershop\, Αγ.Αικατερίνης 7\, Αθήνα 11853\n– Tuned Guitars\, Σποράδων 7\, Αθήνα 11361 \nAθήνα\, νόμιζες θα σ’ αφήναμε έξω από το χορό? Ήρθε η σειρά σου… Έφτασε αυτή η μέρα του έτους… Φοράς τις μπότες με το τζιν\, δυναμώνεις τη μουσική….Ισιώνεις τις κονκάρδες στο τζάκετ\, δυναμώνεις και άλλο… Βάζεις την τριαγιάσκα κι αρπάζεις ένα μπυράκι για το δρόμο. Εκεί που πας θα ‘ναι κι άλλοι σαν κι εσένα. Ντυμένοι στα μαύρα. Έτοιμοι για τη συναυλία της χρονιάς. Μια μπάντα από τη Θεσσαλονίκη. Ο ήχος της πόλης. Η μελωδία μιας γενιάς. Πέντε τύποι να παίζουν ροκ εν ρολ. Κι εσύ ψηλά πάνω στα σύννεφα να ακούς κιθάρες και αγριοφωνές\, να ιδρώνεις και να χοροπηδάς σα μικρό παιδί. Έτσι πρέπει να είναι. Κάπως έτσι πρέπει να νιώθεις… Στις 28 Μαρτίου. Στο FUZZ στην Αθήνα … Το βράδυ λίγο πριν τα μεσάνυχτα …\nBAD MOVIES \nΤΟ ΠΑΝΚ ΡΟΚ ΜΕΓΑΛΩΝΕΙ ΓΕΡΑ ΠΑΙΔΙΑ!!!
URL:https://www.fuzzclub.gr/event/bad-movies-live-at-fuzz/
LOCATION:Fuzz Club\, PIREOS 209 KAI PATRIARXOU IOAKIM 1\, Athens\, Greece
CATEGORIES:Concerts
ATTACH;FMTTYPE=image/png:https://www.fuzzclub.gr/wp-content/uploads/2026/01/BADMOVIES_FBEVENTCOVER_28_03_2026_FUZZ.png
END:VEVENT
BEGIN:VEVENT
DTSTART;TZID=Europe/Athens:20260403T200000
DTEND;TZID=Europe/Athens:20260403T233000
DTSTAMP:20260420T223139
CREATED:20260402T202446Z
LAST-MODIFIED:20260402T202446Z
UID:8719-1775246400-1775259000@www.fuzzclub.gr
SUMMARY:ΤΖΑΜΑΛ
DESCRIPTION:Ο ΤΖΑΜΑΛ επιστρέφει στην Αθήνα\, για μία μεγάλη συναυλία\, για τον εορτασμό 10 ετών πορείας του.
URL:https://www.fuzzclub.gr/event/%cf%84%ce%b6%ce%b1%ce%bc%ce%b1%ce%bb/
LOCATION:Fuzz Club\, PIREOS 209 KAI PATRIARXOU IOAKIM 1\, Athens\, Greece
CATEGORIES:Concerts
ATTACH;FMTTYPE=image/jpeg:https://www.fuzzclub.gr/wp-content/uploads/2026/04/cropped-image-1.jpg
END:VEVENT
BEGIN:VEVENT
DTSTART;TZID=Europe/Athens:20260405T200000
DTEND;TZID=Europe/Athens:20260405T233000
DTSTAMP:20260420T223139
CREATED:20251020T095917Z
LAST-MODIFIED:20251222T124826Z
UID:8591-1775419200-1775431800@www.fuzzclub.gr
SUMMARY:The Aristocrats Live in Athens!
DESCRIPTION:Κυριακή 5 Απριλίου 2026 | Fuzz Club \nΟι Aristocrats επιστρέφουν στην Ελλάδα την Κυριακή 5 Απριλίου 2026! Μετά από μια ξέφρενη περιοδεία σε Αυστραλία\, Ασία\, Αμερική και μια πρώτη εμφάνιση στο θρυλικό “Cruise to the Edge”\, οι Aristocrats με τους Guthrie Govan (κιθάρα)\, Bryan Beller (μπάσο) και Marco Minnemann (τύμπανα) επιστρέφουν στην Ευρώπη την άνοιξη του 2026 για να ολοκληρώσουν την παγκόσμια περιοδεία DUCK!\nΠρώτος σταθμός η Αθήνα και το Fuzz Club! \nΔιοργάνωση: Main Event Productions
URL:https://www.fuzzclub.gr/event/the-aristocrats-live-in-athens/
LOCATION:Fuzz Club\, PIREOS 209 KAI PATRIARXOU IOAKIM 1\, Athens\, Greece
CATEGORIES:Concerts
ATTACH;FMTTYPE=image/jpeg:https://www.fuzzclub.gr/wp-content/uploads/2025/10/cropped-image.jpg
END:VEVENT
BEGIN:VEVENT
DTSTART;TZID=Europe/Athens:20260418T230000
DTEND;TZID=Europe/Athens:20260418T233000
DTSTAMP:20260420T223139
CREATED:20260309T135304Z
LAST-MODIFIED:20260331T095402Z
UID:8707-1776553200-1776555000@www.fuzzclub.gr
SUMMARY:TRASHFORMERS
DESCRIPTION:Είναι εκεί που το παρελθόν συναντάει το παρόν\, και το παρόν το μέλλον\, οι έννοιες γίνονται ένα… και τα αγαπημένα μας τραγούδια από 80s\, 90s\, 00s (και βάλε) μπλέκουν σε ένα χορευτικό ασταμάτητο megamix. Φυσικά με την αξεπέραστη μυστική συνταγή των TFs! \nΑπό τη δημιουργία των Trash Parties το μακρινό 2004\, μέχρι το νο1 διαγαλαξιακό party του σήμερα\, το μήνυμα μένει ίδιο: το Dancefloor δεν έχει ημερομηνία λήξης. \nΣάββατο 18/4/26 στο πιο εκρηκτικό Dancefloor της πόλης!\nΟλοκαίνουριο το show\, αλλά τα απαραίτητα συστατικά για το οπτικοακουστικό υπερθέαμα των Trashformers είναι γνωστά! \nᗘ Pre party… DJ set. Έτσι\, για να μπούμε σε mood!\nᗘ Ultra απολαυστικό live show!\nᗘ VJ sets που καίνε τον αμφιβληστροειδή\nᗘ Secret guest γιατί πάντα περνάμε καλά με τους φίλους μας!\nᗘ Δόσεις τρέλας! (παντού και πάντα <3)\nᗘ Δόσεις νοσταλγίας\, απευθείας από το υποσυνείδητο.\nᗘ After party σκληρό… για όσους αντέχουν!\nᗘ Μπλα μπλα μπλα… \nΝαι είναι αλήθεια\, μπορούμε να πούμε πολλά για τα events των Trashformers αλλά είναι μια εμπειρία που πρέπει να τη ζήσεις\, και όχι να στην εξηγήσουν! \n******************************\nFuzz Live Music Club\nΠειραιώς 209 & Πατρ. Ιωακείμ 1\, Ταύρος\ndoors open at 22:22 / show starts at 23:44\ntickets: early-bird 8 / presale 9 / on spot 10\ninfo/reservations 2103450817\nonline ticketing at more.com
URL:https://www.fuzzclub.gr/event/%ce%b7-%ce%b4%ce%b9%ce%b1%cf%83%ce%ba%ce%ad%ce%b4%ce%b1%cf%83%ce%b7-%cf%80%ce%b5%ce%b8%ce%b1%ce%bd%ce%b5-trashformers/
LOCATION:Fuzz Club\, PIREOS 209 KAI PATRIARXOU IOAKIM 1\, Athens\, Greece
CATEGORIES:Concerts
ATTACH;FMTTYPE=image/jpeg:https://www.fuzzclub.gr/wp-content/uploads/2026/03/cropped-image-1-1.jpg
END:VEVENT
BEGIN:VEVENT
DTSTART;TZID=Europe/Athens:20260425T200000
DTEND;TZID=Europe/Athens:20260425T233000
DTSTAMP:20260420T223139
CREATED:20260122T091540Z
LAST-MODIFIED:20260216T112744Z
UID:8678-1777147200-1777159800@www.fuzzclub.gr
SUMMARY:0-100 seirene//El dilema del prisionero
DESCRIPTION:Το Σάββατο 25 Απριλίου\, η 0-100 σειρένε\, παρουσιάζει τον καινούριο της δίσκο ‘El dilema del prisionero’ στον χώρο του Fuzz.\nΗ Dj Pitsouni στα decks.\nΕίναι το δίλημμα του φυλακισμένου\,\nεσύ τι θα έκανες;\nΑθήνα 2026\nΠαραγωγή : Pineline lives\nΠροπώληση εισιτηριών : more.com
URL:https://www.fuzzclub.gr/event/0-100-seirene/
LOCATION:Fuzz Club\, PIREOS 209 KAI PATRIARXOU IOAKIM 1\, Athens\, Greece
CATEGORIES:Concerts
ATTACH;FMTTYPE=image/jpeg:https://www.fuzzclub.gr/wp-content/uploads/2026/01/MORE2.jpg
END:VEVENT
BEGIN:VEVENT
DTSTART;TZID=Europe/Athens:20261009T200000
DTEND;TZID=Europe/Athens:20261009T233000
DTSTAMP:20260420T223139
CREATED:20251020T100223Z
LAST-MODIFIED:20251222T124842Z
UID:8594-1791576000-1791588600@www.fuzzclub.gr
SUMMARY:Doro Pesch
DESCRIPTION:Η Metal Queen Doro Pesch  για πρώτη φορά  στην Αθήνα τον Οκτώβριο του 2026!\n\nΑπο την έκρηξη του heavy metal στις αρχές της δεκαετίας του ’80\, η Doro Pesch παραμένει στην κορυφή της metal σκηνής  με  τα εντυπωσιακά άλμπουμ της και τέσσερεις δεκαετίες ενεργής μουσικής παρουσίας γεμάτες πάθος και έμπνευση!\nΈρχεται  το 2026 για live στην  Αθήνα  για να μοιραστεί  μαζί με το αφοσιωμένο ελληνικό κοινό ξεχωριστή νύχτα  γεμάτη metal ύμνους!\n\nΌπως δηλώνει η ίδια η Doro:\n«Θα συνεχίσω την μάχη  του καλού και να δίνω ενέργεια\, δύναμη και κουράγιο στους θαυμαστές μου  στο 110%. Έχω ακόμα πολλά να προσφέρω με τόση  έμπνευση σαν να είμαι 18 χρονών.»\n\nΚλείσε  το εισιτήριό σου στο metal live της χρονιάς :\nhttps://eventation.gr/\n\n9 Οκτωβρίου 2026 – Αθήνα – Fuzz Club
URL:https://www.fuzzclub.gr/event/doro-pesch/
LOCATION:Fuzz Club\, PIREOS 209 KAI PATRIARXOU IOAKIM 1\, Athens\, Greece
CATEGORIES:Concerts
ATTACH;FMTTYPE=image/jpeg:https://www.fuzzclub.gr/wp-content/uploads/2025/10/Doro-by-Tim-Tronckoe-300-dpi.jpeg
END:VEVENT
BEGIN:VEVENT
DTSTART;TZID=Europe/Athens:20261024T200000
DTEND;TZID=Europe/Athens:20261024T233000
DTSTAMP:20260420T223139
CREATED:20251128T095113Z
LAST-MODIFIED:20260126T152148Z
UID:8622-1792872000-1792884600@www.fuzzclub.gr
SUMMARY:Nightfall
DESCRIPTION: Η ΣΥΝΑΥΛΙΑ ΤΩΝ NIGHTFALL ΜΕΤΑΤΙΘΕΤΑΙ  ΣΕ ΝΕΑ ΗΜΕΡΟΜΗΝΙΑ\n \nΛόγω ενός απρόοπτου σοβαρού ατυχήματος του τραγουδιστή \nτων Nightfall\, Ευθύμη Καραδήμα\, η προγραμματισμένη συναυλία \nτης Παρασκευής 6 Μαρτίου στο Fuzz\, μετατίθεται σε νέα ημερομηνία  στο ίδιο venue. \nΤο Σάββατο 24 Οκτωβρίου στο Fuzz θα υποδεχτούμε τη θρυλική μπάντα σε ένα αλησμόνητο show! \nΤα εισιτήρια ισχύουν κανονικά και για τη νέα ημερομηνία χωρίς να απαιτείται κάποια περαιτέρω ενέργεια από τους κατόχους τους. \n  \n===================== \nΠέντε χρόνια μετά την τελευταία τους συναυλιακή εμφάνιση στην Αθήνα\, επιστρέφουν με ένα headline show. \nΗ death metal μπάντα της Αθήνας που άνοιξε νέους δρόμους στην ελληνική σκηνή έχει τη δική της ιδιότυπη συναυλιακή ιστορία\, αφού έχει δώσει λίγα live αλλά όλα κατάφεραν να προκαλέσουν συζητήσεις στην underground κοινότητα. \nΑπό τις νύχτες των 90s που άνοιγαν τους Paradise Lost στην Αθήνα μέχρι την εμφάνισή τους στο μυθικό φεστιβάλ Rock Of Gods τη βραδιά των Slayer\, από το club του Ρόδον μέχρι τη σκηνή του Wacken και του Hellfest\, οι Nightfall είναι ένα σχήμα που πάντα παρουσιάζει κάτι διαφορετικό -και συχνά αιρετικό- όταν αποφασίσει να πατήσει το σανίδι. Κανείς δεν ξέρει τι να περιμένει. \nΜε το πρόσφατο άλμπουμ τους «Children Of Eve» να ξεχωρίζει στις διεθνείς λίστες με τους καλύτερους metal δίσκους του 2025\, οι Nightfall ετοιμάζουν το μεγαλύτερο gig που έχουν δώσει ποτέ στην πόλη τους. \nΜε τον frontman της μπάντας\, Ευθύμη Καραδήμα\, να παρουσιάζεται πια ως μια μασκοφορεμένη φιγούρα – μια αλληγορία για τη χρόνια μάχη του με την κατάθλιψη\, τον ντράμερ\, Φώτη Μπενάρντο\, να παραδίδει ζωντανό σεμινάριο τεχνικής και πώρωσης\, την μπασίστρια\, Βασιλική Μπιζά\, να δονεί τα ακροατήρια\, και τους κιθαρίστες\, Κώστα Κυριακόπουλο και Άκη Πάστρα\, να δημιουργούν riff συνδέσεις\, οι Nightfall δεν είναι το τυπικό act του σκληρού ήχου που έχεις συνηθίσει. Είναι έτοιμοι να σας μεταφέρουν σε έναν κόσμο όπου η μουσική συναντά τις παραστατικές τέχνες. \nΕλάτε να γίνετε μέρος της ιστορίας της μπάντας που συνέχεια ανανεώνει το είδος και συνεχίζει να το επαναπροσδιορίζει. Ελάτε να το ζήσετε. \n 
URL:https://www.fuzzclub.gr/event/nightfall/
LOCATION:Fuzz Club\, PIREOS 209 KAI PATRIARXOU IOAKIM 1\, Athens\, Greece
CATEGORIES:Concerts
ATTACH;FMTTYPE=image/jpeg:https://www.fuzzclub.gr/wp-content/uploads/2025/11/SLIDER-nightfall-1-1.jpg
END:VEVENT
BEGIN:VEVENT
DTSTART;TZID=Europe/Athens:20261120T200000
DTEND;TZID=Europe/Athens:20261120T233000
DTSTAMP:20260420T223139
CREATED:20260202T094904Z
LAST-MODIFIED:20260420T095533Z
UID:8687-1795204800-1795217400@www.fuzzclub.gr
SUMMARY:EZHEL
DESCRIPTION:EZHEL\nΠΑΡΑΣΚΕΥΗ 20 ΝΟΕΜΒΡΙΟΥ 2026 | ΑΘΗΝΑ | FUZZ LIVE MUSIC CLUB \nΤην Παρασκευή 20 Νοεμβρίου\, ο Ezhel θα εμφανιστεί ζωντανά στο Fuzz στην Αθήνα\, για μια εκρηκτική συναυλία που αποτυπώνει τον πρωτοποριακό ήχο και την δυναμική σκηνική παρουσία που τον έχουν καθιερώσει στη διεθνή rap σκηνή ως τη ‘’φωνή της Τουρκικής rap’’.\nΟ Ezhel\, γεννημένος ως Sercan İpekçioğlu την 1η Ιουλίου 1990 στην Άγκυρα και πλέον κάτοικος Βερολίνου\, αποτελεί μία από τις πιο επιδραστικές προσωπικότητες της ραπ σκηνής σε Τουρκία και Γερμανία. Μεγαλώνοντας στους ζωντανούς αλλά και γεμάτους προκλήσεις δρόμους της Άγκυρας\, ο Ezhel ήρθε από νωρίς σε επαφή με ένα ευρύ φάσμα μουσικών ακουσμάτων\, από τη reggae και το hip-hop μέχρι το ανατολίτικο ροκ. Το πάθος του για τη μουσική ξεκίνησε στην εφηβεία\, όταν άρχισε να πειραματίζεται με το freestyle και να συμμετέχει σε underground rap battles. \nΗ μεγάλη του επιτυχία ήρθε το 2017 με το ντεμπούτο άλμπουμ του\, Müptezhel\, το οποίο εξελίχθηκε γρήγορα σε πολιτισμικό φαινόμενο στην Τουρκία. Ο δίσκος\, που παντρεύει τη ραπ με στοιχεία reggae και trap\, αποθεώθηκε για τον ωμό λυρισμό του\, θίγοντας θέματα όπως η ζωή στην πόλη\, τα κοινωνικά ζητήματα και οι δυσκολίες της νεολαίας. Τραγούδια όπως το “Şehrimin Tadı” και το “Geceler” άγγιξαν βαθιά μια γενιά που βρισκόταν αντιμέτωπη με οικονομικές και κοινωνικές προκλήσεις\, καθιερώνοντας τον Ezhel ως τη «φωνή» της τουρκικής νεολαίας.\nΜετατράπηκε σε σύμβολο αντίστασης και ελευθερίας της έκφρασης στην Τουρκία\, χρησιμοποιώντας το βήμα του για να αναδείξει την πραγματικότητα που βιώνουν πολλοί νέοι στη χώρα. Η μουσική του\, η οποία χαρακτηρίζεται από αυθεντικότητα και συναισθηματικό βάθος\, του έχει χαρίσει ένα πιστό κοινό\, όχι μόνο εντός των συνόρων αλλά και διεθνώς. \nΟι συνεργασίες του Ezhel με παγκόσμιας εμβέλειας καλλιτέχνες\, όπως οι Aitch\, Luciano\, Gentleman και Ufo361\, επέκτειναν περαιτέρω την απήχησή του\, καθιστώντας τον εξέχουσα μορφή στην παγκόσμια hip-hop κοινότητα. Σήμερα\, ο Ezhel συνεχίζει να διευρύνει τα όρια της ραπ\, χρησιμοποιώντας τη μουσική του ως ένα ισχυρό μέσο αφήγησης και κοινωνικού σχολιασμού\, εδραιώνοντας τη θέση του ως ένας πρωτοπόρος καλλιτέχνης του είδους.\nΠροπώληση εισιτηρίων: more.com \n// en version// \nEZHEL \nFRIDAY 20 NOVEMBER 2026 | ATHENS | FUZZ LIVE MUSIC CLUB \nOn Friday\, November 20\, Ezhel will perform live at Fuzz Club in Athens\, in an electrifying concert that showcases his pioneering sound and dynamic stage presence\, which have established him in the international rap scene as “the voice of Turkish rap.”\nEzhel\, born Sercan İpekçioğlu on July 1\, 1990\, in Ankara\, Turkey\, and now a Berlin resident is one of the most influential figures in the rap scenes of Turkey and Germany. Growing up in the vibrant yet challenging streets of Ankara\, Ezhel was exposed to a diverse array of musical influences from an early age\, including reggae\, hip-hop\, and Anatolian rock. His passion for music began in his teenage years\, as he started experimenting with freestyling and performing in underground rap battles. \nEzhel’s breakthrough came with his debut album Müptezhel in 2017\, which quickly became a cultural phenomenon in Turkey. The album\, which blends rap with reggae and trap elements\, was lauded for its raw lyricism\, addressing themes such as urban life\, societal issues\, and the struggles of youth. Songs like “Şehrimin Tadı” and “Geceler” resonated deeply with a generation facing economic and social challenges\, establishing Ezhel as the voice of the Turkish youth. He became a symbol of resistance and freedom of expression in Turkey\, using his platform to highlight the realities of life for many young people in the country. His music\, characterized by its authenticity and emotional depth\, has earned him a loyal fan base not only in Turkey but also internationally. \nEzhel’s collaborations with global artists such as Aitch\, Luciano\, Gentleman and Ufo361 have further expanded his reach\, making him a prominent figure in the global hip-hop community. Today\, Ezhel continues to push the boundaries of rap music\, using his music as a powerful tool for storytelling and social commentary\, solidifying his place as a pioneering artist in the genre.\nGet your tickets via more.com
URL:https://www.fuzzclub.gr/event/ezhel/
LOCATION:Fuzz Club\, PIREOS 209 KAI PATRIARXOU IOAKIM 1\, Athens\, Greece
CATEGORIES:Concerts
ATTACH;FMTTYPE=image/jpeg:https://www.fuzzclub.gr/wp-content/uploads/2026/02/EZHEL_Athens_738x415.jpg
END:VEVENT
END:VCALENDAR