BEGIN:VCALENDAR
VERSION:2.0
PRODID:-//Fuzz Club - ECPv6.15.17.1//NONSGML v1.0//EN
CALSCALE:GREGORIAN
METHOD:PUBLISH
X-WR-CALNAME:Fuzz Club
X-ORIGINAL-URL:https://www.fuzzclub.gr
X-WR-CALDESC:Events for Fuzz Club
REFRESH-INTERVAL;VALUE=DURATION:PT1H
X-Robots-Tag:noindex
X-PUBLISHED-TTL:PT1H
BEGIN:VTIMEZONE
TZID:Europe/Athens
BEGIN:DAYLIGHT
TZOFFSETFROM:+0200
TZOFFSETTO:+0300
TZNAME:EEST
DTSTART:20250330T010000
END:DAYLIGHT
BEGIN:STANDARD
TZOFFSETFROM:+0300
TZOFFSETTO:+0200
TZNAME:EET
DTSTART:20251026T010000
END:STANDARD
BEGIN:DAYLIGHT
TZOFFSETFROM:+0200
TZOFFSETTO:+0300
TZNAME:EEST
DTSTART:20260329T010000
END:DAYLIGHT
BEGIN:STANDARD
TZOFFSETFROM:+0300
TZOFFSETTO:+0200
TZNAME:EET
DTSTART:20261025T010000
END:STANDARD
BEGIN:DAYLIGHT
TZOFFSETFROM:+0200
TZOFFSETTO:+0300
TZNAME:EEST
DTSTART:20270328T010000
END:DAYLIGHT
BEGIN:STANDARD
TZOFFSETFROM:+0300
TZOFFSETTO:+0200
TZNAME:EET
DTSTART:20271031T010000
END:STANDARD
END:VTIMEZONE
BEGIN:VEVENT
DTSTART;TZID=Europe/Athens:20260405T200000
DTEND;TZID=Europe/Athens:20260405T233000
DTSTAMP:20260421T002221
CREATED:20251020T095917Z
LAST-MODIFIED:20251222T124826Z
UID:8591-1775419200-1775431800@www.fuzzclub.gr
SUMMARY:The Aristocrats Live in Athens!
DESCRIPTION:Κυριακή 5 Απριλίου 2026 | Fuzz Club \nΟι Aristocrats επιστρέφουν στην Ελλάδα την Κυριακή 5 Απριλίου 2026! Μετά από μια ξέφρενη περιοδεία σε Αυστραλία\, Ασία\, Αμερική και μια πρώτη εμφάνιση στο θρυλικό “Cruise to the Edge”\, οι Aristocrats με τους Guthrie Govan (κιθάρα)\, Bryan Beller (μπάσο) και Marco Minnemann (τύμπανα) επιστρέφουν στην Ευρώπη την άνοιξη του 2026 για να ολοκληρώσουν την παγκόσμια περιοδεία DUCK!\nΠρώτος σταθμός η Αθήνα και το Fuzz Club! \nΔιοργάνωση: Main Event Productions
URL:https://www.fuzzclub.gr/event/the-aristocrats-live-in-athens/
LOCATION:Fuzz Club\, PIREOS 209 KAI PATRIARXOU IOAKIM 1\, Athens\, Greece
CATEGORIES:Concerts
ATTACH;FMTTYPE=image/jpeg:https://www.fuzzclub.gr/wp-content/uploads/2025/10/cropped-image.jpg
END:VEVENT
END:VCALENDAR