BEGIN:VCALENDAR
VERSION:2.0
PRODID:-//Fuzz Club - ECPv6.15.17.1//NONSGML v1.0//EN
CALSCALE:GREGORIAN
METHOD:PUBLISH
X-WR-CALNAME:Fuzz Club
X-ORIGINAL-URL:https://www.fuzzclub.gr
X-WR-CALDESC:Events for Fuzz Club
REFRESH-INTERVAL;VALUE=DURATION:PT1H
X-Robots-Tag:noindex
X-PUBLISHED-TTL:PT1H
BEGIN:VTIMEZONE
TZID:Europe/Athens
BEGIN:DAYLIGHT
TZOFFSETFROM:+0200
TZOFFSETTO:+0300
TZNAME:EEST
DTSTART:20250330T010000
END:DAYLIGHT
BEGIN:STANDARD
TZOFFSETFROM:+0300
TZOFFSETTO:+0200
TZNAME:EET
DTSTART:20251026T010000
END:STANDARD
BEGIN:DAYLIGHT
TZOFFSETFROM:+0200
TZOFFSETTO:+0300
TZNAME:EEST
DTSTART:20260329T010000
END:DAYLIGHT
BEGIN:STANDARD
TZOFFSETFROM:+0300
TZOFFSETTO:+0200
TZNAME:EET
DTSTART:20261025T010000
END:STANDARD
BEGIN:DAYLIGHT
TZOFFSETFROM:+0200
TZOFFSETTO:+0300
TZNAME:EEST
DTSTART:20270328T010000
END:DAYLIGHT
BEGIN:STANDARD
TZOFFSETFROM:+0300
TZOFFSETTO:+0200
TZNAME:EET
DTSTART:20271031T010000
END:STANDARD
END:VTIMEZONE
BEGIN:VEVENT
DTSTART;TZID=Europe/Athens:20260321T203000
DTEND;TZID=Europe/Athens:20260321T233000
DTSTAMP:20260421T125442
CREATED:20260216T113657Z
LAST-MODIFIED:20260216T113658Z
UID:8699-1774125000-1774135800@www.fuzzclub.gr
SUMMARY:ΡΑΨΩΔΟΣ ΦΙΛΟΛΟΓΟΣ - "ΑΜΑΛΓΑΜΑ"
DESCRIPTION:Ο Ραψωδός Φιλόλογος παρουσιάζει τον νέο του δίσκο «Αμάλγαμα» Σάββατο 21 Μαρτίου 2026 | Fuzz Club \nΤο «Αμάλγαμα» είναι ο 7ος δίσκος του Ραψωδού Φιλόλογου και ένα σημείο-σταθμός στη διαδρομή του. Είναι ένα κράμα της πορείας \, της ταυτότητάς και της δισκογραφίας του μέχρι σήμερα — ένας καθαρά hip-hop δίσκος που στέκεται γερά στο ουσιαστικό και δίχως κενολογίες περιεχόμενο\, χωρίς εκπτώσεις και χωρίς προσπάθεια να γίνει κάτι άλλο από αυτό που είναι. \nΜε στίχους αιχμηρούς\, εσωτερικούς και ψυχογραφικούς και beats που υπηρετούν κάθε λέξη\, το «Αμάλγαμα» δεν είναι ανασκόπηση\, αλλά σύνθεση και επέκταση. Όχι ένα βήμα μπροστά ή πίσω — αλλά ένα σημείο όπου όλα συναντιούνται: ο ακρωτηριασμός\, το κελί\, η Αλεξάνδρεια\, η εμμονή και η απόδραση. \nΗ παρουσίαση στο Fuzz Club θα είναι μια αυθεντική hip-hop βραδιά\, με τον Ραψωδό Φιλόλογο να φέρνει στη σκηνή όλη τη δισκογραφική του πορεία μέσα από το φίλτρο του νέου δίσκου. \nSpecial Guests +++ \n*Οι πόρτες θα ανοίξουν στις 20:30\n*Official Merchandise διαθέσιμο κατά τη διάρκεια της παρουσίασης. \nΕπικοινωνία : support@rapsodosfilologos.gr
URL:https://www.fuzzclub.gr/event/rapsodos-filologos/
LOCATION:Fuzz Club\, PIREOS 209 KAI PATRIARXOU IOAKIM 1\, Athens\, Greece
CATEGORIES:Concerts
ATTACH;FMTTYPE=image/jpeg:https://www.fuzzclub.gr/wp-content/uploads/2026/02/cropped-image-1-1.jpg
END:VEVENT
END:VCALENDAR