BEGIN:VCALENDAR
VERSION:2.0
PRODID:-//Fuzz Club - ECPv6.15.17.1//NONSGML v1.0//EN
CALSCALE:GREGORIAN
METHOD:PUBLISH
X-ORIGINAL-URL:https://www.fuzzclub.gr
X-WR-CALDESC:Events for Fuzz Club
REFRESH-INTERVAL;VALUE=DURATION:PT1H
X-Robots-Tag:noindex
X-PUBLISHED-TTL:PT1H
BEGIN:VTIMEZONE
TZID:Europe/Athens
BEGIN:DAYLIGHT
TZOFFSETFROM:+0200
TZOFFSETTO:+0300
TZNAME:EEST
DTSTART:20250330T010000
END:DAYLIGHT
BEGIN:STANDARD
TZOFFSETFROM:+0300
TZOFFSETTO:+0200
TZNAME:EET
DTSTART:20251026T010000
END:STANDARD
BEGIN:DAYLIGHT
TZOFFSETFROM:+0200
TZOFFSETTO:+0300
TZNAME:EEST
DTSTART:20260329T010000
END:DAYLIGHT
BEGIN:STANDARD
TZOFFSETFROM:+0300
TZOFFSETTO:+0200
TZNAME:EET
DTSTART:20261025T010000
END:STANDARD
BEGIN:DAYLIGHT
TZOFFSETFROM:+0200
TZOFFSETTO:+0300
TZNAME:EEST
DTSTART:20270328T010000
END:DAYLIGHT
BEGIN:STANDARD
TZOFFSETFROM:+0300
TZOFFSETTO:+0200
TZNAME:EET
DTSTART:20271031T010000
END:STANDARD
END:VTIMEZONE
BEGIN:VEVENT
DTSTART;TZID=Europe/Athens:20260227T203000
DTEND;TZID=Europe/Athens:20260227T233000
DTSTAMP:20260420T222752
CREATED:20260109T124223Z
LAST-MODIFIED:20260202T095624Z
UID:8663-1772224200-1772235000@www.fuzzclub.gr
SUMMARY:ΕΙΣΒΟΛΕΑΣ LIVE
DESCRIPTION:Ο Εισβολέας\, ένας από τους κορυφαίους Έλληνες rappers\, “εισβάλλει” δυναμικά στη νέα χρονιά με μια μεγάλη αθηναϊκή συναυλία! \nΜαζί με την ομάδα που ξεσηκώνει τα μεγαλύτερα φεστιβάλ και stages της χώρας\, ο Εισβολέας εμφανίζεται την Παρασκευή 27 Φεβρουαρίου στο Fuzz και μας καλεί σε ένα πυρακτωμένο\, εφ’ όλης της ύλης live\,στο πλαίσιο του νέου του project. \nΤο Special Winter Tour αποτελεί μια μοναδική ευκαιρία για το κοινό να ζήσει από κοντά αγαπημένα κομμάτια από την πορεία του\, αλλά και να ακούσει αποκλειστικά υλικό από τις νέες κυκλοφορίες του\, οι οποίες αναμένεται να κυκλοφορήσουν επίσημα – τόσο online όσο και σε φυσική μορφή –μέσα στο 2026. \nΝέα τραγούδια\, παλιές ιστορίες\, μια μπάντα σε φόρμα και μια παρέα που δεν λέει να το βάλει κάτω! \nΤην Παρασκευή 27 Φεβρουαρίου στο Fuzz\, ο Εισβολέας\, με φουλ ενέργεια\, σας προσκαλεί ξανά στα εκρηκτικά live του — και εκεί\, τίποτα δεν είναι προβλέψιμο! \nΛίγα λόγια για τον Εισβολέα: \nΟ Ηλίας Παπανικολός\, γνωστός με το καλλιτεχνικό όνομα Eισβολέας είναι ένας μουσικός που γράφει μουσική\, στίχους και κάνει μουσικές παραγωγές στην Αθήνα. Δραστηριοποιείται στον χώρο της χιπ-χοπ μουσικής από το 1997 \nΤο πρώτο του δισκογραφικό ντεμπούτο ήταν το 1999 στον δίσκο «Ρίμα για χρήμα» και έκτοτε έχει κυκλοφορήσει αρκετά singles και lp σε DIY μορφή καθώς και με δισκογραφικές εταιρείες \nΤα τελευταία 14 χρόνια παίζει live με full band  σε όλη την Ελλάδα και έχει συνεργαστεί με καλλιτέχνες εκτός του χιπ χοπ. \nΑυτό που τον χαρακτηρίζει είναι το ότι μπλέκει τα μουσικά είδη μεταξύ τους\,  κυρίως τις παραδοσιακές φόρμες\, δίνοντας τους μια φρέσκια και πιο urban οπτική. \nINFO \nEISVO & THE BAND LIVE \nΠαρασκευή 27 Φεβρουαρίου\nFuzz\, Πατριάρχου Ιωακείμ 1\, Ταύρος Αττικής 177 78 \nΏρα προσέλευσης: 20:30\nΏρα έναρξης: 21:30 \nΤιμές εισιτηρίων:\nΠροπώληση: 15 €\nΤαμείο: 17 €
URL:https://www.fuzzclub.gr/event/%ce%b5%ce%b9%cf%83%ce%b2%ce%bf%ce%bb%ce%b5%ce%b1%cf%83-live/
CATEGORIES:Concerts
ATTACH;FMTTYPE=image/jpeg:https://www.fuzzclub.gr/wp-content/uploads/2026/01/cropped-image-1-4.jpg
END:VEVENT
END:VCALENDAR