BEGIN:VCALENDAR
VERSION:2.0
PRODID:-//Fuzz Club - ECPv6.15.17.1//NONSGML v1.0//EN
CALSCALE:GREGORIAN
METHOD:PUBLISH
X-WR-CALNAME:Fuzz Club
X-ORIGINAL-URL:https://www.fuzzclub.gr
X-WR-CALDESC:Events for Fuzz Club
REFRESH-INTERVAL;VALUE=DURATION:PT1H
X-Robots-Tag:noindex
X-PUBLISHED-TTL:PT1H
BEGIN:VTIMEZONE
TZID:Europe/Athens
BEGIN:DAYLIGHT
TZOFFSETFROM:+0200
TZOFFSETTO:+0300
TZNAME:EEST
DTSTART:20250330T010000
END:DAYLIGHT
BEGIN:STANDARD
TZOFFSETFROM:+0300
TZOFFSETTO:+0200
TZNAME:EET
DTSTART:20251026T010000
END:STANDARD
BEGIN:DAYLIGHT
TZOFFSETFROM:+0200
TZOFFSETTO:+0300
TZNAME:EEST
DTSTART:20260329T010000
END:DAYLIGHT
BEGIN:STANDARD
TZOFFSETFROM:+0300
TZOFFSETTO:+0200
TZNAME:EET
DTSTART:20261025T010000
END:STANDARD
BEGIN:DAYLIGHT
TZOFFSETFROM:+0200
TZOFFSETTO:+0300
TZNAME:EEST
DTSTART:20270328T010000
END:DAYLIGHT
BEGIN:STANDARD
TZOFFSETFROM:+0300
TZOFFSETTO:+0200
TZNAME:EET
DTSTART:20271031T010000
END:STANDARD
END:VTIMEZONE
BEGIN:VEVENT
DTSTART;TZID=Europe/Athens:20260124T073000
DTEND;TZID=Europe/Athens:20260124T233000
DTSTAMP:20260420T204809
CREATED:20260122T140633Z
LAST-MODIFIED:20260122T140634Z
UID:8682-1769239800-1769297400@www.fuzzclub.gr
SUMMARY:Eek-A-Mouse
DESCRIPTION:Eek-A-Mouse: Ο θρύλος της reggae για πρώτη φορά στην Ελλάδα! 🦁🔥 \nΜετά το εκρηκτικό sold out της προπώλησης\, η συναυλία μεταφέρεται σε μεγαλύτερο χώρο\, προκειμένου να αναβαθμιστεί η εμπειρία του κοινού και να δοθεί η δυνατότητα σε περισσότερους φίλους της reggae να παρευρεθούν σε αυτή τη μοναδική εμφάνιση. \nΗ ιστορία γράφεται αυτό το Σάββατο 24 Ιανουαρίου στο Fuzz Club! Κατευθείαν από την Τζαμάικα\, ο ένας και μοναδικός\, EEK-A-MOUSE. Ο πρωτοπόρος του sing-jay & scatting στυλ\, έρχεται στην Αθήνα για μια βραδιά που η reggae σκηνή περίμενε δεκαετίες! 🇯🇲 \nThe Line-up: \n🎤 EEK-A-MOUSE (The Living Legend)\n🎧 Blend Mishkin & Anna Mystic (Special B2B Set – 30+ years of vibes)\n💿 Kill Emil (Positive grooves & uplifting melodies)\n🎧 DJ SILENCE (The Urban Hitmaker)\n🎙️ Official MC: Big Shine (Skg’s Dub Alliance – Double-time flow master \n⚠️ TICKET ALERT: Τα Early Bird εισιτήρια εξαντλήθηκαν! (SOLD OUT) Προλάβετε τώρα τα Pre-sale εισιτήρια (22€) μέσω More.com. \n📅 Σάββατο 24 Ιανουαρίου 2026  \n📍 Fuzz Club – Patriarchou Ioakim 1\, Tavros 17778 \n🚪 Doors open: 19:00 \n🎟️ Tickets Link in Bio. \nΜια ιστορική βραδιά γεμάτη αυθεντικούς reggae\, roots και dub ρυθμούς που δεν πρέπει να χάσει κανείς! 💚💛❤️ \nCo-Production: ♠️ Ace Productions / 👉 Triggafinga International
URL:https://www.fuzzclub.gr/event/eek-a-mouse/
LOCATION:Fuzz Club\, PIREOS 209 KAI PATRIARXOU IOAKIM 1\, Athens\, Greece
CATEGORIES:Concerts
ATTACH;FMTTYPE=image/jpeg:https://www.fuzzclub.gr/wp-content/uploads/2026/01/Eek_A_Mouse_Athens_26_01_17_MoreCom_816x465_v6.jpg
END:VEVENT
END:VCALENDAR