BEGIN:VCALENDAR
VERSION:2.0
PRODID:-//Fuzz Club - ECPv6.15.17.1//NONSGML v1.0//EN
CALSCALE:GREGORIAN
METHOD:PUBLISH
X-ORIGINAL-URL:https://www.fuzzclub.gr
X-WR-CALDESC:Events for Fuzz Club
REFRESH-INTERVAL;VALUE=DURATION:PT1H
X-Robots-Tag:noindex
X-PUBLISHED-TTL:PT1H
BEGIN:VTIMEZONE
TZID:Europe/Athens
BEGIN:DAYLIGHT
TZOFFSETFROM:+0200
TZOFFSETTO:+0300
TZNAME:EEST
DTSTART:20240331T010000
END:DAYLIGHT
BEGIN:STANDARD
TZOFFSETFROM:+0300
TZOFFSETTO:+0200
TZNAME:EET
DTSTART:20241027T010000
END:STANDARD
BEGIN:DAYLIGHT
TZOFFSETFROM:+0200
TZOFFSETTO:+0300
TZNAME:EEST
DTSTART:20250330T010000
END:DAYLIGHT
BEGIN:STANDARD
TZOFFSETFROM:+0300
TZOFFSETTO:+0200
TZNAME:EET
DTSTART:20251026T010000
END:STANDARD
BEGIN:DAYLIGHT
TZOFFSETFROM:+0200
TZOFFSETTO:+0300
TZNAME:EEST
DTSTART:20260329T010000
END:DAYLIGHT
BEGIN:STANDARD
TZOFFSETFROM:+0300
TZOFFSETTO:+0200
TZNAME:EET
DTSTART:20261025T010000
END:STANDARD
END:VTIMEZONE
BEGIN:VEVENT
DTSTART;TZID=Europe/Athens:20251219T200000
DTEND;TZID=Europe/Athens:20251219T233000
DTSTAMP:20260420T171320
CREATED:20251030T072354Z
LAST-MODIFIED:20251216T113440Z
UID:8609-1766174400-1766187000@www.fuzzclub.gr
SUMMARY:Anorimoi
DESCRIPTION:Δεκέμβριος = ANORIMOI \nΟι Anorimoi\, πιστοί στο Αθηναϊκό τους Δεκεμβριανό ραντεβού\, επιστρέφουν στον τόπο του sold out εγκλήματος\, το Fuzz Club! \nΠαρασκευή 19/12 θα παρουσιάσουν ζωντανά το νέο τους άλμπουμ με τίτλο ΤΕΡΑΤΟΓΕΝΕΣΗ και φυσικά θα το συνοδεύσουν με όλες τις δημοφιλείς αποτυχίες τους σε ένα σόου που θα ξεπεράσει τις τρεις ώρες! \nΠρομηθευτείτε έγκαιρα το εισιτήριο σας και εξασφαλίστε θέση σε μια ανεπανάληπτη γιορτή που θα περιέχει όλα τα στοιχεία που χαρακτηρίζουν το γκρουπ καθώς και μερικές εκπλήξεις\, έτσι για το καλό! \nInfo / Tickets here
URL:https://www.fuzzclub.gr/event/anorimoi-2/
LOCATION:Fuzz Club\, PIREOS 209 KAI PATRIARXOU IOAKIM 1\, Athens\, Greece
CATEGORIES:Concerts
ATTACH;FMTTYPE=image/jpeg:https://www.fuzzclub.gr/wp-content/uploads/2025/10/cropped-image-1-1.jpg
END:VEVENT
END:VCALENDAR