BEGIN:VCALENDAR
VERSION:2.0
PRODID:-//Fuzz Club - ECPv6.15.17.1//NONSGML v1.0//EN
CALSCALE:GREGORIAN
METHOD:PUBLISH
X-ORIGINAL-URL:https://www.fuzzclub.gr
X-WR-CALDESC:Events for Fuzz Club
REFRESH-INTERVAL;VALUE=DURATION:PT1H
X-Robots-Tag:noindex
X-PUBLISHED-TTL:PT1H
BEGIN:VTIMEZONE
TZID:Europe/Athens
BEGIN:DAYLIGHT
TZOFFSETFROM:+0200
TZOFFSETTO:+0300
TZNAME:EEST
DTSTART:20240331T010000
END:DAYLIGHT
BEGIN:STANDARD
TZOFFSETFROM:+0300
TZOFFSETTO:+0200
TZNAME:EET
DTSTART:20241027T010000
END:STANDARD
BEGIN:DAYLIGHT
TZOFFSETFROM:+0200
TZOFFSETTO:+0300
TZNAME:EEST
DTSTART:20250330T010000
END:DAYLIGHT
BEGIN:STANDARD
TZOFFSETFROM:+0300
TZOFFSETTO:+0200
TZNAME:EET
DTSTART:20251026T010000
END:STANDARD
BEGIN:DAYLIGHT
TZOFFSETFROM:+0200
TZOFFSETTO:+0300
TZNAME:EEST
DTSTART:20260329T010000
END:DAYLIGHT
BEGIN:STANDARD
TZOFFSETFROM:+0300
TZOFFSETTO:+0200
TZNAME:EET
DTSTART:20261025T010000
END:STANDARD
END:VTIMEZONE
BEGIN:VEVENT
DTSTART;TZID=Europe/Athens:20251212T200000
DTEND;TZID=Europe/Athens:20251212T233000
DTSTAMP:20260420T171319
CREATED:20250911T091250Z
LAST-MODIFIED:20251104T131901Z
UID:8543-1765569600-1765582200@www.fuzzclub.gr
SUMMARY:ROBBEN FORD
DESCRIPTION:Την Παρασκευή 12 Δεκεμβρίου\, ο θρυλικός κιθαρίστας Robben Ford επιστρέφει στη σκηνή του Fuzz Club για μία μοναδική blues συναυλία. Μαζί του ο Keith Carlock στα drums και ο Jonny Henderson στο hammond. \n \nΈχοντας παίξει στο πλευρό μουσικών θρύλων\, ο Robben Ford εξακολουθεί να επιβεβαιώνει το περιοδικό Musician που τον κατέταξε στους 100 πιο σπουδαίους κιθαρίστες του 20ου αιώνα. Πριν ακόμα γιορτάσει τα 23α του γενέθλια\, είχε ήδη συνεργαστεί με την Joni Mitchell και τον George Harrison\, ενώ ακολούθησαν ονόματα όπως Miles Davis\, Bob Dylan\, Jimmy Witherspoon\, Larry Carlton\, John Mayall\, Greg Allman\, John Scofield\, ενώ τη δεκαετία του ’80 έπαιξε και ηχογράφησε με τους KISS. \nΔιοργάνωση: Main Event Productions \nTICKETS\nhttps://www.more.com/gr-el/tickets/music/robben-ford-live-fuzz-club-12/12/2025/
URL:https://www.fuzzclub.gr/event/robben-ford-2/
LOCATION:Fuzz Club\, PIREOS 209 KAI PATRIARXOU IOAKIM 1\, Athens\, Greece
CATEGORIES:Concerts
ATTACH;FMTTYPE=image/jpeg:https://www.fuzzclub.gr/wp-content/uploads/2025/09/FORDο.jpg
END:VEVENT
END:VCALENDAR