BEGIN:VCALENDAR
VERSION:2.0
PRODID:-//Fuzz Club - ECPv6.15.17.1//NONSGML v1.0//EN
CALSCALE:GREGORIAN
METHOD:PUBLISH
X-WR-CALNAME:Fuzz Club
X-ORIGINAL-URL:https://www.fuzzclub.gr
X-WR-CALDESC:Events for Fuzz Club
REFRESH-INTERVAL;VALUE=DURATION:PT1H
X-Robots-Tag:noindex
X-PUBLISHED-TTL:PT1H
BEGIN:VTIMEZONE
TZID:Europe/Athens
BEGIN:DAYLIGHT
TZOFFSETFROM:+0200
TZOFFSETTO:+0300
TZNAME:EEST
DTSTART:20240331T010000
END:DAYLIGHT
BEGIN:STANDARD
TZOFFSETFROM:+0300
TZOFFSETTO:+0200
TZNAME:EET
DTSTART:20241027T010000
END:STANDARD
BEGIN:DAYLIGHT
TZOFFSETFROM:+0200
TZOFFSETTO:+0300
TZNAME:EEST
DTSTART:20250330T010000
END:DAYLIGHT
BEGIN:STANDARD
TZOFFSETFROM:+0300
TZOFFSETTO:+0200
TZNAME:EET
DTSTART:20251026T010000
END:STANDARD
BEGIN:DAYLIGHT
TZOFFSETFROM:+0200
TZOFFSETTO:+0300
TZNAME:EEST
DTSTART:20260329T010000
END:DAYLIGHT
BEGIN:STANDARD
TZOFFSETFROM:+0300
TZOFFSETTO:+0200
TZNAME:EET
DTSTART:20261025T010000
END:STANDARD
END:VTIMEZONE
BEGIN:VEVENT
DTSTART;TZID=Europe/Athens:20251205T200000
DTEND;TZID=Europe/Athens:20251205T233000
DTSTAMP:20260420T171235
CREATED:20251009T142242Z
LAST-MODIFIED:20251009T143654Z
UID:8580-1764964800-1764977400@www.fuzzclub.gr
SUMMARY:ΤΑΦ ΛΑΘΟΣ - 20 Χρόνια Χωρίς Να Ντρέπομαι Tour
DESCRIPTION:Μετά το καταπληκτικό Live στην Τεχνόπολη τον Ιούλιο και το Sold Out Live στην Ηλιούπολη τον Σεπτέμβριο\, ο ΤΑΦ ΛΑΘΟΣ με τον Dj Micro στα Decks και Very Special Guests στα μικρόφωνα\, παρουσιάζουν την Παρασκευή 5 Δεκεμβρίου ζωντανά στο Fuzz τον νέο δίσκο “Χωρίς Να Ντρέπομαι”\, γιορτάζοντας παράλληλα τα 20 Χρόνια δισκογραφίας του ΤΑΦ ΛΑΘΟΣ στην ανεξάρτητη Ελληνική μουσική σκηνή.
URL:https://www.fuzzclub.gr/event/taf-lathos-2025-fuzz/
LOCATION:Fuzz Club\, PIREOS 209 KAI PATRIARXOU IOAKIM 1\, Athens\, Greece
CATEGORIES:Concerts
ATTACH;FMTTYPE=image/jpeg:https://www.fuzzclub.gr/wp-content/uploads/2025/10/cropped-image-1.jpg
END:VEVENT
END:VCALENDAR