BEGIN:VCALENDAR
VERSION:2.0
PRODID:-//Fuzz Club - ECPv6.15.17.1//NONSGML v1.0//EN
CALSCALE:GREGORIAN
METHOD:PUBLISH
X-ORIGINAL-URL:https://www.fuzzclub.gr
X-WR-CALDESC:Events for Fuzz Club
REFRESH-INTERVAL;VALUE=DURATION:PT1H
X-Robots-Tag:noindex
X-PUBLISHED-TTL:PT1H
BEGIN:VTIMEZONE
TZID:Europe/Athens
BEGIN:DAYLIGHT
TZOFFSETFROM:+0200
TZOFFSETTO:+0300
TZNAME:EEST
DTSTART:20240331T010000
END:DAYLIGHT
BEGIN:STANDARD
TZOFFSETFROM:+0300
TZOFFSETTO:+0200
TZNAME:EET
DTSTART:20241027T010000
END:STANDARD
BEGIN:DAYLIGHT
TZOFFSETFROM:+0200
TZOFFSETTO:+0300
TZNAME:EEST
DTSTART:20250330T010000
END:DAYLIGHT
BEGIN:STANDARD
TZOFFSETFROM:+0300
TZOFFSETTO:+0200
TZNAME:EET
DTSTART:20251026T010000
END:STANDARD
BEGIN:DAYLIGHT
TZOFFSETFROM:+0200
TZOFFSETTO:+0300
TZNAME:EEST
DTSTART:20260329T010000
END:DAYLIGHT
BEGIN:STANDARD
TZOFFSETFROM:+0300
TZOFFSETTO:+0200
TZNAME:EET
DTSTART:20261025T010000
END:STANDARD
END:VTIMEZONE
BEGIN:VEVENT
DTSTART;TZID=Europe/Athens:20250924T200000
DTEND;TZID=Europe/Athens:20250924T200000
DTSTAMP:20260420T074128
CREATED:20250825T095749Z
LAST-MODIFIED:20250825T095749Z
UID:8536-1758744000-1758744000@www.fuzzclub.gr
SUMMARY:Suicidal Angels/Obscura/Sadist - Athens
DESCRIPTION:H GRF Promotion και η K2 Agency παρουσιάζουν: \n24 Σεπτεμβρίου 2025 – Fuzz Club – Αθήνα \nEarly Birds: 22 ευρώ (Από 23/05 έως 10/06 – Hard Copy μόνο από Monsterville + Nephilim Store) \nΠροπώληση: 25 ευρώ\nΤαμείο: 28 ευρώ \nΜε τον αέρα του νικητή και ένα καταιγιστικό άλμπουμ στις αποσκευές τους\, όπως το Profane Prayer\, οι Suicidal Angels συνεχίζουν τις ζωντανές περιοδείες για την προώθησή του σε όλα τα μήκη και τα πλάτη της γης. Προς τούτο και στο πλαίσιο μιας παντοδύναμης ένωσης με τους Obscura και τους Sadist\, που θα περιοδεύσει σε όλη την Ευρώπη\, επανέρχονται στην Ελλάδα για δύο show\, ένα στην Θεσσαλονίκη και ένα\, το πρώτο μετά από 5 ολόκληρα χρόνια στην έδρα τους\, την Αθήνα!\nΤρίτη 23 και Τετάρτη 24 Σεπτεμβρίου\, το καταιγιστικό τρίο των Suicidal Angels\, Obscura και Sadist\, αναμένεται να ισοπεδώσει τα Block 33 στη Θεσσαλονίκη και Fuzz Club στην Αθήνα αντίστοιχα. \nΤρεις metal δυναμίτες με τρεις ολοκαίνουργιες δισκάρες στις αποσκευές τους\, αναμένεται να μας δείξουν πως πραγματικά γίνεται εκεί έξω…!!! \nΜε το “A Sonication”\, το γερμανικό metal συγκρότημα OBSCURA εγκαινιάζει το δεύτερο μέρος της τριλογίας του. Το δεύτερο (έβδομο συνολικά) άλμπουμ του συγκροτήματος για τη Nuclear Blast αλλάζει σε πολλά επίπεδα. Προηγμένο\, κομψό και ταυτόχρονα αναζωογονητικό\, το “A Sonication” συνοψίζει αβίαστα τις προηγούμενες προσπάθειες καθώς ατενίζει με σκοπό και πεποίθηση το μέλλον. \nΟι OBSCURA είναι γνωστοί και αναγνωρισμένοι από τους θαυμαστές και τους κριτικούς για την αμφισβήτηση και στη συνέχεια την επέκταση των κανόνων. Από το “Retribution” (2004) μέχρι το “A Valediction” (2021)\, το συγκρότημα άνθισε και σημείωσε σημαντική πρόοδο σε ένα μουσικό είδος απροετοίμαστο για μια δημιουργική δόση γερμανικής εφευρετικότητας. Το “A Sonication” οδηγεί τους OBSCURA σε μια νέα εποχή του extreme metal. \nΟι Sadist είναι ένα από τα πιο αναγνωρισμένα ιταλικά metal συγκροτήματα παγκοσμίως και κορυφαίος εκπρόσωπος του progressive death metal. Δημιουργημένο στη Γένοβα στις αρχές της δεκαετίας του ’90\, αυτό το συγκρότημα έχει κυριολεκτικά παίξει στα μεγαλύτερα και πιο διάσημα metal φεστιβάλ (Wacken\, Hellfest\, Gods of Metal\, Brutal Assault\, ProgPowerEurope\, Metal Camp\, κ.λπ.) υποστηρίζοντας μερικά από τα μεγαλύτερα συγκροτήματα όλων των εποχών: Iron Maiden\, Motörhead\, Ozzy Osbourne\, Korn\, Pantera\, Megadeth\, Slayer και άλλα απίστευτα διεθνή συγκροτήματα. \nΤο δέκατο στούντιο άλμπουμ του συγκροτήματος με τίτλο “Something To Pierce”\, το οποίο κυκλοφόρησε από την Agonia Records\, απολαμβάνει ήδη διθυραμβικές κριτικές\, με τους καλά μυημένους οπαδούς να κάνουν λόγο για ένα από τα σπουδαιότερα άλμπουμ στην ιστορία του ιδιώματος.
URL:https://www.fuzzclub.gr/event/suicidal-angels-obscura-sadist-athens/
CATEGORIES:Concerts
ATTACH;FMTTYPE=image/jpeg:https://www.fuzzclub.gr/wp-content/uploads/2025/08/cropped-image-1-2.jpg
END:VEVENT
END:VCALENDAR