BEGIN:VCALENDAR
VERSION:2.0
PRODID:-//Fuzz Club - ECPv6.15.17.1//NONSGML v1.0//EN
CALSCALE:GREGORIAN
METHOD:PUBLISH
X-ORIGINAL-URL:https://www.fuzzclub.gr
X-WR-CALDESC:Events for Fuzz Club
REFRESH-INTERVAL;VALUE=DURATION:PT1H
X-Robots-Tag:noindex
X-PUBLISHED-TTL:PT1H
BEGIN:VTIMEZONE
TZID:Europe/Athens
BEGIN:DAYLIGHT
TZOFFSETFROM:+0200
TZOFFSETTO:+0300
TZNAME:EEST
DTSTART:20240331T010000
END:DAYLIGHT
BEGIN:STANDARD
TZOFFSETFROM:+0300
TZOFFSETTO:+0200
TZNAME:EET
DTSTART:20241027T010000
END:STANDARD
BEGIN:DAYLIGHT
TZOFFSETFROM:+0200
TZOFFSETTO:+0300
TZNAME:EEST
DTSTART:20250330T010000
END:DAYLIGHT
BEGIN:STANDARD
TZOFFSETFROM:+0300
TZOFFSETTO:+0200
TZNAME:EET
DTSTART:20251026T010000
END:STANDARD
BEGIN:DAYLIGHT
TZOFFSETFROM:+0200
TZOFFSETTO:+0300
TZNAME:EEST
DTSTART:20260329T010000
END:DAYLIGHT
BEGIN:STANDARD
TZOFFSETFROM:+0300
TZOFFSETTO:+0200
TZNAME:EET
DTSTART:20261025T010000
END:STANDARD
END:VTIMEZONE
BEGIN:VEVENT
DTSTART;TZID=Europe/Athens:20250408T200000
DTEND;TZID=Europe/Athens:20250408T233000
DTSTAMP:20260420T020509
CREATED:20240730T181000Z
LAST-MODIFIED:20250407T114309Z
UID:8227-1744142400-1744155000@www.fuzzclub.gr
SUMMARY:Dirkschneider live!
DESCRIPTION:Made of Stone productions proudly present: \nDirkschneider live!\nBalls To The Wall 40th Anniversary Tour\n8TH APRIL 2025 FUZZ CLUB ATHENS \n\nΤο DIRKSCHNEIDER είναι ένα όνομα που σημαίνει πολλά περισσότερα από απλά μια δεύτερη ενσάρκωση των U.D.O.\, συγκροτήματος του αειθαλούς Udo Dirkschneider. Σε αυτή τη μορφή του\, του κουιντέτο αποτίει φόρο τιμής στην μουσική ιστορία του θρυλικού τραγουδιστή του. \nΩς τραγουδοποιός και ιδρυτής στα 70’s\, ο Udo αποτέλεσε έναν από τους βασικούς χαρακτήρες του success story των Accept. Ο μπασίστας Peter Baltes\, νεότερο μέλος της οικογένειας U.D.O. / DIRKSCHNEIDER\, επίσης συνεισέφερε τα μέγιστα στις πιο επιδραστικές και game-changing δουλειές των ACCEPT\, με περίλαμπρο παράδειγμα το “Balls To The Wall” full album\, στο οποίο και συνυπήρξαν με τον Udo. \nΕκτός από album των Accept\, ο τίτλος “Balls To The Wall” αποτελεί και έναν πολύ ταιριαστό χαρακτηρισμό για την σκηνική παρουσία του συγκροτήματος\, που ολοκληρώνεται με το χειρουργικό drumwork του Sven Dirkschneider\, και το ταλαντούχο guitar duo των Andrey Smirnov και Fabian “Dee” Dammers. Η 40η επέτειος του προαναφερθέντος album\, που κυκλοφόρησε το 1983\, αποτελώντας την highest selling\, αλλά και διασημότερη κυκλοφορία των Γερμανών δεν θα μπορούσε να περάσει ανεκμετάλλευτη! \nΓι’ αυτόν ακριβώς τον λόγο οι DIRKSCHNEIDER είναι στην ευτυχή θέση να ανακοινώσουν μία ολόκληρη περιοδεία για τον εορτασμό της κυκλοφορίας αυτού του εμβληματικού album\, την Άνοιξη του 2025. \nΔεν είναι τυχαίο πως ακόμη κι ο ίδιος ο Udo ανυπομονεί για αυτές τις ιστορικές συναυλίες: “Ανυπομονώ να τραγουδήσω το απόλυτο success album των Accept. \nΕν τω μεταξύ η -καθόλου συμπτωματική- συμμετοχή του Peter Baltes σε αυτές τις εμφανίσεις\, κάνει αυτή τη συγκυρία μία από τις κορυφαίες στιγμές της μέχρι στιγμής καριέρας μου!” \nΠέραν των 45 λεπτών του “Balls To The Wall” -λες και δεν ήταν ήδη αρκετό να ακούσουμε ζωντανά τα “London Leatherboys”\, “Love Child” η την υπέρτατη μπαλάντα “Winterdreams” με την original φωνή των Accept- οι Dirkschneider έχουν φροντίσει να προσθέσουν ακόμη περισσότερες μουσικές εκπλήξεις στο setlist και μάλιστα να εμπλουτίσουν όλα αυτά με ένα πολύ φρέσκο stage production\, διαφορετικό από ό\,τι έχουμε δει μέχρι τώρα από αυτούς. \nΌλα είναι έτοιμα για τον εορτασμό της 40ής επετείου αυτού του αδιαμφισβήτητου μεταλλικού ογκόλιθου των ACCEPT και ο προορισμός είναι μόνο ένας: Δύο αξέχαστες εορταστικές βραδιές για κάθε metalhead εκεί έξω! \n\nΟι πόρτες ανοίγουν στις 20:00 | Ώρα έναρξης στις 21:30\n\nΤΙΜΕΣ ΕΙΣΙΤΗΡΙΩΝ:\n— Περιορισμένη προπώληση : 30€\n— Προπώληση : 32€\n— Ταμείο : 35€ \nΣΗΜΕΙΑ ΠΡΟΠΩΛΗΣΗΣ:\n— more.gr (πανελλαδικά)\n— Καταστήματα Public (πανελλαδικά)\n— Καταστήματα Nova (πανελλαδικά)\n— The Nephilim Store (Θεσσαλονίκη) \n— Metal Era (Αθήνα)
URL:https://www.fuzzclub.gr/event/dirkschneider/
LOCATION:Fuzz Club\, PIREOS 209 KAI PATRIARXOU IOAKIM 1\, Athens\, Greece
CATEGORIES:Concerts
ATTACH;FMTTYPE=image/jpeg:https://www.fuzzclub.gr/wp-content/uploads/2024/07/UDO.jpg
ORGANIZER;CN="Made of Stone":MAILTO:christos@madeofstone.gr
END:VEVENT
END:VCALENDAR