BEGIN:VCALENDAR
VERSION:2.0
PRODID:-//Fuzz Club - ECPv6.15.17.1//NONSGML v1.0//EN
CALSCALE:GREGORIAN
METHOD:PUBLISH
X-WR-CALNAME:Fuzz Club
X-ORIGINAL-URL:https://www.fuzzclub.gr
X-WR-CALDESC:Events for Fuzz Club
REFRESH-INTERVAL;VALUE=DURATION:PT1H
X-Robots-Tag:noindex
X-PUBLISHED-TTL:PT1H
BEGIN:VTIMEZONE
TZID:Europe/Athens
BEGIN:DAYLIGHT
TZOFFSETFROM:+0200
TZOFFSETTO:+0300
TZNAME:EEST
DTSTART:20240331T010000
END:DAYLIGHT
BEGIN:STANDARD
TZOFFSETFROM:+0300
TZOFFSETTO:+0200
TZNAME:EET
DTSTART:20241027T010000
END:STANDARD
BEGIN:DAYLIGHT
TZOFFSETFROM:+0200
TZOFFSETTO:+0300
TZNAME:EEST
DTSTART:20250330T010000
END:DAYLIGHT
BEGIN:STANDARD
TZOFFSETFROM:+0300
TZOFFSETTO:+0200
TZNAME:EET
DTSTART:20251026T010000
END:STANDARD
BEGIN:DAYLIGHT
TZOFFSETFROM:+0200
TZOFFSETTO:+0300
TZNAME:EEST
DTSTART:20260329T010000
END:DAYLIGHT
BEGIN:STANDARD
TZOFFSETFROM:+0300
TZOFFSETTO:+0200
TZNAME:EET
DTSTART:20261025T010000
END:STANDARD
END:VTIMEZONE
BEGIN:VEVENT
DTSTART;TZID=Europe/Athens:20250405T223000
DTEND;TZID=Europe/Athens:20250405T233000
DTSTAMP:20260419T223347
CREATED:20250326T093033Z
LAST-MODIFIED:20250402T141934Z
UID:8450-1743892200-1743895800@www.fuzzclub.gr
SUMMARY:Trashformers - Διπλή Ταρίφα! // April
DESCRIPTION:Αθήνα… Σάββατο βράδυ…. \nΕπιλογές   Α – ΠΕΙ – ΡΕΣ … ! \nΚαι που να πρωτοπάει κανείς… \nΠου είναι άραγε το μέρος που θα γίνει… “η φάση” ; \nΣήμερα είναι η τυχερή μας μας μέρα.. (ή μάλλον.. νύχτα) \nΘα πάμε ΠΑΝΤΟΥ ! \nΟι Trashformers μας προσκαλούν σε μια νυχτερινή βόλτα στην Πόλη… \nΤην πόλη του Φωτός! Την αιώνια πόλη… Την πόλη που δεν κοιμάται ποτέ! Την Αθήνα… \nΣτο φετινό show θα τη γυρίσουμε ολόκληρη\, με ένα taxi\, από άκρη σε άκρη! Πολλές διαφορετικές γειτονιές της Αθήνας\, κάθε μία με τον χαρακτηριστικό της ήχο! \nΟ τελικός προορισμός βέβαια είναι ένας… και μοναδικός! \n… αυτός που μας εκφράζει πραγματικά! \n(Πολλές τελίτσες έχω βάλει…) \nΕίναι εκεί που το παρελθόν συναντάει το παρόν\, και το παρόν το μέλλον\, οι έννοιες γίνονται ένα… και τα αγαπημένα μας τραγούδια από 80s\, 90s\, 00s (και βάλε) μπλέκουν σε ένα χορευτικό ασταμάτητο megamix. Φυσικά με την αξεπέραστη μυστική συνταγή των TFs! \nΑπό τη δημιουργία των Trash Parties το μακρινό 2004\, μέχρι το νο1 διαγαλαξιακό party του σήμερα\, μια ιδέα δρόμος! \nΣάββατο 5/4/25\, στο πιο εκρηκτικό Dancefloor της πόλης! \nΤο show είναι ολόφρεσκο\, αλλά τα απαραίτητα συστατικά για το οπτικοακουστικό υπερθέαμα των Trashformers είναι γνωστά! \nᗘ Pre party… DJ set. Έτσι\, για να μπούμε σε mood! \nᗘ  Ultra απολαυστικό show! \nᗘ  VJ sets που καίνε τον αμσφιβηλστροειδή (στου χαντάκι) \nᗘ Secret guest γιατί πάντα περνάμε καλά με τους φίλους μας! \nᗘ  Δόσεις τρέλας! (παντού και πάντα <3 ) \nᗘ  Δόσεις νοσταλγίας απευθείας από το υποσυνείδητο. \nᗘ After party σκληρό… για όσους αντέχουν! \n  \n****************************** \nTrashformers – Διπλή Ταρίφα! \nSat. 5/4/25 // April \nFuzz Live Music Club \nΠειραιώς 209 & Πατρ. Ιωακείμ 1\, Ταύρος \ndoors open at 22:22 / show starts at 23:45 \nticket presale 8 / on spot 10 \ninfo/reservations 2103450817 \nonline ticketing at more.com \n****************************** \n 
URL:https://www.fuzzclub.gr/event/trashformers-april/
LOCATION:Fuzz Club\, PIREOS 209 KAI PATRIARXOU IOAKIM 1\, Athens\, Greece
CATEGORIES:Concerts
ATTACH;FMTTYPE=image/jpeg:https://www.fuzzclub.gr/wp-content/uploads/2025/03/cropped-image-2.jpg
END:VEVENT
END:VCALENDAR