BEGIN:VCALENDAR
VERSION:2.0
PRODID:-//Fuzz Club - ECPv6.15.17.1//NONSGML v1.0//EN
CALSCALE:GREGORIAN
METHOD:PUBLISH
X-WR-CALNAME:Fuzz Club
X-ORIGINAL-URL:https://www.fuzzclub.gr
X-WR-CALDESC:Events for Fuzz Club
REFRESH-INTERVAL;VALUE=DURATION:PT1H
X-Robots-Tag:noindex
X-PUBLISHED-TTL:PT1H
BEGIN:VTIMEZONE
TZID:Europe/Athens
BEGIN:DAYLIGHT
TZOFFSETFROM:+0200
TZOFFSETTO:+0300
TZNAME:EEST
DTSTART:20240331T010000
END:DAYLIGHT
BEGIN:STANDARD
TZOFFSETFROM:+0300
TZOFFSETTO:+0200
TZNAME:EET
DTSTART:20241027T010000
END:STANDARD
BEGIN:DAYLIGHT
TZOFFSETFROM:+0200
TZOFFSETTO:+0300
TZNAME:EEST
DTSTART:20250330T010000
END:DAYLIGHT
BEGIN:STANDARD
TZOFFSETFROM:+0300
TZOFFSETTO:+0200
TZNAME:EET
DTSTART:20251026T010000
END:STANDARD
BEGIN:DAYLIGHT
TZOFFSETFROM:+0200
TZOFFSETTO:+0300
TZNAME:EEST
DTSTART:20260329T010000
END:DAYLIGHT
BEGIN:STANDARD
TZOFFSETFROM:+0300
TZOFFSETTO:+0200
TZNAME:EET
DTSTART:20261025T010000
END:STANDARD
END:VTIMEZONE
BEGIN:VEVENT
DTSTART;TZID=Europe/Athens:20250221T203000
DTEND;TZID=Europe/Athens:20250221T233000
DTSTAMP:20260419T203910
CREATED:20241219T111740Z
LAST-MODIFIED:20250221T141156Z
UID:8381-1740169800-1740180600@www.fuzzclub.gr
SUMMARY:ΤΑΦ ΛΑΘΟΣ
DESCRIPTION:ΤΑΦ ΛΑΘΟΣ LIVE\nBirthday Bash with Bashment Family\nΠαρασκευή 21.02.2025 || Πόρτες : 20.30\nFuzz Live Music Club – Π. Ιωακείμ 1\, Ταύρος \n  \nΤο 2024\, ο ΤΑΦ ΛΑΘΟΣ γιόρτασε τα γενέθλιά του με όλους εμάς σε ένα μοναδικό\, αξέχαστο Live. \nΤην Παρασκευή 21 Φεβρουαρίου 2025 επιστρέφει στη σκηνή του Fuzz για να το επαναλάβει\, με ένα Setlist που θα περιλαμβάνει όλα τα Highlights της 20ετούς μουσικής του πορείας\, αλλά και με νέο\, ακυκλοφόρητο υλικό\, που πρόκειται να ακούσουμε αργότερα μέσα στο 2025. \nΜαζί του στα Decks o μουσικός συνοδοιπόρος του Dj Micro\, ενώ θα μοιραστεί τη σκηνή και τα μικρόφωνα του Fuzz με μέλη της Bashment οικογένειάς του\, προσφέροντας απλόχερα ποιοτικό\, σκεπτόμενο Rap όπως ο Ταφ και η Bashment Records ξέρουν. \nΠεριορισμένη Προπώληση : 10ε\nΥπόλοιπη Προπώληση & Ταμείο : 12ε \nΠαραγωγή – Επικοινωνία : Innersense Productions – Bashment Records
URL:https://www.fuzzclub.gr/event/taf-lathos-2025/
LOCATION:Fuzz Club\, PIREOS 209 KAI PATRIARXOU IOAKIM 1\, Athens\, Greece
CATEGORIES:Concerts
ATTACH;FMTTYPE=image/jpeg:https://www.fuzzclub.gr/wp-content/uploads/2024/12/file.jpg
END:VEVENT
END:VCALENDAR