BEGIN:VCALENDAR
VERSION:2.0
PRODID:-//Fuzz Club - ECPv6.15.17.1//NONSGML v1.0//EN
CALSCALE:GREGORIAN
METHOD:PUBLISH
X-WR-CALNAME:Fuzz Club
X-ORIGINAL-URL:https://www.fuzzclub.gr
X-WR-CALDESC:Events for Fuzz Club
REFRESH-INTERVAL;VALUE=DURATION:PT1H
X-Robots-Tag:noindex
X-PUBLISHED-TTL:PT1H
BEGIN:VTIMEZONE
TZID:Europe/Athens
BEGIN:DAYLIGHT
TZOFFSETFROM:+0200
TZOFFSETTO:+0300
TZNAME:EEST
DTSTART:20230326T010000
END:DAYLIGHT
BEGIN:STANDARD
TZOFFSETFROM:+0300
TZOFFSETTO:+0200
TZNAME:EET
DTSTART:20231029T010000
END:STANDARD
BEGIN:DAYLIGHT
TZOFFSETFROM:+0200
TZOFFSETTO:+0300
TZNAME:EEST
DTSTART:20240331T010000
END:DAYLIGHT
BEGIN:STANDARD
TZOFFSETFROM:+0300
TZOFFSETTO:+0200
TZNAME:EET
DTSTART:20241027T010000
END:STANDARD
BEGIN:DAYLIGHT
TZOFFSETFROM:+0200
TZOFFSETTO:+0300
TZNAME:EEST
DTSTART:20250330T010000
END:DAYLIGHT
BEGIN:STANDARD
TZOFFSETFROM:+0300
TZOFFSETTO:+0200
TZNAME:EET
DTSTART:20251026T010000
END:STANDARD
END:VTIMEZONE
BEGIN:VEVENT
DTSTART;TZID=Europe/Athens:20241109T200000
DTEND;TZID=Europe/Athens:20241109T233000
DTSTAMP:20260419T151134
CREATED:20240829T095814Z
LAST-MODIFIED:20241104T084717Z
UID:8234-1731182400-1731195000@www.fuzzclub.gr
SUMMARY:MOTHER OF MILLIONS
DESCRIPTION:XLALALA PRESENTS \nMOTHER OF MILLIONS \n9.11.24 FUZZ CLUB\, ATHENS \n16.11.24 WE\, THESSALONIKI \nΟι Mother of Millions\, η απόλυτη post-progressive metal μπάντα σε δύο εκρηκτικά shows σε Αθήνα και Θεσσαλονίκη\, για να ξεκινήσει σωστά ο συναυλιακός χειμώνας. Πρωτοστάτησαν στην άνοιξη της progressive metal ελληνικής σκηνής\, με τις κυκλοφορίες τους να αποτελούν αναπόσπαστο κομμάτι των καλύτερων δίσκων που έφτασαν στα πικάπ και τα ηχεία των fans του είδους τόσο στην Ελλάδα όσο και στην Ευρώπη. \nTo ντεμπούτο τους\, Human\, κυκλοφόρησε το 2014\, το 2017 ακολούθησε το Sigma\, πριν το Αrtifacts βρει τη θέση του στην κορυφή της λίστας των πιο εμπνευσμένων albums του 2019. \nΠαράλληλα οι Mother of Millions γύρισαν πολλές από τις σκηνές της Ελλάδας και της Ευρώπης\, ενώ έχουν μοιραστεί τη σκηνή με καλλιτέχνες που ορίζουν το σημερινό prog metal ιδίωμα\, όπως οι Leprous\, οι Pain of Salvation και οι Devin Townsend Project. \nΗ κυκλοφορία του EP Orbit το 2022\, σηματοδοτεί την επανεκκίνηση του συγκροτήματος\, μετά την απώλεια του keyboardιστα και αδερφικού φίλου Μάκη Τσαμκόσογλου το 2019. \nΤο πολυαναμενόμενο 4ο άλμπουμ των Mother of Millions με τίτλο “Magna Mater” θα κυκλοφορήσει στις 4 Οκτωβρίου 2024 από τη Σουηδική δισκογραφική ViciSolum. \nΟι Mother of Millions είναι οι: \nΓιώργος Προκοπίου – Φωνή \nΚώστας Κωνσταντινίδης – Κιθάρα \nΠάνος Πρίφτης – Μπάσο \nΓιώργος Μπουκαούρης – Κρουστά\, Πλήκτρα \nMother of Millions\, the ultimate post-progressive metal band come to Athens and Thessaloniki for two explosive shows to start the winter properly. They pioneered the flourishing of the Greek progressive metal scene\, with their releases becoming some of the most revered records among fans of the genre in Greece and across Europe. Having performed in numerous venues and festivals across Europe\, Mother of Millions has shared the stage with prominent prog metal artists such as Leprous\, Pain of Salvation\, Riverside\, Textures and Devin Townsend Project. Their emotionally-charged concerts never fail to captivate the audience. \nTheir debut “Human” was released in 2014\, followed by “Sigma” in 2017. Their third album “Artifacts” found its place at the top of the lists of the most inspiring albums of 2019. \nThe release of the EP Orbit in 2022 marks the band’s reboot\, following the tragic loss of their keyboardist and close friend\, Makis Tsamkosoglou during a show in 2019. \nThe band’s long-awaited 4th full-length album entitled “Magna Mater”\, will be released on October 4\, 2024 by Swedish label ViciSolum. \n\nMother of Millions are: \nGeorge Prokopiou – Vocals \nKostas Konstantinidis – Guitar \nPanos Priftis – Bass \nGeorge Boukaouris – Percussion\, Keys \nFollow Mother of Millions:\nWebsite | Spotify | YouTube | Facebook | Instagram \nΠληροφορίες Εισιτηρίων \nΗ προπώληση εισιτηρίων μόλις ξεκίνησε! \nΣημεία Προπώλησης\n\nΗλεκτρονικά: more.com \nAΘΗΝΑ | ΘΕΣΣΑΛΟΝΙΚΗ \nΤηλεφωνικά: 11876\nΣε όλα τα more Spots \nΔίκτυο Public\nPublic online: http://tickets.public.gr/ \nKαταστήματα Public\nhttps://www.public.gr/templates/publicStorelocator.jsp  \nMetal Era\nΕμμανουήλ Μπενάκη 22\, Αθήνα\nΤηλέφωνο: 210 3304133 \nMonsterville\nΑγίας Ειρήνης 13\, Αθήνα\nΤηλέφωνο: 210 3648180 \nMusic Corner\nΠανεπιστημίου 56\, Αθήνα\nΤηλέφωνο: 210 3304000 \nThe Nephilim Metal Music Store \nΠατριάρχου Ιωακείμ 1\, Θεσσαλονίκη \nAlone Music Store \nΓ. Θεοχάρη 2\, Θεσσαλονίκη\,  \nΤηλ: 2310266772 \nCafé Bar Διώροφον \nΚερασούντος 81\, Καλαμαριά \nΤηλ: 2310453998 \nΓια περισσότερες πληροφορίες\, φωτογραφικό υλικό σε υψηλή ανάλυση και πλήρη δημοσιογραφική κάλυψη απευθυνθείτε στο press@xlalala.gr
URL:https://www.fuzzclub.gr/event/mother-of-millions/
LOCATION:Fuzz Club\, PIREOS 209 KAI PATRIARXOU IOAKIM 1\, Athens\, Greece
CATEGORIES:Concerts
ATTACH;FMTTYPE=image/jpeg:https://www.fuzzclub.gr/wp-content/uploads/2024/08/DIGITAL-ATH-KHIRKI-816X465-copy.jpg
END:VEVENT
END:VCALENDAR