BEGIN:VCALENDAR
VERSION:2.0
PRODID:-//Fuzz Club - ECPv6.15.17.1//NONSGML v1.0//EN
CALSCALE:GREGORIAN
METHOD:PUBLISH
X-ORIGINAL-URL:https://www.fuzzclub.gr
X-WR-CALDESC:Events for Fuzz Club
REFRESH-INTERVAL;VALUE=DURATION:PT1H
X-Robots-Tag:noindex
X-PUBLISHED-TTL:PT1H
BEGIN:VTIMEZONE
TZID:UTC
BEGIN:STANDARD
TZOFFSETFROM:+0000
TZOFFSETTO:+0000
TZNAME:UTC
DTSTART:20210101T000000
END:STANDARD
END:VTIMEZONE
BEGIN:VEVENT
DTSTART;TZID=UTC:20220506T200000
DTEND;TZID=UTC:20220506T200000
DTSTAMP:20260420T020758
CREATED:20220401T140059Z
LAST-MODIFIED:20220504T103539Z
UID:7277-1651867200-1651867200@www.fuzzclub.gr
SUMMARY:Playgrounded / We·own·the·sky
DESCRIPTION:Οι Playgrounded επιστρέφουν στην Αθήνα για την παρουσίαση του νέου album “The death of Death” που έχει μόλις κυκλοφορήσει μέσω της Γερμανικής Pelagic Records. Το νέο δισκογραφικό δημιούργημα του κουιντέτο έχει προκαλέσει έντονο θόρυβο στην μουσική κοινότητα\, κερδίζοντας διθυραμβικές κριτικές από τον παγκόσμιο μουσικό τύπο και ενθουσιώδεις αντιδράσεις από το κοινό. Με ιδιαίτερο χαρακτήρα\, που ακροβατεί περίτεχνα ανάμεσα στο prog/post και τον ηλεκτρονικό ήχο και βαθιά σκεπτόμενη θεματολογία\, που έχει σε πρώτο πλάνο την πάλη και την ενότητα των αντιθέτων\, το “The death of Death” σκιαγραφεί μουσικά και στιχουργικά αντικρουόμενες πτυχές του κόσμου που μας περιβάλλει αναζητώντας τη μεταξύ τους σχέση. \n\nLISTEN  https://listen.pelagic-records.com/playgrounded\nΑκολουθήστε τους Playgrounded:\nW: https://playgrounded.net\nIG: https://www.instagram.com/playgroundedofficial\nFB: https://www.facebook.com/playgrounded\nYT: https://www.youtube.com/user/playgroundedtv\nTT: https://twitter.com/playgrounded\n\n\n\nΣτο σημαντικό first post- pandemic show θα μοιραστούν τη σκηνή με τους we.own.the.sky. Οι ατμοσφαιρικοί post rockers επιστρέφουν στις συναυλιακές εμφανίσεις και φέρνουν ξανά στο προσκήνιο το δεύτερο full length album τους\, “Home” του 2019 (τρίτο\, αν προσμετρήσεις το ντεμπούτο “Glass- Nails” EP). Οι we.own.the.sky\, ισορροπώντας ανάμεσα στις κλασσικές φόρμες του post ήχου και progressive μελωδικά στοιχεία\, έχουν καταφέρει να δημιουργήσουν έναν πιστό πυρήνα ακροατών και αυτή τους η επιστροφή αναμένεται να προλογίσει με τον ιδανικότερο τρόπο την κυκλοφορία του επερχόμενου νέου album τους. Στη σκηνή του FUZZ θα «περάσουν» από όλα τα σημεία-σταθμούς της δισκογραφίας τους\, κλείνοντας παράλληλα τον κύκλο του “Home”. \n\nΑκολουθήστε τους we.own.the.sky:\nW: https://weownthesky.bandcamp.com\nIG: https://www.instagram.com/weowntheskygr\nFB: https://www.facebook.com/weowntheskygr\nYT: https://www.youtube.com/user/weowntheskygr\nTT: https://twitter.com/weowntheskygr\n\n\nΑπο 1η Μαιου καταργήθηκε η επίξειξη πιστοποιητικού για την είσοδό σας. \nΥποχρεωτική χρήση μάσκας κατά τον χρόνο αναμονής στην είσοδο\, προαιρετική κατά τη διάρκεια της συναυλίας.. \n 
URL:https://www.fuzzclub.gr/event/playgrounded-we%c2%b7own%c2%b7the%c2%b7sky/
LOCATION:Fuzz Club\, PIREOS 209 KAI PATRIARXOU IOAKIM 1\, Athens\, Greece
CATEGORIES:Concerts
ATTACH;FMTTYPE=image/jpeg:https://www.fuzzclub.gr/wp-content/uploads/2022/04/277563065_5717627248296438_7377293470931575628_n.jpg
END:VEVENT
END:VCALENDAR