BEGIN:VCALENDAR
VERSION:2.0
PRODID:-//Fuzz Club - ECPv6.15.17.1//NONSGML v1.0//EN
CALSCALE:GREGORIAN
METHOD:PUBLISH
X-ORIGINAL-URL:https://www.fuzzclub.gr
X-WR-CALDESC:Events for Fuzz Club
REFRESH-INTERVAL;VALUE=DURATION:PT1H
X-Robots-Tag:noindex
X-PUBLISHED-TTL:PT1H
BEGIN:VTIMEZONE
TZID:UTC
BEGIN:STANDARD
TZOFFSETFROM:+0000
TZOFFSETTO:+0000
TZNAME:UTC
DTSTART:20210101T000000
END:STANDARD
END:VTIMEZONE
BEGIN:VEVENT
DTSTART;TZID=UTC:20220505T210000
DTEND;TZID=UTC:20220505T233000
DTSTAMP:20260420T020837
CREATED:20220328T122435Z
LAST-MODIFIED:20220328T122435Z
UID:7269-1651784400-1651793400@www.fuzzclub.gr
SUMMARY:Usurum
DESCRIPTION:Πέμπτη 5 Μαΐου\,  Fuzz Live Music Club\nDoors Open: 21.00\nΜετά από τις sold out εμφανίσεις του περασμένου Οκτώβρη στην Αθήνα\, οι Usurum υποδέχονται το κοινό και τους φίλους τους για πρώτη φορά στον αγαπημένο συναυλιακό χώρο του Fuzz την Πέμπτη 5 Μαΐου.\nΜε ανανεωμένο ήχο και νέα σύνθεση\, οι Usurum μας καλούν να κατέβουμε την Πειραιώς για ένα live όπου θα παρουσιάσουν τραγούδια από τη μέχρι τώρα δισκογραφία τους\, ενώ για πρώτη φορά θα ακουστούν νέα ακυκλοφόρητα κομμάτια από την επόμενη δουλειά\nτους.\n“Σπασμένη καρδιά\, χαλασμένη κονσόλα\nστον πόνο πως μοιάζουν οι άνθρωποι σ’ όλα”\nΡαντεβού την Πέμπτη 5 Μαΐου στο FUZZ live!\nΚοσμάς Λαμπίδης: φωνή\, νέι\nΣταύρος Ρουμελιώτης: κιθάρα\, φωνητικά\nΓιώργος Σταυρίδης: κρουστά\nΝίκος Αντωνόπουλος: κιθάρα\, πλήκτρα\, φωνητικά\nΛάμπρος Παπανικολάου: κοντραμπάσο\nΦάνης Ζαχόπουλος: κιθάρα\, πλήκτρα\, μαντολίνο\nήχος: Κώστας Χαϊκάλης\nσχεδιασμός αφίσας: Παναγιώτης Ανδριανός πάνω σε πρωτότυπο σχέδιο του Κοσμά Λαμπίδη\n\nΕισιτήρια https://www.viva.gr/tickets/music/usurum-live-at-fuzz/\nΠόρτες: 21.00 \n\nΤιμή εισιτηρίου:\nEarly Birds: 10€  Pre-sale:12€  Doors: 14€: \n\nΠρωτόκολλο covid-19:\nH είσοδος επιτρέπεται μόνο με πιστοποιητικό εμβολιασμού ή πιστοποιητικό νόσησης εντός\n6μηνου. Η ταυτοποίηση θα πραγματοποιείται με ταυτότητα ή αλλο επίσημο έγγραφο.
URL:https://www.fuzzclub.gr/event/usurum/
LOCATION:Fuzz Club\, PIREOS 209 KAI PATRIARXOU IOAKIM 1\, Athens\, Greece
CATEGORIES:Concerts
ATTACH;FMTTYPE=image/jpeg:https://www.fuzzclub.gr/wp-content/uploads/2022/03/usurum.jpg
END:VEVENT
END:VCALENDAR