BEGIN:VCALENDAR
VERSION:2.0
PRODID:-//Fuzz Club - ECPv6.15.17.1//NONSGML v1.0//EN
CALSCALE:GREGORIAN
METHOD:PUBLISH
X-ORIGINAL-URL:https://www.fuzzclub.gr
X-WR-CALDESC:Events for Fuzz Club
REFRESH-INTERVAL;VALUE=DURATION:PT1H
X-Robots-Tag:noindex
X-PUBLISHED-TTL:PT1H
BEGIN:VTIMEZONE
TZID:UTC
BEGIN:STANDARD
TZOFFSETFROM:+0000
TZOFFSETTO:+0000
TZNAME:UTC
DTSTART:20210101T000000
END:STANDARD
END:VTIMEZONE
BEGIN:VEVENT
DTSTART;TZID=UTC:20220430T200000
DTEND;TZID=UTC:20220430T233000
DTSTAMP:20260420T020545
CREATED:20211021T053929Z
LAST-MODIFIED:20220427T065320Z
UID:7046-1651348800-1651361400@www.fuzzclub.gr
SUMMARY:Shame (αναβάλλεται)
DESCRIPTION:ΑΝΑΒΑΛΛΕΤΑΙ Η ΣΥΝΑΥΛΙΑ ΤΩΝ SHAME ΣΤΟ FUZZ LIVE MUSIC CLUB \nΗ προγραμματισμένη για  30 Απριλίου\, συναυλία των Shame στο Fuzz Live Music Club αναβάλλεται. Λόγω της επιμήκυνσης της περιοδείας τους μαζί με τους Foals στη Βρετανία\, δεν κατέστη δυνατό για το αγγλικό συγκρότημα να κάνει τώρα το ταξίδι στη χώρα μας. Σύντομα\, θα έχουμε τη νέα ημερομηνία για το show τους στην Αθήνα. \nΤα υφιστάμενα εισιτήρια δεν ισχύουν\, πλέον. Οι κάτοχοί τους θα δουν το αντίτιμο να πιστώνεται αυτόματα στους λογαριασμούς τους\, άμεσα. \nΖητούμε συγγνώμη για την όποια ταλαιπωρία. Η συναυλία θα γίνει\, οπότε μείνετε συντονισμένοι για την επικείμενη ανακοίνωση της νέας ημερομηνίας.\nusg=AOvVaw3WtwJlrgjZuHEzKEaDYU0B”>OfficialWebsite
URL:https://www.fuzzclub.gr/event/shame/
LOCATION:Fuzz Club\, PIREOS 209 KAI PATRIARXOU IOAKIM 1\, Athens\, Greece
CATEGORIES:Concerts
ATTACH;FMTTYPE=image/jpeg:https://www.fuzzclub.gr/wp-content/uploads/2021/10/slidershame.jpg
END:VEVENT
BEGIN:VEVENT
DTSTART;TZID=UTC:20220430T200000
DTEND;TZID=UTC:20220430T233000
DTSTAMP:20260420T020545
CREATED:20220303T152223Z
LAST-MODIFIED:20220303T152224Z
UID:7187-1651348800-1651361400@www.fuzzclub.gr
SUMMARY:Φι Βήτα Σίγμα
DESCRIPTION:Φι Βήτα Σίγμα “Με Λένε Μάνι” live στην Αθήνα.  Σάββατο 30 Απριλίου στο Fuzz club. \n Τα πρώτα 100 εισιτήρια κοστίζουν 10€.\nΤα επόμενα 400 εισιτήρια κοστίζουν 12€. Τα υπόλοιπα εισιτήρια μέχρι εξαντλήσεως των αποθεμάτων κοστίζουν 14€. \n Εισιτήρια διατίθενται μέσω του viva.gr και του δικτύου καταστημάτων του. \n\nΑπό τα early 00’s\, μέχρι τα early 20’s και από την underground battle rap και την ίδρυση των Bong Da City\, μέχρι τους Φι Βήτα Σίγμα και το σήμερα\, ο Mani ήταν και παραμένει επιδραστικός όσο λίγοι. Συνεπής δισκογραφικά (“Arkham” & “Purple n Blue” με τους BDC\, “Τόσο Κοντά Στο Τέλος” & “Cosmos” με τους ΦΒΣ και “Ο Μάγος Κοιτάζει Την Πόλη” & “Acidtape” σαν solo artist) και δυναμικός on stage\, χαράζει την δική του ξεχωριστή πορεία στη σκηνή\, εδώ και περίπου 20 χρόνια. \n\nΤο νέο του album “Με Λένε Μάνι” του 2021 θα παρουσιαστεί φέτος ζωντανά με συναυλίες ανά την Ελλάδα\, ενώ μαζί του επί σκηνής θα βρεθούν οι υπόλοιποι Φι Βήτα Σίγμα (Rio & Mode) και ξεχωριστοί φίλοι και συνεργάτες.\n“Φτιάχτηκε ο κόσμος αυτός από το ψέμα.\nΣας νοιάζει τόσο να δείξετε ευτυχισμένοι.” \n\nOpening acts: Mastigo\, Άρρωστο Πνεύμα\, Maverick\, Atai\, Back To Back\, Κίτσος Μπέκος\nGuests: Kako\, Hxodoths\, Thedead Style \n\nCOVID-FREE EVENT:\nΟι κάτοχοι των εισιτηρίων\, υποχρεούνται να επιδείξουν κατά την είσοδο:\n Έγγραφο ταυτοπροσωπίας (ταυτότητα / διαβατήριο / δίπλωμα οδήγησης)\n Πιστοποιητικό εμβολιασμού κατά του Covid-19 (η ισχύς του ξεκινάει 14 ημέρες μετά την πραγματοποίηση της τελευταίας δόσης)\n Ή πιστοποιητικό νόσησης Covid-19 που εκδίδεται τριάντα (30) ημέρες μετά από τον πρώτο θετικό έλεγχο και η ισχύς του διαρκεί έως εκατόν ογδόντα (180) ημέρες μετά από αυτόν.\n Άτομα ηλικιών κάτω των 16 ετών πρέπει να συνοδεύονται από γονέα ή κηδεμόνα\, με την προϋπόθεση ότι και εκείνος θα επιδείξει έγγραφο ταυτοπροσωπίας και ένα από τα προαναφερθέντα πιστοποιητικά ανοσίας. \n\n ΠΡΟΣΟΧΗ!!! Μείνετε συντονισμένοι στα social pages μας\, για τις πιο πρόσφατες ενημερώσεις σχετικά με τα υγειονομικά μέτρα που ισχύουν για τους συναυλιακούς χώρους. Δεν ισχύουν τα ίδια για όλους και μεταβάλλονται συνεχώς. Ευχαριστούμε για την υπομονή.\n Για απορίες επικοινωνείτε στο advance@dynasty.gr ή στο instagram @dynastyathens.
URL:https://www.fuzzclub.gr/event/fivitasigma/
LOCATION:Fuzz Club\, PIREOS 209 KAI PATRIARXOU IOAKIM 1\, Athens\, Greece
CATEGORIES:Concerts
ATTACH;FMTTYPE=image/jpeg:https://www.fuzzclub.gr/wp-content/uploads/2022/03/fivita.jpg
END:VEVENT
END:VCALENDAR