BEGIN:VCALENDAR
VERSION:2.0
PRODID:-//Fuzz Club - ECPv6.15.17.1//NONSGML v1.0//EN
CALSCALE:GREGORIAN
METHOD:PUBLISH
X-ORIGINAL-URL:https://www.fuzzclub.gr
X-WR-CALDESC:Events for Fuzz Club
REFRESH-INTERVAL;VALUE=DURATION:PT1H
X-Robots-Tag:noindex
X-PUBLISHED-TTL:PT1H
BEGIN:VTIMEZONE
TZID:UTC
BEGIN:STANDARD
TZOFFSETFROM:+0000
TZOFFSETTO:+0000
TZNAME:UTC
DTSTART:20210101T000000
END:STANDARD
END:VTIMEZONE
BEGIN:VEVENT
DTSTART;TZID=UTC:20220420T200000
DTEND;TZID=UTC:20220420T233000
DTSTAMP:20260420T034928
CREATED:20220328T122810Z
LAST-MODIFIED:20220328T122810Z
UID:7272-1650484800-1650497400@www.fuzzclub.gr
SUMMARY:5 χρόνια WNCfam l
DESCRIPTION:Όλα ξεκίνησαν το 2017 από τον dPans και τον Solmeister\, και οδήγησαν στο σήμερα\, με το συγκρότημα των WNCfam να συγκεντρώνει πλέον εκατομμύρια προβολές και streams σε κάθε του πρεμιέρα και να γεμίζει συναυλιακούς χώρους ανά την Ελλάδα. \nΜε ένα νέο single κάθε Τετάρτη\, 6 full time members και άπειρους φίλους με ετερόκλητες πορείες στον χώρο να συμμετέχουν κάθε τόσο\, το WNCfam\, έχει καταφέρει αυτή την στιγμή να αριθμεί πάνω από 250 τραγούδια\, ανάμεσα στα οποία και 4 εξαιρετικά solo albums\, με πιο πρόσφατα αυτά των Marseaux (“κόρη.”\, 2019 και “chica”\, 2021) και Brando (“Δεσμοί Αίματος”\, 2020) με τα οποία κατάφεραν να κεντρίσουν το ενδιαφέρον ατόμων από κάθε ηλικία και μουσικό background. \nΑν το πολύχρωμο bitchy pop attitude της Marseaux δεν σε κάνει να χοροπηδάς με ένα ποτό στο χέρι\, το αυθεντικά πηγαίο retrowave του dPans δεν σου είναι αρκετό για μία βραδυνή βόλτα με αυτοκίνητο στην μισοφωτισμένη πόλη και η αστείρευτης έμπνεσης πένα του all-things-rapper Brando δεν σε βάλει σε διαδικασίες εσωτερικής αναζήτησης\, τότε σίγουρα θα βρεις κάτι από το μέσα σου στα δυναμικά κουπλέ των newcomers GeoRVSD και MrBlz ή θα πιάσεις τον εαυτό σου να παίζει air guitar στην πρώτη σειρά της συναυλίας\, όταν ο Solmeister βγει να παίξει τον δικό του ρόλο στο project. \nΚι αν όλα τα παραπάνω δεν σου λένε τίποτα\, τότε μείνε συντονισμένος στο κανάλι τους για μία τουλάχιστον Τετάρτη. Αν δεν καταφέρουν να σε κερδίσουν\, μην βρεις ως πρόφαση το “δεν ακούω αυτό το είδος”. Γιατί το WNCfam παίζει μόνο ένα είδος: Αληθινή μουσική! \nΓΙΑ ΝΑ ΜΠΕΙΤΕ ΣΤΗ ΣΥΝΑΥΛΙΑ ΤΗΣ ΑΘΗΝΑΣ ΠΡΕΠΕΙ ΝΑ:\n️ Επιδειξετε έγγραφο ταυτοπροσωπίας (ταυτότητα / διαβατήριο / δίπλωμα οδήγησης) κατά την είσοδο όπως και\n️ Πιστοποιητικό εμβολιασμού κατά του Covid-19 (μπαίνει σε ισχύ 14 μέρες μετά την ολοκλήρωση του εμβολιασμού)\n️ Ή πιστοποιητικό νόσησης Covid-19 που εκδίδεται τριάντα (30) ημέρες μετά από τον πρώτο θετικό έλεγχο.\n️ Άτομα ηλικιών κάτω των 16 ετών πρέπει να συνοδεύονται από γονέα ή κηδεμόνα\, με την προϋπόθεση ότι και εκείνος θα επιδείξει έγγραφο ταυτοπροσωπίας και ένα από τα προαναφερθέντα πιστοποιητικά ανοσίας. \nΠαρακαλείστε να στέλνετε όλες τις απορίες σας στο press@3plab.gr \n  \n \n 
URL:https://www.fuzzclub.gr/event/wnc/
LOCATION:Fuzz Club\, PIREOS 209 KAI PATRIARXOU IOAKIM 1\, Athens\, Greece
CATEGORIES:Concerts
ATTACH;FMTTYPE=image/jpeg:https://www.fuzzclub.gr/wp-content/uploads/2022/03/816x465-ATH.jpg
END:VEVENT
END:VCALENDAR