BEGIN:VCALENDAR
VERSION:2.0
PRODID:-//Fuzz Club - ECPv6.15.17.1//NONSGML v1.0//EN
CALSCALE:GREGORIAN
METHOD:PUBLISH
X-ORIGINAL-URL:https://www.fuzzclub.gr
X-WR-CALDESC:Events for Fuzz Club
REFRESH-INTERVAL;VALUE=DURATION:PT1H
X-Robots-Tag:noindex
X-PUBLISHED-TTL:PT1H
BEGIN:VTIMEZONE
TZID:UTC
BEGIN:STANDARD
TZOFFSETFROM:+0000
TZOFFSETTO:+0000
TZNAME:UTC
DTSTART:20210101T000000
END:STANDARD
END:VTIMEZONE
BEGIN:VEVENT
DTSTART;TZID=UTC:20220417T200000
DTEND;TZID=UTC:20220417T233000
DTSTAMP:20260420T034930
CREATED:20211026T140341Z
LAST-MODIFIED:20220413T060230Z
UID:7053-1650225600-1650238200@www.fuzzclub.gr
SUMMARY:Paradise Lost
DESCRIPTION:Η σχέση των Paradise Lost με το ελληνικό κοινό κρατάει καιρό κι είναι από αυτές που όσο περισσότερα περάσουν\, τόσο καλύτερες γίνονται. Για αυτό περιμένουμε με ανυπομονησία την Κυριακή 17 Απριλίου 2022\, για να συναντηθούμε ξανά μαζί τους στο Fuzz Club\, σε ένα show αντάξιο της ιστορίας τους. \nΟι Paradise Lost δεν είναι μόνο οι προπάτορες του ατμοσφαιρικού death metal. Είναι δεδομένα πολλά παραπάνω\, καθώς τιμούν τον ρόλο τους ως ηγέτες της βρετανικής σκηνής του σκληρού ήχου. Από το Halifax ορμώμενοι\, οι Paradise Lost έμελλε να γίνουν ένα εκ των σημαντικότερων metal συγκροτημάτων από καταβολής του είδους\, όντας αναπόσπαστο κομμάτι της Αγίας βρετανικής τριάδας\, μαζί με Anathema & Μy Dying Bride. \nMετρούν πάνω από 30 χρόνια στα συναυλιακά δρώμενα με τα Gothic/ Draconian Times/ Icon να στέκονται μνημειώδη αριστουργήματα και απαραίτητες προσθήκες σε κάθε ενημερωμένη δισκοθήκη. Aπόκοσμα και γοητευτικά\, παραμένουν ακόμη σταθερές αναφορές του σκληρού ήχου\, επηρεάζοντας πάνω από τη μισή ατμοσφαιρική death metal σκηνή και τους γκοθομεταλάδες. \nΟι μελαγχολικές σπαραξικάρδιες μελωδίες του Greg Mackintosh και του Aaron Aedy\, μαζί με τη χαρακτηριστική φωνή του Nick Holmes αποτελούν το σήμα κατατεθέν της μπάντας από το Ηνωμένο Βασίλειο. Σκοτεινή ατμόσφαιρα που καθηλώνει\, διεστραμμένα riffs και εκκωφαντικά ρυθμικά μέρη των Edmodson (μπάσο) και Väyrynen (drums)\, βυθίζουν τον ακροατή στο στοιχειωτικό soundtrack των Paradise Lost. \nΤο συγκρότημα δεν σταμάτησε ποτέ να εξελίσσεται και ρίσκαρε καλλιτεχνικά περνώντας μέχρι και από ηλεκτρονικά μονοπάτια\, όσο λοξοκοιτούσε τις gothic ρίζες του. Κάθε τους δισκογραφική προσπάθεια φιγουράρει στις λίστες των καλύτερων albums της χρονιάς που κυκλοφόρησε. Το Medusa σφράγισε με τον ήχο κατατεθέν των Lost μια αριστουργηματική κυκλοφορία\, την οποία αποθέωσαν κοινό και κριτικοί\, όπως και το Obsidian που αποτελεί το τελευταίο album του γκρουπ. \nΚυριακή 17 Απριλίου 2022 λοιπόν\, θα τα πούμε ξανά με τους Paradise Lost\, στη σκηνή του Fuzz σε ένα special show\, με όλα τους τα αγαπημένα τραγούδια\, αλλά και νέο υλικό. \nΟι Fragment Soul\, θα ανοίξουν τη συναυλία των Paradise Lost\, την Κυριακή 17 Απριλίου στο Fuzz Live Music Club.\n\nΜια από τις πιο ανερχόμενες progressive metal μπάντες τις ελληνικής σκηνής\, οι Fragment Soul\, θα ανοίξουν την μεγαλειώδη επιστροφή των θρυλικών Paradise Lost\, το βράδυ της 17ης Απριλίου\, στο Fuzz Live Music Club\, στην Αθήνα. \nΗ παρέα του Σπύρου Γεωργίου και του Δημήτρη Λούβρου\, έχοντας στο πλάι τους την τελευταία προσθήκη του συγκροτήματος στα φωνητικά\, τον Καναδό Marc Durkee\, ο οποίος ήρθε στο συγκρότημα τον περασμένο Δεκέμβριο\, θα μας προετοιμάσουν με τον καλύτερο τρόπο\, ξεδιπλώνοντας το ταλέντο τους πάνω στη σκηνή. \nΜετράμε αντίστροφα ήδη! Prepare yourselves! \n* O χώρος διεξαγωγής της συναυλίας (η οποία θα είναι ορθίων) είναι covid free κι η είσοδος θα επιτρέπεται μόνο σε όσους έχουν πιστοποιητικό εμβολιασμού/νόσησης. \nΠληροφορίες\nΤιμή εισιτηρίου 32€ \nΣημεία Προπώλησης\nMetal Era\nwww.ticketmaster.gr\nΤηλεφωνικό Kέντρο Ticketmaster 211 19 81 535\n* Για αγορές μέσω internet υπάρχει επιβάρυνση 10% στην τιμή του εισιτηρίου \nΕπικοινωνία\npress@highpriority.gr \n  \n  \n  \n 
URL:https://www.fuzzclub.gr/event/paradise-lost/
LOCATION:Fuzz Club\, PIREOS 209 KAI PATRIARXOU IOAKIM 1\, Athens\, Greece
CATEGORIES:Concerts
ATTACH;FMTTYPE=image/png:https://www.fuzzclub.gr/wp-content/uploads/2021/10/Paradise-Lost-1920x1080-1.png
ORGANIZER;CN="High Priority":MAILTO:press@highpriority.gr
END:VEVENT
END:VCALENDAR