BEGIN:VCALENDAR
VERSION:2.0
PRODID:-//Fuzz Club - ECPv6.15.17.1//NONSGML v1.0//EN
CALSCALE:GREGORIAN
METHOD:PUBLISH
X-ORIGINAL-URL:https://www.fuzzclub.gr
X-WR-CALDESC:Events for Fuzz Club
REFRESH-INTERVAL;VALUE=DURATION:PT1H
X-Robots-Tag:noindex
X-PUBLISHED-TTL:PT1H
BEGIN:VTIMEZONE
TZID:UTC
BEGIN:STANDARD
TZOFFSETFROM:+0000
TZOFFSETTO:+0000
TZNAME:UTC
DTSTART:20210101T000000
END:STANDARD
END:VTIMEZONE
BEGIN:VEVENT
DTSTART;TZID=UTC:20220410T200000
DTEND;TZID=UTC:20220410T233000
DTSTAMP:20260420T034953
CREATED:20211008T120044Z
LAST-MODIFIED:20220105T134413Z
UID:7028-1649620800-1649633400@www.fuzzclub.gr
SUMMARY:Εβρίτικη Ζυγιά
DESCRIPTION:ΝΕΑ ΗΜΕΡΟΜΗΝΙΑ  Κυριακή 10 Απριλίου 2022\n\n\nΗ Εβρίτικη Ζυγιά\, ένα παραδοσιακό ορχηστρικό σχήμα με πάθος για τη διάσωση και την ανάδειξη μουσικών θησαυρών\, θα παρουσιάσεει live για πρώτη φορά το άλμπουμ «Ορμένιον» και υπόσχεται μία εκρηκτική βραδιά μέσα από τη μαγεία της θρακιώτικης μουσικής  στο Fuzz Club.\n\n«The result is a series of Thunderous bagpipe and synth workouts\, surging along on rhythms that were always already devoted to all night revels\, trance and altered states.»\nWire magazine\n\n«The combination of gaïda\, kaval\, lyra and davul is brilliant\, and these musicians are really on top of their game. This is a fascinating and exciting excursion into a little-known musical tradition now undergoing a renaissance.»\nSonglines\n\nΗ  ξεχωριστή μπάντα Εβρίτικη Ζυγιά επιστρέφει στους συναυλιακούς χώρους\, μετά από καιρό\, για ένα συναρπαστικό live γεμάτο ενέργεια που θα μας προσφέρει την ευκαιρία να ζήσουμε την απόλυτη ψυχεδελική εμπειρία. Ένα live που αναμφίβολα θα παρασύρει και θα ξεσηκώσει το κοινό\, αφού η Εβρίτικη Ζυγιά κατορθώνει\, με ένα πολύ ιδιαίτερο προσωπικό ήχο και ύφος\, να δημιουργεί μία εντελώς πρωτότυπη εκστατική μουσική.\nΤο παραδοσιακό σχήμα Εβρίτικη Ζυγιά ξεκίνησε το 2007 παίζοντας σε γλέντια και γιορτές της περιοχής με σκοπό τη διάσωση και την εξέλιξη της θρακικής μουσικής παράδοσης. Αποτελείται από όργανα αρχέγονα βαθιά ριζωμένα στην παράδοση και τη ζωή των ανθρώπων της Θράκης. Η γκάιντα\, η θρακιώτικη λύρα\, το καβάλι\, το νταούλι.\nΟ σεβασμός στο ύφος και το ηχόχρωμα που παρέδωσαν οι παλαιότερες γενιές μουσικών παντρεύεται με την ανάγκη για συνεχή δημιουργία και σύγχρονες ενορχηστρώσεις\, γεννώντας το αμάλγαμα που προσδιορίζει με ακρίβεια το μουσικό ύφος του συγκροτήματος.\nΣε συνεργασία με την Teranga Beat\, η εξέλιξη του παραδοσιακού τους ήχου προχώρησε ένα βήμα παραπάνω μέσω διαφορετικών ενορχηστρώσεων από εκείνες στα παραδοσιακά γλέντια. Προσθέτοντας το ηλεκτρονικό όργανο CRB-Diamond 800 και το Moog\, δημιουργήθηκε ένας fusion ήχος με μοναδική ταυτότητα\, ενισχύοντας ακόμα περισσότερο την ψυχεδέλεια της θρακικής μουσικής. Δίνοντας βάση στις δυναμικές των μουσικών οργάνων και αφήνοντας μεγαλύτερο χώρο στους μουσικούς για αυτοσχεδιασμούς και δημιουργία δικών τους συνθέσεων\, γεννήθηκαν τα νέα κομμάτια που παρουσιάζονται για πρώτη φορά στην ηχογράφηση του Ορμένιον.\nΟ δίσκος ηχογραφήθηκε ζωντανά στο στούντιο\, σε αναλογικό 24κάναλο μπομπινόφωνο Otari MX80\, στις 18 και 19 Μαΐου 2019. Αυτός ήταν ο μόνος τρόπος για να αποτυπωθούν στο δίσκο η ενέργεια και η δύναμη που χαρακτηρίζουν το συγκρότημα στις ζωντανές του εμφανίσεις.\n\nΣύνδεσμοι:\nWebsite – www.evritikizygia.gr\nFacebook – www.facebook.com/evritikizygia\nYouTube – www.youtube.com/channel/UCrpzo7LlsgwhG9etvVFM3Jg/feed\n\nΕισιτήρια:\n9€ – Περιορισμένη προπώληση\n11€ – Προπώληση\n14€ – Γενική είσοδος\n\nΔίκτυο Προπώλησης:\nOnline: www.viva.gr/tickets/music/evritiki-zygia/\nΤηλεφωνικά: 11876\n\nΣημεία Προπώλησης:\nReload / Καταστήματα Wind / Ευριπίδης Βιβλιοπωλεία\nYoleni’s Greek Gastronomy Center (Σόλωνος 9)\nViva Spot Τεχνόπολης (μέσα στο χώρο της Τεχνόπολης\, είσοδος από οδό Περσεφόνης\, Δευτ-Σαβ 11:00-19:00)\n\n\n\nCovid free event:\n* Απόδειξη εμβολιασμού κατά του COVID-19\n*Απόδειξη ανάρρωσης από COVID-19 εντός των τελευταίων 6 μηνών\n\nΕισιτήρια – https://www.viva.gr/tickets/music/evritiki-zygia/\n\n\nΧώρος:\nFuzz Live Music Club\nΠειραιώς 209 & Πατριάρχου Ιωακείμ 1\nΤαύρος\, 177 78\nΤηλ: 210 345 0817\nwww.fuzzclub.gr
URL:https://www.fuzzclub.gr/event/evritiki-zygia/
LOCATION:Fuzz Club\, PIREOS 209 KAI PATRIARXOU IOAKIM 1\, Athens\, Greece
CATEGORIES:Concerts
ATTACH;FMTTYPE=image/png:https://www.fuzzclub.gr/wp-content/uploads/2021/10/FB-event-cover.png
END:VEVENT
END:VCALENDAR