BEGIN:VCALENDAR
VERSION:2.0
PRODID:-//Fuzz Club - ECPv6.15.17.1//NONSGML v1.0//EN
CALSCALE:GREGORIAN
METHOD:PUBLISH
X-WR-CALNAME:Fuzz Club
X-ORIGINAL-URL:https://www.fuzzclub.gr
X-WR-CALDESC:Events for Fuzz Club
REFRESH-INTERVAL;VALUE=DURATION:PT1H
X-Robots-Tag:noindex
X-PUBLISHED-TTL:PT1H
BEGIN:VTIMEZONE
TZID:UTC
BEGIN:STANDARD
TZOFFSETFROM:+0000
TZOFFSETTO:+0000
TZNAME:UTC
DTSTART:20200101T000000
END:STANDARD
END:VTIMEZONE
BEGIN:VEVENT
DTSTART;TZID=UTC:20211225T230000
DTEND;TZID=UTC:20211231T233000
DTSTAMP:20260420T092144
CREATED:20211211T124754Z
LAST-MODIFIED:20211211T124953Z
UID:7113-1640473200-1640993400@www.fuzzclub.gr
SUMMARY:Trashformers Chirstmas Specials / 25.12 – 31.12
DESCRIPTION:Και εκεί που όλοι νομίζαμε ότι δεν υπάρχει ελπίδα για ακραία διασκέδαση το 2021… έρχεται το πιο δυναμικό event για να μείνουμε με την πιο ωραία γεύση! \nTRASHFORMERS – Christmas Specials ! \n \n\n \nΚαι επειδή το μόνο καλύτερο\, από το πιο γαμάτο event του γαλαξία\, είναι ακόμη άλλο ένα γαμάτο event… έχουμε και λέμε:\n25 Δεκεμβρίου – Xmas Ανήμερα και 31 Δεκεμβρίου NYE\nΔιπλό event\, Διπλή γιορτή\, Διπλή διασκέδαση\, Δίπλες με μέλι και καρύδια\, κορίτσια και αγόρια της διπλανής πόρτας ξεσηκωθείτε! \nΚαι τα δύο events περιλαμβάνουν:\nΕκρηκτική ενέργεια (δεν αναλαμβάνουμε καμία ευθύνη εάν ηλεκτρίζεστε όταν ακουμπάτε άλλους)\nΑτμοσφαιρική ατμόσφαιρα (δεν αναλαμβάνουμε ευθύνη εάν γουστάρετε υπερβολικά τη φάση)\nΜουσικές για διαβολεμένο χορό (δεν αναλαμβάνουμε καμία ευθύνη666!)\nΟπτικοακουστικοχωροχρονικό υπερθέαμα (αναλαμβάνουμε ευθύνη ότι θα είναι η καλύτερη βραδιά ever) \nΥποσημείωση: Η ζωή χωρίς ακραία διασκέδαση είναι σαν ένα χριστουγεννιάτικο δώρο χωρίς παιχνίδι μέσα. Κάτι σαν αυτό το τσίγκινο κουτί με τα μπισκότα βουτύρου που βρίσκεις μέσα τα ραφτικά της γιαγιάς.\nΚάντε λοιπόν προετοιμασία με το ενιάπτυχο των Trashformers:\nΧορός / Έρωτας / Τραγούδι / Έκστασι / Έκστανο / Χιούμορ / Νοσταλγία / Ακομπλεξαρισμός / Ολοκλήρωση \nXmas > Τα Χριστούγεννα λοιπόν στο καλύτερο event του Γαλαξία με μια Χριστουγεννιάτικη Ιστορία και με τα καλύτερα τραγούδια και βίντεο του πλανήτη Γη θα νιώσουμε αυτό το feeling που χάθηκε το τελευταίο διάστημα.\n— doors open at 23:06 \nNYE > Την Πρωτοχρονιά\, στο καλύτερο Event του Γαλαξία και των μαύρων τρυπών\, αμέσως μετα την αλλαγή χρόνου\, θα κάνουμε αλλαγή στη ζωή μας και στο πως πιστεύουμε ότι βλέπουμε τα πράγματα γιατί θα ρθούμε πιο κοντά στην αλήθεια.\n— doors open at 00:24 \nΠροφανώς και θα κάνουμε σούπερ γαμάτο show των Trashformers\nΠροφανώς και θα έχουμε Secret SUPER Guests\nκαι ΠΡΟΦΑΝΩΣ το απίστευτο after party όπου μέχρι το πρωί θα \nΧορεύουμε / Τραγουδάμε / Ιδρώνουμε / Ερωτευόμαστε. \nTrashformers Chirstmas Specials\nXMAS – 25.12.21 / the gates are open at 23:06\nNYE – 31.12.21 / the gates are open at 00:24 (μετά την αλλαγή)\nFuzz Live Music Club\nΠειραιώς 209 & Πατρ. Ιωακείμ 1\, Ταύρος\nTicket presale 7 / at the venue 9 – Τicket presail viva.gr\ninfo/reservations 2103450817 \n\nΓια την είσοδο στο event θα ζητηθεί επίδειξη πιστοποιητικού εμβολιασμού/νόσησης και ταυτοπροσωπίας.\nΣε περίπτωση ακύρωσης του event λόγω υγειονομικών μέτρων (χτύπα ξύλο)\, το αντίτιμο του εισιτηρίου προπώλησης θα επιστραφεί.\nΤα εισιτήρια θα είναι περιορισμένου αριθμού ώστε να μην υπάρχει συνωστισμός\, μην το αργήσετε!
URL:https://www.fuzzclub.gr/event/trashformers-7/
LOCATION:Fuzz Club\, PIREOS 209 KAI PATRIARXOU IOAKIM 1\, Athens\, Greece
CATEGORIES:Concerts
ATTACH;FMTTYPE=image/png:https://www.fuzzclub.gr/wp-content/uploads/2021/12/Trashformers-Christmas-Specials-FUZZ.png
END:VEVENT
BEGIN:VEVENT
DTSTART;TZID=UTC:20211229T080000
DTEND;TZID=UTC:20211229T233000
DTSTAMP:20260420T092144
CREATED:20211202T171636Z
LAST-MODIFIED:20211202T171636Z
UID:7110-1640764800-1640820600@www.fuzzclub.gr
SUMMARY:Solmeister + Marseaux + WNC
DESCRIPTION:Solmeister + Marseaux + WNC συναντιούνται και πάλι επί σκηνής\, για τον εορτασμό των 5 ετών Cool Kids Never Die! \nMε τον Solmeister στην πιο δημιουργική φάση της καριέρας του\, τόσο στο πλαίσιο του προσωπικό του project\, όσο και στις πολυπρόσωπες συνθετικές του ασχολίες\, με την Marseaux να αναδεικνύεται σταδιακά σε youth idol\, μετά την κυκλοφορία του νέου album “Chica” και με το WNC σύσσωμο να μπαίνει δυναμικά στην 5η και κατά πολλούς φημολογούμενη ως τελευταία season του (?)\, δεν μπορούσαμε παρά να τους καλέσουμε σε άλλη μία επί σκηνής σύμπραξη.\nΊσως να είναι το επόμενο “Να Τα Πούμε”\, ίσως να είναι απλά ο εορτασμός για τα 5 χρόνια Cool Kids Never Die\, ίσως να είναι όλα τα live που δεν έγιναν\, μαζεμένα σε ένα μεγάλο\, ίσως να είναι και όλα τα παραπάνω μαζί. Μικρή σημασία έχει\, γιατί πλέον αφήνουμε στην άκρη τις καρέκλες και μαζευόμαστε και πάλι σε μία παλιά παραδοσιακή συναυλία\, με χορό\, αγκαλιές\, sing-alongs και όλα όσα μας έλειψαν στα χρόνια του εγκλεισμού\, κι ας καταφέραμε ακόμη και τότε να παραμείνουμε μια μεγάλη οικογένεια.\nΤα Cool Kids ενώνονται και πάλι και βγαίνουν στον δρόμο για μία περιοδεία χωρίς προηγούμενο!\nΜΕΤΡΑ COVID (παρακολουθείτε τις εξελίξεις γιατί αλλάζουν διαρκώς\, ενώ διαφέρουν και από πόλη σε πόλη και από μαγαζί σε μαγαζί): \n\n Για να μπείτε στην συναυλία της Αθήνας πρέπει να: \n\n Επιδειξετε έγγραφο ταυτοπροσωπίας (ταυτότητα / διαβατήριο / δίπλωμα οδήγησης) κατά την είσοδο όπως και\n Πιστοποιητικό εμβολιασμού κατά του Covid-19 (μπαίνει σε ισχύ 14 μέρες μετά την ολοκλήρωση του εμβολιασμού)\n Ή πιστοποιητικό νόσησης Covid-19 που εκδίδεται τριάντα (30) ημέρες μετά από τον πρώτο θετικό έλεγχο και η ισχύς του διαρκεί έως εκατόν ογδόντα (180) ημέρες μετά από αυτόν.\n Άτομα ηλικιών κάτω των 16 ετών πρέπει να συνοδεύονται από γονέα ή κηδεμόνα\, με την προϋπόθεση ότι και εκείνος θα επιδείξει έγγραφο ταυτοπροσωπίας και ένα από τα προαναφερθέντα πιστοποιητικά ανοσίας.\n Παρακαλείστε να στέλνετε όλες τις απορίες σας στο press@3plab.gr
URL:https://www.fuzzclub.gr/event/solmeister-marseaux-wnc/
LOCATION:Fuzz Club\, PIREOS 209 KAI PATRIARXOU IOAKIM 1\, Athens\, Greece
CATEGORIES:Concerts
ATTACH;FMTTYPE=image/jpeg:https://www.fuzzclub.gr/wp-content/uploads/2021/12/solmeister.jpg
END:VEVENT
END:VCALENDAR