BEGIN:VCALENDAR
VERSION:2.0
PRODID:-//Fuzz Club - ECPv6.15.17.1//NONSGML v1.0//EN
CALSCALE:GREGORIAN
METHOD:PUBLISH
X-ORIGINAL-URL:https://www.fuzzclub.gr
X-WR-CALDESC:Events for Fuzz Club
REFRESH-INTERVAL;VALUE=DURATION:PT1H
X-Robots-Tag:noindex
X-PUBLISHED-TTL:PT1H
BEGIN:VTIMEZONE
TZID:UTC
BEGIN:STANDARD
TZOFFSETFROM:+0000
TZOFFSETTO:+0000
TZNAME:UTC
DTSTART:20200101T000000
END:STANDARD
END:VTIMEZONE
BEGIN:VEVENT
DTSTART;TZID=UTC:20211224T080000
DTEND;TZID=UTC:20211224T233000
DTSTAMP:20260420T111740
CREATED:20211201T114409Z
LAST-MODIFIED:20211201T114409Z
UID:7106-1640332800-1640388600@www.fuzzclub.gr
SUMMARY:Metal Hammer Live Party: Nightstalker - Suicidal Angels - Lazy Man's Load
DESCRIPTION:Παρασκευή 24 Δεκεμβρίου 2021 – FUZZ CLUB \nΑξίζει σε όλους η χρονιά να τελειώσει με ένα μεγάλο Live Party ώστε να αντλήσουμε δύναμη και αισιοδοξία για ένα σαφώς καλύτερο 2022! Το Metal Hammer θα ανεβάσει στην σκηνή του Fuzz Club την Παρασκευή 24 Δεκεμβρίου δύο από τα καλύτερα συγκροτήματα που διαθέτει η μουσική μας σε παγκόσμιο επίπεδο. Την μπάντα-συμμορία των heavy rockers Nightstalker και τους απολύτως εκρηκτικούς σε κάθε live εμφάνιση τους\, thrash metallers Suicidal Angels\, με την βραδιά να ανοίγουν οι σφόδρα ταλαντούχοι Lazy Man’s Load. Θέλουμε η νύχτα να γεμίσει από κιθάρες\, watt και τραγουδάρες και τα σχήματα αυτά σίγουρα μπορούν να το εγγυηθούν! Φέρτε μαζί σας την γιορτινή σας διάθεση\, αυτό είναι ένα βράδυ που θα έχει πολλά εμβληματικά riff και πλατιά χαμόγελα! \nΟι πόρτες ανοίγουν στις 19:00. Ώρα έναρξης: 20:15.\nΤιμή εισιτηρίου: 15 € \nΕισιτήρια: https://www.viva.gr/tickets/music/metal-hammer-nightstalker-suicidal-angels/ \nFuzz Live Music Club: Πειραιώς 209 & Πατριάρχου Ιωακείμ 1\, Ταύρος 210 3450817 \nΓια οποιαδήποτε πληροφορία μπορείτε να επικοινωνείτε με το Metal Hammer: \n210-4820033\n6947491755 \nΗ βραδιά θα πραγματοποιηθεί τηρώντας όλα τα υγειονομικά πρωτόκολλα της εποχής. \nΗ πώληση εισιτηρίων γίνεται αποκλειστικά ηλεκτρονικά από το viva.gr και το δίκτυο μεταπωλητών του. Παρακαλούμε για αποφυγή συνωστισμού την ημέρα της συναυλίας\, να προσέλθετε με τα εισιτήρια σας εκτυπωμένα\, ή σε ηλεκτρονική μορφή με το barcode σε εμφανή θέση. Για την είσοδο είναι επίσης απαραίτητο πιστοποιητικό εμβολιασμού ή νόσησης και ταυτότητα. \n  \n 
URL:https://www.fuzzclub.gr/event/metal-hammer-live-party-nightstalker-suicidal-angels/
LOCATION:Fuzz Club\, PIREOS 209 KAI PATRIARXOU IOAKIM 1\, Athens\, Greece
CATEGORIES:Concerts
ATTACH;FMTTYPE=image/jpeg:https://www.fuzzclub.gr/wp-content/uploads/2021/12/260966200_470647504416537_4400030998344201474_n.jpg
END:VEVENT
END:VCALENDAR