BEGIN:VCALENDAR
VERSION:2.0
PRODID:-//Fuzz Club - ECPv6.15.17.1//NONSGML v1.0//EN
CALSCALE:GREGORIAN
METHOD:PUBLISH
X-ORIGINAL-URL:https://www.fuzzclub.gr
X-WR-CALDESC:Events for Fuzz Club
REFRESH-INTERVAL;VALUE=DURATION:PT1H
X-Robots-Tag:noindex
X-PUBLISHED-TTL:PT1H
BEGIN:VTIMEZONE
TZID:UTC
BEGIN:STANDARD
TZOFFSETFROM:+0000
TZOFFSETTO:+0000
TZNAME:UTC
DTSTART:20200101T000000
END:STANDARD
END:VTIMEZONE
BEGIN:VEVENT
DTSTART;TZID=UTC:20211217T200000
DTEND;TZID=UTC:20211217T233000
DTSTAMP:20260420T111652
CREATED:20211214T170330Z
LAST-MODIFIED:20211214T170330Z
UID:7119-1639771200-1639783800@www.fuzzclub.gr
SUMMARY:ΛΑΜΔΑ
DESCRIPTION:ΟΙ ΛΑΜΔΑ ΖΩΝΤΑΝΑ ΣΤΗΝ ΑΘΗΝΑ\nΠΑΡΑΣΚΕΥΗ 17.12\nFUZZ CLUB \n17 Δεκεμβρίου\nΠόρτες: 20:00\nΈναρξη: 21:00 \nΚοντά δεκά χρόνια απ ́την πρώτη φορά. 17 Δεκεμβρίου στο FUZZ. \nΟι λάμδα σαν ιδέα υπάρχουν από το Νοέμβρη του 2010 όταν τα δύο από τα πέντε σημερινά μέλη της μπάντας συναντώνται με σκοπό τη δημιουργία της. Έχοντας ετερόκλητες μουσικές καταβολές\, θέτουν στο επίκεντρο του ενδιαφέροντος να μην τις «παντρέψουν» επιδεικτικά\, αλλά να αναζητήσουν ένα σημείο που όλες αυτές οι μουσικές πολύ απλά θα συνυπάρχουν. \nhttps://www.facebook.com/lamdabandgr/ \nhttps://www.instagram.com/lamdaband/ \nΕισιτήρια προπωλούνται μέσω viva.gr και του δικτύου καταστημάτων του: (Public\, Wind\, Media Markt\, βενζινάδικα Shell\, BP\, EKO\, Metro\, My Market). \nΕισιτήρια:\nhttps://www.viva.gr/tickets/festival/music/lunarsessions/lamda/ \nΟ χώρος λειτουργεί ως covidfree\nΟι θεατές πρέπει να επιδεικνύουν κατά την είσοδο τους στο χώρο πιστοποιητικό εμβολιασμού ή νόσησης καθώς και έγγραφο ταυτοπροσωπίας (ταυτότητα\, δίπλωμα\, διαβατήριο).
URL:https://www.fuzzclub.gr/event/%ce%bb%ce%b1%ce%bc%ce%b4%ce%b1/
LOCATION:Fuzz Club\, PIREOS 209 KAI PATRIARXOU IOAKIM 1\, Athens\, Greece
CATEGORIES:Concerts
ATTACH;FMTTYPE=image/png:https://www.fuzzclub.gr/wp-content/uploads/2021/12/1AthensFZZ.png
END:VEVENT
END:VCALENDAR