BEGIN:VCALENDAR
VERSION:2.0
PRODID:-//Fuzz Club - ECPv6.15.17.1//NONSGML v1.0//EN
CALSCALE:GREGORIAN
METHOD:PUBLISH
X-WR-CALNAME:Fuzz Club
X-ORIGINAL-URL:https://www.fuzzclub.gr
X-WR-CALDESC:Events for Fuzz Club
REFRESH-INTERVAL;VALUE=DURATION:PT1H
X-Robots-Tag:noindex
X-PUBLISHED-TTL:PT1H
BEGIN:VTIMEZONE
TZID:UTC
BEGIN:STANDARD
TZOFFSETFROM:+0000
TZOFFSETTO:+0000
TZNAME:UTC
DTSTART:20200101T000000
END:STANDARD
END:VTIMEZONE
BEGIN:VEVENT
DTSTART;TZID=UTC:20211216T200000
DTEND;TZID=UTC:20211216T233000
DTSTAMP:20260420T110110
CREATED:20211011T120323Z
LAST-MODIFIED:20211011T120358Z
UID:7036-1639684800-1639697400@www.fuzzclub.gr
SUMMARY:IAMDDB
DESCRIPTION:Η εκρηκτική IAMDDB\, από τα ανερχόμενα αστέρια της R’n’B\, trap και soul σκηνής της Βρετανίας\, έρχεται στην Αθήνα την Πέμπτη 16 Δεκεμβρίου 2021 στο Fuzz Live Music Club.\n\n\nIAMDDB ζωντανά στην Αθήνα\nΠέμπτη 16 Δεκεμβρίου 2021 / Fuzz Live Music Club 20:00\n\nCovid free event:\n* Απόδειξη εμβολιασμού κατά του COVID-19\n*Απόδειξη ανάρρωσης από COVID-19 εντός των τελευταίων 6 μηνών\n\n«IAMDDB is the lovechild of trap and jazz» Dazed\n«Taking jazz into the future» GQ\n«The most exciting artist to watch» BEATS 1\n«Diana Debrito’s fierce mix of hip-hop\, trap and jazz has the critics buzzing» The Guardian\n\nΕξαιρετικά δυναμική παρουσία και προσωπικότητα\, η IAMDDB ή αλλιώς Diana De Brito\, ανήκει στη νέα γενιά καλλιτεχνών της μουσικής σκηνής και έχει ξεχωρίσει από νωρίς για τον τρόπο ερμηνείας της. Έρχεται από το Μάντσεστερ και έχει ήδη τους κριτικούς και το κοινό με το μέρος της\, ενώ οι συνεργασίες της με την Lauryn Hill και τον Diplo την έχουν ήδη καθιερώσει.\nΗ ίδια χαρακτηρίζει το μουσικό της είδος ως «urban jazz»\, ενώ στην πραγματικότητα πρόκειται για ένα άγριο πάντρεμα hip-hop\, trap\, jazz και neo-soul. Τα πολυάριθμα και διαφορετικά στοιχεία που διαφαίνονται στη μουσική της αλλά και τα μηνύματα αυτo- αποδοχής και έντονης γυναικείας αυτο-ενδυνάμωσης που κατακλύζουν τους στίχους της\, έχουν επιφέρει αλλαγές στη μορφή και τον ήχο της σύγχρονης μουσικής βιομηχανίας.\nΗ IAMDDB\, ευρηματική και πολύ σχολαστική στη δουλειά της\, έχει ως σήμερα κυκλοφορήσει πέντε studio πρότζεκτ όπως «Waeveybby\, Vol. 1»\, «Vibe\, Vol. 2»\, «Hoodrich Vol. 3»\, «Flightmode Vol. 4» και «Swervvvvv.5».\n\nΣύνδεσμοι:\nWebsite – www.waeveybby.com\nFacebook – www.facebook.com/IAMDDB\nTwitter – www.twitter.com/beeechimblind\nInstagram – www.instagram.com/iamddb\n\nΕισιτήρια:\n15€ – Περιορισμένη Προπώληση\n18€ – Γενική Προπώληση\n21€ – Ταμείο\n\nVIP Εισιτήρια:\nhttps://iamddbvip.wun.io/\n\nIAMDDB VIP Ticket Package:\n– Προτεραιότητα πρόσβασης στο χώρο\n– Αποκλειστική συνάντηση με την IAMDDB\n– Συμμετοχή σε φωτογράφιση με την IAMDDB\n– Αναμνηστικό VIP πάσο της συναυλίας\n– Περιορισμένη Διαθεσιμότητα\n*Σημείωση: Αυτό το προϊόν δεν περιλαμβάνει το εισιτήριο της συναυλίας. Εάν δεν αγοράσετε το εισιτήριο της συναυλίας επιπλέον αυτής της αναβάθμισης δεν θα γίνετε δεκτοί στην εκδήλωση.\n\nΔίκτυο Προπώλησης:\nOnline: https://www.viva.gr/tickets/music/fuzz-club/iamddb/\nΤηλεφωνικά: 11876\n\nΣημεία Προπώλησης:\nReload\nΚαταστήματα Wind\nΕυριπίδης Βιβλιοπωλεία\nYoleni’s Greek Gastronomy Center (Σόλωνος 9)\nViva Spot Τεχνόπολης (μέσα στο χώρο της Τεχνόπολης\, είσοδος από οδό Περσεφόνης\, Δευτ-Σαβ 11:00-19:00)\n\nΧώρος:\nFuzz Live Music Club\nΠειραιώς 209 & Πατριάρχου Ιωακείμ 1\nΤαύρος\, 177 78\nΤηλ: 210 345 0817\nwww.fuzzclub.gr
URL:https://www.fuzzclub.gr/event/iamddb/
LOCATION:Fuzz Club\, PIREOS 209 KAI PATRIARXOU IOAKIM 1\, Athens\, Greece
CATEGORIES:Concerts
ATTACH;FMTTYPE=image/jpeg:https://www.fuzzclub.gr/wp-content/uploads/2021/10/BAD.jpg
END:VEVENT
END:VCALENDAR