BEGIN:VCALENDAR
VERSION:2.0
PRODID:-//Fuzz Club - ECPv6.15.17.1//NONSGML v1.0//EN
CALSCALE:GREGORIAN
METHOD:PUBLISH
X-ORIGINAL-URL:https://www.fuzzclub.gr
X-WR-CALDESC:Events for Fuzz Club
REFRESH-INTERVAL;VALUE=DURATION:PT1H
X-Robots-Tag:noindex
X-PUBLISHED-TTL:PT1H
BEGIN:VTIMEZONE
TZID:UTC
BEGIN:STANDARD
TZOFFSETFROM:+0000
TZOFFSETTO:+0000
TZNAME:UTC
DTSTART:20200101T000000
END:STANDARD
END:VTIMEZONE
BEGIN:VEVENT
DTSTART;TZID=UTC:20211120T203000
DTEND;TZID=UTC:20211120T233000
DTSTAMP:20260420T130848
CREATED:20211101T131423Z
LAST-MODIFIED:20211101T131423Z
UID:7058-1637440200-1637451000@www.fuzzclub.gr
SUMMARY:Monolink
DESCRIPTION:Monolink (plus guests) το Σάββατο 20/11 στο Fuzz Live Music Club\n\nΓια πολύ κόσμο τα “τραγουδιστής\, συνθέτης\, μουσικός παραγωγός” είναι ιδιότητες ασυμβίβαστες για την κουλτούρα του σύγχρονου ήχου\, αλλά αυτό ακριβώς είναι που κάνει τον Monolink\, που ζει και δημιουργεί στο Βερολίνο\, συναρπαστικό: το ότι όλα μπερδεύονται γλυκά. Το μουσικό στυλ του συνδέει την αφηγηματικότητα των τραγουδιών με τον ρυθμό των ηλεκτρονικών ήχων. Η κιθάρα μπλέκεται με τον ψηφιακό ήχο\, οι δονήσεις του μπάσου με τα συναισθηματικά φωνητικά μέρη\, η παθιασμένη σωματικότητα με τη διέγερση του μυαλού.\n\nΤο background του Steffen Linck είναι αυτό που ονομάζουμε “κιθαριστικό”\, βορειοαμερικάνικη φολκ\, μπλουζ – ποτέ δεν δεσμεύτηκε αποκλειστικά σε ένα είδος. Όσο και αν αγαπάει την κιθάρα του\, τον πιστό σύντροφο στο μουσικό του ταξίδι\, όση αδυναμία και αν έχει στις μελωδικές δομές και τα φωνητικά που έχουν τη δύναμη να πουν μια ιστορία\, όλα αυτά τελειώνουν πολύ γρήγορα – και εκεί είναι που έρχεται η έλξη του παραγωγού για ένα άλλο είδος\, συνώνυμο της διάρκειας: την ηλεκτρονική χορευτική σκηνή. Οι υπνωτιστικοί ρυθμοί είναι αυτοί που δημιουργούν τη σωματική εμπειρία των πολύωρων πάρτυ\, που αγαπούσε ούτως ή άλλως\, καθώς ήταν πάντα και DJ εκτός από κιθαρίστας και τραγουδιστής.\n\nΜια αντιπροσωπευτική παραγωγή του Monolink επικεντρώνεται σε ένα τραγούδι γραμμένο στην κιθάρα\, που αποτελεί τον σκελετό για τα κρουστά\, τα samples και τα φωνητικά μέρη που συνήθως ηχογραφούνται σε αυθόρμητα τζαμαρίσματα. Στις ζωντανές εμφανίσεις του παίζει το κομμάτι σε πραγματικό χρόνο\, με έμφαση σε μια καθαρή και απαλή ακουστική εμπειρία\, πράγμα που έχει ως αποτέλεσμα μια εκρηκτική εμπειρία στο dancefloor. Είναι πασίγνωστα τα ευφορικά του sets σε Fusion\, Fuchsbau και 3000° Festival\, αλλά και σε άλλους υπαίθριους χώρους\, όπως και οι εμφανίσεις του στα Ritter Butzke\, Sisyphos\, Keller και άλλα θρυλικά βερολινέζικα κλαμπ. Το 2014 το remix του σε συνεργασία με τον Be Svendsen σκαρφάλωσε στο top 20 του electronica chart του Beatport και το 2015 ένωσε τις δυνάμεις του με τον Acid Pauli για το ΕΡ “The End”. To ανοιχτόμυαλο\, crossover στυλ του Monolink είναι ακαταμάχητο.\n\n\nΕισιτήρια: \n\nEarly Bird: 24€\nΓενική Είσοδος: 28€\nΤαμείο: 33€\n\nΠόρτες ανοίγουν στις 20:30\n\nΣημεία Προπώλησης: \nhttps://www.viva.gr/tickets/music/fuzz/monolink/\nReload\nΚαταστήματα Wind\nΕυριπίδης Βιβλιοπωλεία\nYoleni’s Greek Gastronomy Center (Σόλωνος 9)\nViva Spot Τεχνόπολης (μέσα στο χώρο της Τεχνόπολης\, είσοδος από οδό Περσεφόνης\, Δευτ-Σαβ 11:00-19:00) \n\n\n\nLinks\nwww.facebook.com/monolinkmusic\nwww.soundcloud.com/monolink\nwww.instagram.com/monolinkmusic/\nwww.residentadvisor.net/dj/monolin\nwww.monolink.org \nMonolink Spotify\n\n\n\nVideos\nBurning Man\nCercle\nMonolink-Return to Oz (Artbat Remix)\nMonolink-Under Dark\n\n\n\nΧώρος:\nFuzz Live Music Club\nΠειραιώς 209 & Πατριάρχου Ιωακείμ 1\nΤαύρος\, 177 78\nΤηλ: 210 345 0817\nwww.fuzzclub.gr
URL:https://www.fuzzclub.gr/event/monolink/
LOCATION:Fuzz Club\, PIREOS 209 KAI PATRIARXOU IOAKIM 1\, Athens\, Greece
CATEGORIES:Concerts
ATTACH;FMTTYPE=image/jpeg:https://www.fuzzclub.gr/wp-content/uploads/2021/11/mono.jpg
END:VEVENT
END:VCALENDAR