BEGIN:VCALENDAR
VERSION:2.0
PRODID:-//Fuzz Club - ECPv6.15.17.1//NONSGML v1.0//EN
CALSCALE:GREGORIAN
METHOD:PUBLISH
X-WR-CALNAME:Fuzz Club
X-ORIGINAL-URL:https://www.fuzzclub.gr
X-WR-CALDESC:Events for Fuzz Club
REFRESH-INTERVAL;VALUE=DURATION:PT1H
X-Robots-Tag:noindex
X-PUBLISHED-TTL:PT1H
BEGIN:VTIMEZONE
TZID:UTC
BEGIN:STANDARD
TZOFFSETFROM:+0000
TZOFFSETTO:+0000
TZNAME:UTC
DTSTART:20190101T000000
END:STANDARD
END:VTIMEZONE
BEGIN:VEVENT
DTSTART;TZID=UTC:20200910T200000
DTEND;TZID=UTC:20200910T233000
DTSTAMP:20260421T133851
CREATED:20200416T072702Z
LAST-MODIFIED:20200416T072702Z
UID:6819-1599768000-1599780600@www.fuzzclub.gr
SUMMARY:Viagra Boys
DESCRIPTION:Οι Pitch & Smith\, Year0001 και 3 Shades of Black παρουσιάζουν: Viagra Boys ζωντανά στην Αθήνα\nΠέμπτη 10 Σεπτεμβρίου 2020 > Fuzz Live Music Club \nΑν το όνομα Viagra Boys σε κάνει να σκέφτεσαι αποτυχημένες σεξουαλικές ικανότητες τότε έχει πετύχει το σκοπό του. Το όνομα επιλέχτηκε ως ένα pun για τον (αποτυχημένο) ρόλο του άντρα στην κοινωνία. \nΔημιουργημένο το 2015\, το 6-μελές punk σχήμα απ’τη Στοκχόλμη διαγράφει έναν καθαρά δικό του δρόμο που κατέληξε να ονομάζεται ugly gonzo post punk. Σε μία μαρμίτα με αναμειγμένες επιρροές από και αναφορές στους Screaming Jay Hawkins\, Butthole Surfers\, Suicide και Dead Kennedys ζυμώνεται και τελικά δημιουργείται το χωνευτήρι που θα ονομαστεί Viagra Boys. \nΤο πρώτο τους live έκανε το όνομά τους να εξαπλωθεί σαν πυρετός\, και τους ίδιους να αποκτήσουν πολύ γρήγορα την φήμη μιας μπάντας μοναδικής στο είδος της\, που επιδίδεται σε ωμές και ξεδιάντροπες live εμφανίσεις\, και που χάρη στον μοναδικό της ήχο καταφέρνει να εκπέμπει σε κάθε underground ακροατήριο\, από punk μέχρι hip-hop\, και από πειραματική ηλεκτρονική μέχρι jazz. Οι στίχοι δε και η ξέφρενη ενέργεια του frontman Sebastian\, που πολλοί συγκρίνουν με τέρατα όπως οι Iggy Pop\, Gibby Haynes και Nick Cave\, προσδίδει τελικά στην μπάντα το extra star quality\, που την καθίζει ολοκληρωτικά στον θρόνο του επόμενου μεγάλου ονόματος στο είδος που εκπροσωπούν. \nΟ σημερινός κόσμος έχει απόλυτη ανάγκη μπάντες όπως οι Viagra Boys\, κι έτσι\, λίγες στιγμές πριν την κατάκτηση της υφηλίου\, έρχονται να κατακτήσουν για πρώτη φορά την Αθήνα στις 10 Σεπτεμβρίου 2020\, σε μία συναυλιακή συγκυρία που στα ερχόμενα χρόνια θα επισύρει γλαφυρές περιγραφές\, συνοδευόμενες με την φράση “Ήμουν κι εγώ εκεί”. \nSpecial Guests: Bazooka & Gay Anniversary \nΣΗΜΕΙΑ ΠΡΟΠΩΛΗΣΗΣ:\n• Monsterville (Αγίας Ειρήνης 13\, Μοναστηράκι\, τηλ.: 2103648180)\n• Le Disque Noir Records Shop (Θεμιστοκλέους 29\, Αθήνα\, τηλ.: 211 214 3554)\n• Τηλεφωνικά στο 11876\n• Reload Stores\n• Βιβλιοπωλεία Ευριπίδης – Evripidis Bookstores\n• Τεχνόπολη Δήμου Αθηναίων – Technopolis City of Athens (Viva Kiosk)\n• Καταστήματα WIND\n• Yoleni’s Hellas (Σόλωνος 9\, Αθήνα\, τηλ.: 2122223623 – www.yolenis.com)\n• Ηλεκτρονική προπώληση: https://bit.ly/2q6oIW1 \nΣΥΝΔΕΣΜΟΙ:\n• Viagra Boys: https://www.vboysstockholm.com | https://www.facebook.com/vboysstockholm\n• 3 Shades of Black: www.3shadesofblack.net | www.facebook.com/threeshadesofblack\n• Temple Athens: www.thetemple.gr | www.facebook.com/templeliveclub\n• Piraeus 117 Academy: www.facebook.com/Academy117 \nEΠΙΚΟΙΝΩΝΙΑ:\n• 3 Shades of Black: stathis@thetemple.gr | jim@thetemple.gr | contact@3shadesofblack.net
URL:https://www.fuzzclub.gr/event/viagra-boys/
LOCATION:Fuzz Club\, PIREOS 209 KAI PATRIARXOU IOAKIM 1\, Athens\, Greece
CATEGORIES:Concerts
ATTACH;FMTTYPE=image/jpeg:https://www.fuzzclub.gr/wp-content/uploads/2020/04/viagra.jpg
ORGANIZER;CN="3 shades of Black":MAILTO:contact@3shadesofblack.net
END:VEVENT
END:VCALENDAR