BEGIN:VCALENDAR
VERSION:2.0
PRODID:-//Fuzz Club - ECPv6.15.17.1//NONSGML v1.0//EN
CALSCALE:GREGORIAN
METHOD:PUBLISH
X-ORIGINAL-URL:https://www.fuzzclub.gr
X-WR-CALDESC:Events for Fuzz Club
REFRESH-INTERVAL;VALUE=DURATION:PT1H
X-Robots-Tag:noindex
X-PUBLISHED-TTL:PT1H
BEGIN:VTIMEZONE
TZID:UTC
BEGIN:STANDARD
TZOFFSETFROM:+0000
TZOFFSETTO:+0000
TZNAME:UTC
DTSTART:20190101T000000
END:STANDARD
END:VTIMEZONE
BEGIN:VEVENT
DTSTART;TZID=UTC:20200307T210000
DTEND;TZID=UTC:20200307T233000
DTSTAMP:20260422T003739
CREATED:20200116T101051Z
LAST-MODIFIED:20200116T101052Z
UID:6677-1583614800-1583623800@www.fuzzclub.gr
SUMMARY:Christian Löffler
DESCRIPTION:Ο ταλαντούχος deep house και techno παραγωγός Christian Löffler\, ένας από τους πιο δημιουργικούς και καινοτόμους καλλιτέχνες της σύγχρονης ηλεκτρονικής σκηνής\, θα βρεθεί στην Αθήνα στο πλαίσιο της Ευρωπαϊκής του περιοδείας για μία και μοναδική εμφάνιση το Σάββατο 7 Μαρτίου 2020 στο Fuzz Club. \nΗ έκφραση και η καλαισθησία της μουσικής του χαρισματικού techno παραγωγού Christian Löffler\, αναδύει στην επιφάνεια και οδηγεί τους ακροατές της στο να βιώσουν ένα ευρύ φάσμα πολύπλοκων και έντονων συναισθημάτων μελαγχολίας και θλίψης ενώ ταυτόχρονα σε προχωράει σε μία διάσταση ευφορίας και ψυχικής ευεξίας με αποτέλεσμα να τον καθιστά μοναδικό στο είδος του. Η συναισθηματική επίδραση που ασκεί\, η πολυ-ποικιλότητα που διαφαίνεται στην μουσική του με προσοχή στην λεπτομέρεια και η διαφορετική προσέγγιση του στην techno μας δίνει μία καλή γεύση του εύρους του ταλέντου του και τον τοποθετούν ανάμεσα στους πιο αξιόπιστους σύγχρονους δημιουργούς. \nΣυνθέτης και εικαστικός\, ο Christian Löffler μεγάλωσε σε μία απομονωμένη επαρχία της Γερμανίας και άρχισε να ασχολείται με την μουσική στην ηλικία των 14 ετών. Ενώ όλος ο περίγυρος του πρωτοπιανόταν με την κιθάρα\, ο ίδιος έστρεψε κατευθείαν το ενδιαφέρον του στον προγραμματισμό και την παραγωγή μουσικής μέσω του υπολογιστή του. Η παραγωγή του ήχου του οφείλει την ύπαρξή της στην περιοχή που ανατράφηκε όπου και μέχρι σήμερα περνάει το μεγαλύτερο μέρος του χρόνου του. Κλεισμένος σε μια καμπίνα στην μέση του πουθενά\, ο Christian Löffler έμαθε μόνος του να χρησιμοποιεί μία ποικιλία προγραμμάτων και μουσικών οργάνων ενώ παράλληλα ανέπτυξε τις δεξιότητες του στην φωτογραφία και επιδόθηκε στην συλλογή και καταγραφή των πολλαπλών φυσικών προοπτικών του ήχου. \nΩς επί των πλείστων\, για τον Löffler η δημιουργία μουσικής ήταν ένα σημαντικό και ευχάριστο μέσο για την έκφραση και απελευθέρωση των συναισθημάτων του. Όλα άλλαξαν το 2008 με την ιδέα ενός στενού φίλου του να ιδρύσουν την δική τους δισκογραφική εταιρεία\, την Ki Records. Μέσω αυτής κυκλοφόρησε το ντεμπούτο του EP «Heights» το 2009. Μετέπειτα και σχεδόν κάθε χρόνο προχωρούσε σε κυκλοφορίες EP\, μέσω πάντα της Ki Records\, με εξαίρεση την κυκλοφορία του «York» το 2015 από την Βρετανική εταιρεία 20:20 Vision. \nΤο 2012 ανακοίνωσε το πολυαναμενόμενο άλμπουμ του «A Forest» με συμμετοχές από μουσικούς όπως Gry Bagøien και Mohna. Ακολούθησε η δεύτερη προσωπική δουλειά του το 2016 «Mare»\, το οποίο έλαβε εγκωμιαστικά σχόλια. Ένα άλμπουμ αντιπροσωπευτικό του ήχου του με αρκετά οργανικά στοιχεία\, ηχογραφήσεις πεδίου και σκοτεινά deep – house μοτίβα. Η ανοδική του πορεία δεν σταματά αλλά εκτοξεύεται\, ενσωματώνοντας όλο και περισσότερα στοιχεία techno και ambient στην μουσική του\, με την κυκλοφορία του τρίτου άλμπουμ «Graal (Prologue)»\, τον Απρίλιο του 2019\, το οποίο έλαβε διθυραμβικές κριτικές. \nΣύνδεσμοι:\nWebsite: www.christian-loeffler.net/\nFacebook: www.facebook.com/christianloefflerofficial/\nTwitter: www.twitter.com/chris_loeffler\nInstagram: www.instagram.com/christianloeffler/\nYouTube: www.youtube.com/user/medikit2 \nΕισιτήρια:\n17€ – Περιορισμένη Προπώληση \n20€ – Γενική Προπώληση\n23€ – Ταμείο  \nΔίκτυο Προπώλησης:\nOnline: https://www.viva.gr/tickets/music/fuzz-club/christian-loffler-live/\nΤηλεφωνικά: 11876 \nΣημεία Προπώλησης:\nReload Stores\nSeven Spots\nΚαταστήματα WIND\nΒιβλιοπωλεία Ευριπίδης – Evripidis Bookstores\nYoleni’s Greek Gastronomy Center Center (Σόλωνος 9)\nViva.gr Spot Τεχνόπολης (μέσα στο χώρο της Τεχνόπολης\, είσοδος από οδό Περσεφόνης\, Δευτ-Σαβ 11:00-19:00)
URL:https://www.fuzzclub.gr/event/christian-loffler/
LOCATION:Fuzz Club\, PIREOS 209 KAI PATRIARXOU IOAKIM 1\, Athens\, Greece
CATEGORIES:Concerts
ATTACH;FMTTYPE=image/jpeg:https://www.fuzzclub.gr/wp-content/uploads/2020/01/816-x-465-CHRISTIAN-LÖFFLER.jpg
END:VEVENT
END:VCALENDAR