BEGIN:VCALENDAR
VERSION:2.0
PRODID:-//Fuzz Club - ECPv6.15.17.1//NONSGML v1.0//EN
CALSCALE:GREGORIAN
METHOD:PUBLISH
X-WR-CALNAME:Fuzz Club
X-ORIGINAL-URL:https://www.fuzzclub.gr
X-WR-CALDESC:Events for Fuzz Club
REFRESH-INTERVAL;VALUE=DURATION:PT1H
X-Robots-Tag:noindex
X-PUBLISHED-TTL:PT1H
BEGIN:VTIMEZONE
TZID:UTC
BEGIN:STANDARD
TZOFFSETFROM:+0000
TZOFFSETTO:+0000
TZNAME:UTC
DTSTART:20190101T000000
END:STANDARD
END:VTIMEZONE
BEGIN:VEVENT
DTSTART;TZID=UTC:20200306T200000
DTEND;TZID=UTC:20200306T200000
DTSTAMP:20260422T003632
CREATED:20200225T115653Z
LAST-MODIFIED:20200225T115653Z
UID:6796-1583524800-1583524800@www.fuzzclub.gr
SUMMARY:Ved Buens Ende
DESCRIPTION:Η 3 Shades of Black και η Temple Productions παρουσιάζουν τους Ved Buens Ende! \nΠαρασκευή 06 Μαρτίου 2019: Fuzz Live Music Club\nSpecial guests: Insect Ark + more TBA \nΜε το «Written in Waters» να λειτουργεί ως άλλη κρυφή χειραψία στο μουσικό underground\, οι Ved Buens Ende είναι ξεκάθαρα απ’τους σημαντικότερους εκφραστές του\, με το κοινό τους να βρίσκεται αντιστοίχως στον ακραίο έως τον progressive και τον πειραματικό ήχο. \nΔημιουργημένοι από δύο πραγματικούς θρύλους της black/extreme/avant-garde metal σκηνής το 1993\, τους Carl «Czral» Michael Eide και Yusaf «Vikotnic» Parvés\, οι Ved Buens Ende επανασυνδέονται μετά από 24 χρόνια για να κάνουν πρώτη φορά live εμφανίσεις. \n«Ημασταν κι οι δύο παιδιά τότε και ο μόνος χρόνος που είχαμε για πρόβα ήταν οι μικρές νυχτερινές ώρες κι έπρεπε να δραπετεύσω απ’το σπίτι των γονιών μου» λέει ο Czral\, «ο Vikotnic πήγαινε σχολίο σε συνορεύουσα πόλη και με το που ερχόταν πίναμε μία κανάτα καφέ\, μιλούσαμε ασταμάτητα για το θάνατο κι όταν νιώθαμε έτοιμοι αρχίζαμε το τζαμάρισμα για να καταλήξουμε να δημιουργούμε ένα πολύ ιδιαίτερο είδος του metal δια μέσω των μεταμεσονύχτιων ορών». \nΜε την πρόσθεση του Hugh «Scoll» Mingay οι VBE θα κυκλοφορήσουν ένα demo\, το Those Who Caress the Pale και το ντεμπούτο και μόνο τους πλήρη δίσκο\, το Written in Waters. \nΚαι φτάνοντας στο 2020\, με πραγματική συγκίνηση μιας και αυτή η μεθυσμένη κουβέντα με το Vicotnik το 2016 έρχεται να γίνει πραγματικότητα και να φιλοξενήσουμε για δύο συναυλίες τους Ved Buens Ende στην Ελλάδα. \nΤΙΜΕΣ ΕΙΣΙΤΗΡΙΩΝ:\n• Limited: 20€\n• Προπώληση: 22€\n• Ταμείο: 25€ \nΣΗΜΕΙΑ ΠΡΟΠΩΛΗΣΗΣ:\n• Monsterville (Αγίας Ειρήνης 13\, Μοναστηράκι\, τηλ.: 2103648180)\n• Le Disque Noir Records Shop (Θεμιστοκλέους 29\, Αθήνα\, τηλ.: 211 214 3554)\n• Metal Era (Εμ. Μπενάκη 22\, τηλ.: 2103304133)\n• Τηλεφωνικά στο 11876\n• Reload Stores\n• Seven Spots\n• Βιβλιοπωλεία Ευριπίδης – Evripidis Bookstores\n• Viva Kiosks (Συνταγμα & Τεχνόπολις)\n• WIND\n• Yoleni’s Hellas (Σόλωνος 9\, Αθήνα\, τηλ.: 2122223623 – www.yolenis.com)\n• Ηλεκτρονική προπώληση: https://bit.ly/2U3rzfzLINKS:\n• 3 Shades of Black: www.facebook.com/threeshadesofblack \nΕΠΙΚΟΙΝΩΝΙΑ:\n• Website: http://thetemple.gr\n• FB: www.facebook.com/templeliveclub\n• Τηλ.: 30 210 3468523\n• E-mail: stathis@thetemple.gr\, jim@thetemple.gr
URL:https://www.fuzzclub.gr/event/ved-buens-ende/
LOCATION:Fuzz Club\, PIREOS 209 KAI PATRIARXOU IOAKIM 1\, Athens\, Greece
CATEGORIES:Concerts
ATTACH;FMTTYPE=image/jpeg:https://www.fuzzclub.gr/wp-content/uploads/2020/02/83515974_2703208529774422_1080414107233943552_o.jpg
ORGANIZER;CN="3 shades of Black":MAILTO:contact@3shadesofblack.net
END:VEVENT
END:VCALENDAR