BEGIN:VCALENDAR
VERSION:2.0
PRODID:-//Fuzz Club - ECPv6.15.17.1//NONSGML v1.0//EN
CALSCALE:GREGORIAN
METHOD:PUBLISH
X-WR-CALNAME:Fuzz Club
X-ORIGINAL-URL:https://www.fuzzclub.gr
X-WR-CALDESC:Events for Fuzz Club
REFRESH-INTERVAL;VALUE=DURATION:PT1H
X-Robots-Tag:noindex
X-PUBLISHED-TTL:PT1H
BEGIN:VTIMEZONE
TZID:UTC
BEGIN:STANDARD
TZOFFSETFROM:+0000
TZOFFSETTO:+0000
TZNAME:UTC
DTSTART:20190101T000000
END:STANDARD
END:VTIMEZONE
BEGIN:VEVENT
DTSTART;TZID=UTC:20200222T220000
DTEND;TZID=UTC:20200223T170000
DTSTAMP:20260422T040145
CREATED:20200219T123642Z
LAST-MODIFIED:20200219T123642Z
UID:6793-1582408800-1582477200@www.fuzzclub.gr
SUMMARY:Guilty Pleasure Nights party
DESCRIPTION:Guilty Pleasure Nights party: 1000 & 1 νύχτες! Σάββατο 22 Φεβρουαρίου στο Fuzz Club» \nΥπάρχουν στιγμές που φοράς ακουστικά στη δουλειά\, γιατί ντρέπεσαι που έχεις τέρμα Justin Bieber; Ακούς φανατικά Florence + the Machine\, αλλά έχεις και αδυναμία στη Μαντώ και την Αλέξια; Πήγες με την παρέα στη συναυλία των Pet Shop Boys\, αλλά πήγες μόνος και κρυφά στον Μιχάλη Ρακιντζή; Τα Guilty Pleasure Nights κάνουν πραγματικότητα τα πιο απενοχοποιημένα parties της Αθήνας\, για να μην χρειαστεί ποτέ ξανά να έρθεις σε δύσκολη θέση για τις μουσικές που σου αρέσουν! \nΜε την υποστήριξη των ραδιοφωνικών σταθμών RED 96.3 – En Lefko 87.7 – HiT 88.9 – Μελωδία 99.2\, ο Ηλίας Φραγκούλης και ο Σπύρος Παγιατάκης κρίνονται ΕΝΟΧΟΙ και σε υποδέχονται στην πίστα ως Host DJs\, φροντίζοντας να περάσεις τουλάχιστον τέλεια. \nΑπό την πρώτη διοργάνωση στη Death Disco (Νοέμβριος του 2016)\, η οποία συγκέντρωσε 500 άτομα\, μέχρι το τελευταίο sold out Guilty Pleasure Night τον περασμένο Νοέμβριο στο Fuzz Club\, τα talk-of-the-town πλέον parties της Αθήνας αύξησαν τα νούμερα προσέλευσής τους κατά 100%\, χάρη στην απενοχοποιημένη αισθητική και την απελευθερωμένη τους διάθεση. Τι σημαίνει αυτό; Live performances\, διαγωνισμοί karaoke\, lip synch battles\, δώρα\, εκπλήξεις – you name it! \nΣτα Guilty Pleasure Nights\, είμαστε όλοι ΕΝΟΧΟΙ. Και μας αρέσει! \n 
URL:https://www.fuzzclub.gr/event/guiltypleasure/
LOCATION:Fuzz Club\, PIREOS 209 KAI PATRIARXOU IOAKIM 1\, Athens\, Greece
CATEGORIES:Concerts
ATTACH;FMTTYPE=image/jpeg:https://www.fuzzclub.gr/wp-content/uploads/2020/02/1080x1080.jpg
END:VEVENT
END:VCALENDAR