BEGIN:VCALENDAR
VERSION:2.0
PRODID:-//Fuzz Club - ECPv6.15.17.1//NONSGML v1.0//EN
CALSCALE:GREGORIAN
METHOD:PUBLISH
X-ORIGINAL-URL:https://www.fuzzclub.gr
X-WR-CALDESC:Events for Fuzz Club
REFRESH-INTERVAL;VALUE=DURATION:PT1H
X-Robots-Tag:noindex
X-PUBLISHED-TTL:PT1H
BEGIN:VTIMEZONE
TZID:UTC
BEGIN:STANDARD
TZOFFSETFROM:+0000
TZOFFSETTO:+0000
TZNAME:UTC
DTSTART:20190101T000000
END:STANDARD
END:VTIMEZONE
BEGIN:VEVENT
DTSTART;TZID=UTC:20200221T220000
DTEND;TZID=UTC:20200222T220000
DTSTAMP:20260422T022917
CREATED:20200217T152603Z
LAST-MODIFIED:20200217T152603Z
UID:6784-1582322400-1582408800@www.fuzzclub.gr
SUMMARY:The EPIC Carnival Party - Athens - 21/2
DESCRIPTION:Tο EPIC επιστρέφει για ένα ΕΚΡΗΚΤΙΚΟ ΚΑΡΝΑΒΑΛΙΚΟ Party! \nΈνα μουσικό ταξίδι με όλα τα αγαπημένα μας GUILTY PLEASURES και PARTY ANTHEMS από τα 80s μέχρι και σήμερα. \n80s / 90s / 00s / POP / DISCO / RNB / TRASH \nΠαρασκευή 21 Φεβρουαρίου\nFuzz Live Music Club\nΏρα έναρξης: 22:00\nΕίσοδος : 5€ \n \nEPIC returns for an EPIC Carnival Party at Fuzz Club. A nostalgic trip from 80s till today\, featuring the best dance PARTY ANTHEMS and GUILTY PLEASURE songs. \nFriday 21 February\nFuzz Live Music Club\nStarts: 22:00\nEntrance fee: 5€
URL:https://www.fuzzclub.gr/event/the-epic-carnival-party-athens-21-2/
LOCATION:Fuzz Club\, PIREOS 209 KAI PATRIARXOU IOAKIM 1\, Athens\, Greece
CATEGORIES:Concerts
ATTACH;FMTTYPE=image/jpeg:https://www.fuzzclub.gr/wp-content/uploads/2020/02/epic.jpg
END:VEVENT
END:VCALENDAR