BEGIN:VCALENDAR
VERSION:2.0
PRODID:-//Fuzz Club - ECPv6.15.17.1//NONSGML v1.0//EN
CALSCALE:GREGORIAN
METHOD:PUBLISH
X-ORIGINAL-URL:https://www.fuzzclub.gr
X-WR-CALDESC:Events for Fuzz Club
REFRESH-INTERVAL;VALUE=DURATION:PT1H
X-Robots-Tag:noindex
X-PUBLISHED-TTL:PT1H
BEGIN:VTIMEZONE
TZID:UTC
BEGIN:STANDARD
TZOFFSETFROM:+0000
TZOFFSETTO:+0000
TZNAME:UTC
DTSTART:20190101T000000
END:STANDARD
END:VTIMEZONE
BEGIN:VEVENT
DTSTART;TZID=UTC:20200118T210000
DTEND;TZID=UTC:20200118T210000
DTSTAMP:20260422T041500
CREATED:20191228T072054Z
LAST-MODIFIED:20191228T072251Z
UID:6662-1579381200-1579381200@www.fuzzclub.gr
SUMMARY:Συναυλία παραδοσιακής μουσικής
DESCRIPTION:ΣΥΝΤΡΟΦΙΑ ΒΛΑΧΩΝ ΑΘΗΝΑΣ \nΣυναυλία παραδοσιακής μουσικής – Βλάχικο Γλέντι \nΜε τους Κυρατζήδες  \nΣτο Fuzz\, Πειραιώς 209 18 Ιανουαρίου 2020 \nΗ Συντροφιά Βλάχων Αθήνας υποδέχεται τον νέο χρόνο με μια μεγάλη μουσική συναυλία παραδοσιακής μουσικής\, η οποία θα πραγματοποιηθεί στον συναυλιακό χώρο FUZZ (Πειραιώς 209\, Ταύρος) το Σάββατο 18 Ιανουαρίου 2020. \nΗ Συναυλία – γλέντι βλαχικής παραδοσιακής μουσικής εντάσσεται στο πλαίσιο της οικονομικής ενίσχυσης των δράσεων της Συντροφιάς\, οι οποίες αφορούν τη διάσωση και διδασκαλία της βλάχικης γλώσσας και την ανάδειξη συνολικότερα του πλούτου του βλάχικου πολιτισμού. \nΤα μέλη της γνωστής κομπανίας παραδοσιακής μουσικής «Κυρατζήδες» υπόσχονται ένα μοναδικό μουσικό ταξίδι στα μονοπάτια της κορυφογραμμής της Πίνδου ακολουθώντας τα χνάρια των βλάχικων καραβανιών ανά τους αιώνες. Στο πλάι τους ο δεξιοτέχνης του ασπροποταμίτικου κλαρίνου Δημήτρης Λεβέντης και οι αυθεντικές αρβανιτοβλάχικες φωνές του Ηλία Μπάσο και του Λεωνίδα Μεντή. \nΣας περιμένουμε όλους και όλες για μια μοναδική και απολαυστική μουσική βραδιά στο κέντρο της Αθήνας\, της μεγαλύτερης βλαχούπολης του κόσμου! \n  \nΠληροφορίες \nΓενική είσοδος: προπώληση 8 ευρώ\, ταμείο 10 ευρώ \nΏρα έναρξης: 9 μ.μ. \n  \nΣημεία και τρόποι προ-αγοράς των προσκλήσεων: \n\n Κέντρο Αθήνας\n\nΣτο χώρο των μαθημάτων γλώσσας και χορού της Συντροφιάς\, Πολυχώρος Welcommonhostel\, Καποδιστρίου 4\, τηλ. 210 3810.646 \nΣτο Καφενείο Ναυαρίνου\, Ναυαρίνου 17 στα Εξάρχεια\, τηλ. 210 3840.107 \n\n Πλατεία Βικτωρίας\, Κυψέλη\, Γαλάτσι\n\nΚωνσταντίνος τηλ. 6984 978.341\, Αποστόλης τηλ. 6977 122.830 και Βασούλα 6937 287.620 \n\n Βόρεια (Μαρούσι\, Πεύκη\, Μελίσσια\, Ηράκλειο\, Ν. Ιωνία)\n\nΣτέφανος τηλ. 6932 722.777 \n\n Ανατολικά (Αρτέμιδα\, Ραφήνα\, Πικέρμι\, Πεντέλη\, Μαρκόπουλο)\n\nΘανάσης τηλ. 6941 557.625 \n\n Δυτικά (Περιστέρι\, Πετρούπολη\, Αιγάλεω)\n\nΣτέφανος τηλ. 6932 722.777
URL:https://www.fuzzclub.gr/event/%cf%83%cf%85%ce%bd%ce%b1%cf%85%ce%bb%ce%af%ce%b1-%cf%80%ce%b1%cf%81%ce%b1%ce%b4%ce%bf%cf%83%ce%b9%ce%b1%ce%ba%ce%ae%cf%82-%ce%bc%ce%bf%cf%85%cf%83%ce%b9%ce%ba%ce%ae%cf%82/
LOCATION:Fuzz Club\, PIREOS 209 KAI PATRIARXOU IOAKIM 1\, Athens\, Greece
CATEGORIES:Concerts
ATTACH;FMTTYPE=image/jpeg:https://www.fuzzclub.gr/wp-content/uploads/2019/12/glenti20.jpg
END:VEVENT
END:VCALENDAR