BEGIN:VCALENDAR
VERSION:2.0
PRODID:-//Fuzz Club - ECPv6.15.17.1//NONSGML v1.0//EN
CALSCALE:GREGORIAN
METHOD:PUBLISH
X-ORIGINAL-URL:https://www.fuzzclub.gr
X-WR-CALDESC:Events for Fuzz Club
REFRESH-INTERVAL;VALUE=DURATION:PT1H
X-Robots-Tag:noindex
X-PUBLISHED-TTL:PT1H
BEGIN:VTIMEZONE
TZID:UTC
BEGIN:STANDARD
TZOFFSETFROM:+0000
TZOFFSETTO:+0000
TZNAME:UTC
DTSTART:20180101T000000
END:STANDARD
END:VTIMEZONE
BEGIN:VEVENT
DTSTART;TZID=UTC:20191214T200000
DTEND;TZID=UTC:20191214T200000
DTSTAMP:20260422T060305
CREATED:20190920T053350Z
LAST-MODIFIED:20191211T123902Z
UID:6049-1576353600-1576353600@www.fuzzclub.gr
SUMMARY:Hooverphonic
DESCRIPTION:Oι Hooverphonic επιστρέφουν στη χώρα μας για δύο μοναδικές βραδιές\, γεμάτες από τις επιτυχίες που αγαπά το ελληνικό κοινό\, την Παρασκευή 13 Δεκεμβρίου στο Fix Factory of sound της Θεσσαλονίκης και το Σάββατο 14\, στο Fuzz live music club στην Αθήνα. \nΠρόλαβε το εισιτήριό σου!\nΤο πρόγραμμα:\nΠόρτες / ταμείο 20:00\nMarva von Theo 21:25\nHooverphonic 22:30 \n \n\n \nΕτοιμαστείτε να ξανακούσουμε live όλες τις μεγάλες επιτυχίες τους: “Mad About You“\, “Eden“\, “Inhaler“\, “2 Wicky“\, “Jackie Cane”\, “Sometimes”\, “Club Montepulciano“\, “Vinegar & Salt”\, “This Strange Effect“\, “Gentle Storm”\, “Amalfi” και πολλές ακόμα. \nΥπεύθυνοι για μερικές από τις πιο υπέροχες μελωδίες που έχουμε ακούσει τα τελευταία 25 χρόνια\, οι Alex Callier και Raymond Geerts\, έχουν κατορθώσει να συνδυάσουν με μοναδικό τρόπο στοιχεία από alternative rock\, electro-pop\, trip-hop\, dream-pop με μία ρομαντική κινηματογραφική αισθητική. \nΠαραθέτουν δισκογραφικά και επί σκηνής\, σε ένα άψογα προσεγμένο show\, τις πολυποίκιλες επιρροές τους\, δημιουργώντας την ιδανική ατμόσφαιρα που ζητά ο καθένας σε μια συναυλία. Την ίδια στιγμή\, το μεγάλο “όπλο” τους είναι μια νέα τραγουδίστρια\, η 18χρονη Luka Cruysberghs. Με τεράστιες φωνητικές ικανότητες\, κατόρθωσε να χρωματίσει τον ήχο τους άμεσα\, αποδίδοντας ιδανικά τόσο το νέο όσο και το παλαιότερο υλικό της μπάντας\, κάτι που διαπιστώσαμε και το καλοκαίρι. \nO τελευταίος δίσκος τους\, “Looking For Stars”\, 10ος της καριέρας τους\, κυκλοφόρησε πριν λίγους μήνες\, χαρίζοντάς μας πανέμορφα singles\, όπως το σαγηνευτικό “Romantic” και το funky “Uptight”\, που έχουν ήδη κατακτήσει το ελληνικό airplay\, μαζί και με το “Looking For Stars”\, το εντυπωσιακό video του οποίου γυρίστηκε στο παλιό αεροδρόμιο του Ελληνικού. \nInfo | Music \nwww.hooverphonic.com\nhttps://www.facebook.com/HooverphonicOff/\nhttps://www.instagram.com/hooverphonicoff/\nhttps://twitter.com/hooverphonicoff\nwww.youtube.com/user/hooverphonicVEVO \nΤιμές εισιτηρίων:\nΑθήνα (14/12) / 25 ευρώ (προπώληση) – 30 ευρώ (ταμείο)\nΘεσσαλονίκη (13/12) / 23 ευρώ (προπώληση) – 28 ευρώ (ταμείο) \nΔιάθεση: \nΤηλεφωνικά / στο 11876\nOnline / viva.gr \nΦυσικά σημεία / Kαταστήματα Reload\, Seven Spots\, Media Markt\, Ευριπίδης\, στον πολυχώρο Yoleni‘s (Σόλωνος 9\, καθημερινά 8:00-00:00\, Σάββατο 9:00-00:00\, Κυριακή 10:00-20:00) και στο Viva Spot Τεχνόπολης (μέσα στον χώρο της Τεχνόπολης\, είσοδος από οδό Περσεφόνης\, Δευτ-Σαβ 11:00-19:00) \nΟι πόρτες ανοίγουν στις 20:00. To ακριβές πρόγραμμα και το support act θα γίνουν γνωστά από www.fuzzclub.gr / www.fixfactoryofsound.gr και τα social media. \nΕπικοινωνία:\nΘωμάς Μαχαίρας / thomasmachairas@fuzzproductions.gr/ 6936 161979\nΓιάννης Λυμπέρης / johnlimberis@fuzzproductions.gr / 6945 622781\nΙωάννα Μεταξοπούλου (Θεσσαλονίκη) / metaxopoulou@gmail.com / 6944 188878
URL:https://www.fuzzclub.gr/event/hooverphonic-2/
LOCATION:Fuzz Club\, PIREOS 209 KAI PATRIARXOU IOAKIM 1\, Athens\, Greece
CATEGORIES:Concerts
ATTACH;FMTTYPE=image/jpeg:https://www.fuzzclub.gr/wp-content/uploads/2019/09/hoover.jpg
END:VEVENT
END:VCALENDAR