BEGIN:VCALENDAR
VERSION:2.0
PRODID:-//Fuzz Club - ECPv6.15.17.1//NONSGML v1.0//EN
CALSCALE:GREGORIAN
METHOD:PUBLISH
X-WR-CALNAME:Fuzz Club
X-ORIGINAL-URL:https://www.fuzzclub.gr
X-WR-CALDESC:Events for Fuzz Club
REFRESH-INTERVAL;VALUE=DURATION:PT1H
X-Robots-Tag:noindex
X-PUBLISHED-TTL:PT1H
BEGIN:VTIMEZONE
TZID:UTC
BEGIN:STANDARD
TZOFFSETFROM:+0000
TZOFFSETTO:+0000
TZNAME:UTC
DTSTART:20180101T000000
END:STANDARD
END:VTIMEZONE
BEGIN:VEVENT
DTSTART;TZID=UTC:20191208T200000
DTEND;TZID=UTC:20191208T200000
DTSTAMP:20260422T060238
CREATED:20191002T065259Z
LAST-MODIFIED:20191002T065259Z
UID:6161-1575835200-1575835200@www.fuzzclub.gr
SUMMARY:Scott Bradlee's Postmodern Jukebox
DESCRIPTION:Welcome to the Twenties 2.0 World Tour Κυριακή 08 Δεκεμβρίου 2019 – Fuzz Club \nA Great Gatsby party…in 2019 \n“Αμερική\, αρχές 1920. Σε μία πολυτελή έπαυλη\, δίπλα στην πισίνα με θέα την ακτή\, άνδρες με κοστούμια και παπιγιόν και γυναίκες με φορέματα μέχρι το γόνατο\, πέρλες στο λαιμό και μαλλιά κομμένα καρέ\, πίνουν Cosmopolitan και χορεύουν στους ρυθμούς της live μπάντας που βρίσκεται εκεί για να τους διασκεδάσει”. \nΗ παραπάνω σκηνή μοιάζει να έχει βγει από τις σελίδες του Great Gatsby. Όταν όμως οι μουσικοί εκτελούν τις μεγαλύτερες επιτυχίες των τελευταίων δεκαετιών\, σε ρυθμούς jazz\, swing\, foxtrot και soul\, τότε μόλις ήρθατε στο μεγάλο party των Postmodern Jukebox! \nΈτοιμοι για ένα tap dance υπό τους “ήχους” του Bad Romance;\nΗ ιστορία αυτής της μουσικής “κολεκτίβας” δεν είναι σε καμία περίπτωση συνηθισμένη. \nΟ Scott Bradlee ξεκίνησε το 2009 να επανεκτελεί γνωστά τραγούδια σε πιο…jazz εκδοχή θέλοντας να βρει έναν ενδιαφέροντα τρόπο για να εξασκηθεί στο πιάνο. Λίγα χρόνια αργότερα\, αποφασίζει τη δημιουργία ενός σχήματος\, μιας συνάντησης διαφορετικών μουσικών με κοινή αγάπη στο πιάνο και το Motown! \nΕκτός από τον ιδρυτή και ιθύνοντα νου\, Scott Bradlee\, τα μέλη των PMJ δεν είναι σταθερά. Αντίθετα εναλλάσσονται – ξεπερνώντας συνολικά τα 70 – αναλόγως τη διασκευή\, ώστε το αποτέλεσμα κάθε φορά να είναι μοναδικό! \nΜετρούν περισσότερες από ένα δισεκατομμύριο προβολές στο YouTube και εκατομμύρια followers. Μάλιστα\, αναρτώντας κάθε εβδομάδα ένα νέο video\, οι PMJ φροντίζουν να ικανοποιούν τους φανατικούς οπαδούς τους και\, φυσικά\, να ανανεώνονται τα playlist μας! \nΤο “Motown Tribute to Nickelback” κέρδισε τις εντυπώσεις και έδωσε στους PMJ το ιδανικό έναυσμα για να συνεχίσουν να προσεγγίζουν με τον δικό τους\, ξεχωριστό τρόπο\, τις μεγαλύτερες ραδιοφωνικές επιτυχίες. Έτσι\, εκτός από τους Nickelback\, Eminem\, Adele\, Lady Gaga\, Sia\, Rihanna\, Justin Bieber\, Katy Perry και Metallica είναι μόνο μερικοί από εκείνους που «ταξιδεύουν» σε δεκαετίες που κανείς δεν θα μπορούσε ποτέ να φανταστεί! \nΌπως σχολιάζει κι ο ίδιος ο Bradlee για την επερχόμενη Welcome to the Twenties 2.0 περιοδεία των PMJ\, «χρησιμοποιούμε το μικρό μερίδιο που έχουμε στην ποπ κουλτούρα για να προτρέψουμε το κοινό να ξεχάσει τα προβλήματά του και να έρθει σε εμάς\, για μία βραδιά που θα γιορτάσουμε το πραγματικό μουσικό ταλέντο και το διαχρονικό στυλ – ζωντανά και στην πραγματική ζωή». \nΔύο μήνες λοιπόν πριν ανακαλύψουμε τι μας επιφυλάσσει το 2020\, οι Scott Bradlee’s Postmodern Jukebox μας ταξιδεύουν στον χρόνο\, σε ένα εντυπωσιακό 1920s party με 2020s δημιουργίες!\nΦέρτε την καλή σας διάθεση\, βρείτε τον χορευτικό σας παρτενέρ και ετοιμαστείτε για χορό! \nΜέχρι το ραντεβού μας την Κυριακή 8 Δεκεμβρίου στο Fuzz Club\, απολαύστε τις playlists των PMJ: \nWeb: http://postmodernjukebox.com/\nYouTube: https://www.youtube.com/user/ScottBradleeLovesYa\nFacebook: https://www.facebook.com/postmodernjukebox\nSpotify: https://open.spotify.com/artist/5HYNPEO2NNBONQkp3Mvwvc \nSCOTT BRADLEE’S POSTMODERN JUKEBOX \nΚυριακή 8 Δεκεμβρίου – Fuzz Club \nΚάντε attend στην εκδήλωση στο Facebook εδώ \n\nΗ προπώληση συνεχίζεται\nΤα εισιτήρια γενικής εισόδου κοστίζουν 30€ \nVIP Meet & Greet – 172\,7 € (Διαθέσιμα αποκλειστικά ηλεκτρονικά και σε εξαιρετικά περιορισμένο αριθμό. Ισχύει όριο αγοράς 8 εισιτηρίων) \nΣτο VIP πακέτο περιλαμβάνονται:\nΕισιτήριο γενικής εισόδου\nΑποκλειστική δυνατότητα για Meet & Greet με τους Postmodern Jukebox\nΑναμνηστική φωτογραφία με τους Postmodern Jukebox\nΣυλλεκτική υπογεγραμμένη αφίσα του Welcome to the Twenties 2.0 Tour\nΑναμνηστικό πάσο του Welcome to the Twenties 2.0 Tour \nΣημεία Προπώλησης\nwww.highpriority.gr\nwww.ticketmaster.gr\nΤηλεφωνικό Kέντρο Ticketmaster 210 893 8111\nΔίκτυο καταστημάτων Public\n* Για αγορές μέσω internet υπάρχει επιβάρυνση 10% στην τιμή του εισιτηρίου \nΦυσικό σημείο προπώλησης (διαθέσιμα μόνο τα εισιτήρια γενικής εισόδου):\nReload Stores\nΑκαδημίας 81\, Αθήνα\nΩράριο λειτουργίας:\nΔευτέρα έως Παρασκευή 09:30-21:00\nΣάββατο 10:00-20:00 \n  \n 
URL:https://www.fuzzclub.gr/event/scott-bradlees-postmodern-jukebox/
LOCATION:Fuzz Club\, PIREOS 209 KAI PATRIARXOU IOAKIM 1\, Athens\, Greece
CATEGORIES:Concerts
ATTACH;FMTTYPE=image/png:https://www.fuzzclub.gr/wp-content/uploads/2019/10/PMJ-1920x1011.png
END:VEVENT
END:VCALENDAR