BEGIN:VCALENDAR
VERSION:2.0
PRODID:-//Fuzz Club - ECPv6.15.17.1//NONSGML v1.0//EN
CALSCALE:GREGORIAN
METHOD:PUBLISH
X-WR-CALNAME:Fuzz Club
X-ORIGINAL-URL:https://www.fuzzclub.gr
X-WR-CALDESC:Events for Fuzz Club
REFRESH-INTERVAL;VALUE=DURATION:PT1H
X-Robots-Tag:noindex
X-PUBLISHED-TTL:PT1H
BEGIN:VTIMEZONE
TZID:UTC
BEGIN:STANDARD
TZOFFSETFROM:+0000
TZOFFSETTO:+0000
TZNAME:UTC
DTSTART:20180101T000000
END:STANDARD
END:VTIMEZONE
BEGIN:VEVENT
DTSTART;TZID=UTC:20191123T200000
DTEND;TZID=UTC:20191123T200000
DTSTAMP:20260422T075809
CREATED:20190525T112257Z
LAST-MODIFIED:20190525T112257Z
UID:5604-1574539200-1574539200@www.fuzzclub.gr
SUMMARY:Candlemass
DESCRIPTION:Οι θρύλοι του doom metal επιστρέφουν στην Αθήνα για ένα μεγάλο live!\nΗ φωνή του μνημειώδους Epicus Doomicus Metallicus\, Johan Längqvist ξανά πίσω από το μικρόφωνο!\nΗ προπώληση ξεκίνησε! http://bit.ly/CandlemassAthens \nΟι Σουηδοί Candlemass επιστρέφουν στην Αθήνα\, το Σάββατο 23 Νοεμβρίου στο Fuzz Club\, για να γιορτάσουν μία επανένωση για την οποία οι απανταχού metalheads χρειάστηκε να περιμένουν τρεις δεκαετίες! \nΗ πρώτη κυκλοφορία των Candlemass\, “Epicus Doomicus Metallicus” αποτελεί ακρογωνιαίο λίθο της πορείας του συγκροτήματος και σημείο μηδέν της ιστορίας του Doom Metal! Ένας δίσκος as black as Black Sabbath! \nΤο αριστουργηματικό Epicus Doomicus διαδέχεται το επίσης κλασικό Nightfall και μία σειρά ακόμη κυκλοφοριών (Ancient Dreams\, Tales of Creation\, Chapter VI) που επιβεβαιώνουν τους Candlemass που εδραίωσε την μπάντα στις κορυφαίες του είδους\, πάντοτε πιστή στην μουσική που τόσο ευλαβικά υπηρετεί υπό τον χαρισματικό ηγέτη της\, Leif Edling (μπάσο). Το 2012\, οι Candlemass κυκλοφορούν το Psalms of the Dead κι έκτοτε οι οπαδοί τους περίμεναν με ανυπομονησία την μεγάλη δισκογραφική επιστροφή τους. \nΚι αυτή η επιστροφή ήρθε. Και ήταν αναπάντεχη. Τον Σεπτέμβρη του 2018 ανακοινώνεται η νέα κυκλοφορία του συγκροτήματος\, με τον Johan Längqvist στα φωνητικά! Η φωνή του Epicus Doomicus Metallicus γυρνά full-time στους Candlemass\, και μαζί με αυτόν\, η μπάντα εκφράζει τον σκοπό της «να επιστρέψει στις ρίζες της\, πίσω στην ψυχή και την ουσία του συγκροτήματος». \nΗ κυκλοφορία του δωδέκατου studio album τους\, The Door to Doom στις αρχές του 2019\, δέχεται διθυραμβικές κριτικές και αμέσως ξεχωρίζει ως μια από τις κορυφαίες κυκλοφορίες του έτους! \nΑνοίγοντας την πόρτα στο παρελθόν τους\, φτάνοντας στις ρίζες του doom\, η κορύφωση έρχεται με την συνεργασία τους με την απόλυτη metal επιρροή τους! Το τρίλεπτο σόλο του Tony Iommi στο αμιγώς Sabbath-ικό Astorolus-The Great Octopus αποτελεί την απόλυτη heavy metal συνεργασία και την μεγαλύτερη έκπληξη που επιφύλασσαν οι Σουηδοί στους πιστούς οπαδούς τους. Πρόκειται μάλιστα για την πρώτη μουσική εμφάνισή του Iommi μετά την τελευταία συναυλία των Black Sabbath στο Birmingham το 2017! \nΜε εμφανίσεις στα μεγαλύτερα metal φεστιβάλ (Grasspop\, Hellfest\, Barcelona RockFest\, Bang Your Head)\, οι Candlemass επισκέπτονται το Fuzz Club το Σάββατο 23 Νοεμβρίου και στις αποσκευές τους φέρνουν έναν εξαιρετικό νέο δίσκο με την επιστροφή του Johan Längqvist και φυσικά τους μεγαλύτερους doom ύμνους από την εποχή του Epicus Doomicus. \nΗ ηλεκτρονική προπώληση ξεκίνησε – http://bit.ly/CandlemassAthens \nΤα εισιτήρια ξεκινούν από 28 € \nΣημεία Προπώλησης\nwww.highpriority.gr & www.ticketmaster.gr\nΤηλεφωνικό Kέντρο Ticketmaster 210 893 8111\nΔίκτυο καταστημάτων Public\n* Για αγορές μέσω internet υπάρχει επιβάρυνση 10% στην τιμή του εισιτηρίου \nΦυσικά σημεία προπώλησης: \nReload Stores\nΑκαδημίας 81\, Αθήνα\nΩράριο λειτουργίας:\nΔευτέρα έως Παρασκευή 09:30-21:00\nΣάββατο 10:00-20:00 \nNo Remorse Records\nΓαμβέτα 4\, Αθήνα\nΩράριο λειτουργίας:\nΔευτέρα\, Τετάρτη\, Σάββατο: 09:30-15:30\nΤρίτη\, Πέμπτη\, Παρασκευή: 09:30-20:30 \nMetal Era\nΕμμανουήλ Μπενάκη 22\, Αθήνα\nΩράριο λειτουργίας:\nΔευτέρα\, Τετάρτη\, Σάββατο: 09:30-15:15\nΤρίτη\, Πέμπτη\, Παρασκευή: 09:30-20:30
URL:https://www.fuzzclub.gr/event/candlemass/
LOCATION:Fuzz Club\, PIREOS 209 KAI PATRIARXOU IOAKIM 1\, Athens\, Greece
CATEGORIES:Concerts
ATTACH;FMTTYPE=image/jpeg:https://www.fuzzclub.gr/wp-content/uploads/2019/05/1920x1080_Candlemass.jpg
END:VEVENT
END:VCALENDAR