BEGIN:VCALENDAR
VERSION:2.0
PRODID:-//Fuzz Club - ECPv6.15.17.1//NONSGML v1.0//EN
CALSCALE:GREGORIAN
METHOD:PUBLISH
X-ORIGINAL-URL:https://www.fuzzclub.gr
X-WR-CALDESC:Events for Fuzz Club
REFRESH-INTERVAL;VALUE=DURATION:PT1H
X-Robots-Tag:noindex
X-PUBLISHED-TTL:PT1H
BEGIN:VTIMEZONE
TZID:UTC
BEGIN:STANDARD
TZOFFSETFROM:+0000
TZOFFSETTO:+0000
TZNAME:UTC
DTSTART:20180101T000000
END:STANDARD
END:VTIMEZONE
BEGIN:VEVENT
DTSTART;TZID=UTC:20191121T080000
DTEND;TZID=UTC:20191121T170000
DTSTAMP:20260422T075803
CREATED:20190910T072201Z
LAST-MODIFIED:20191120T054122Z
UID:5971-1574323200-1574355600@www.fuzzclub.gr
SUMMARY:Deerhunter
DESCRIPTION:Οι Αμερικανοί Deerhunter\, μία από τις καλύτερες μπάντες των τελευταίων 15 ετών\, έρχονται για πρώτη φορά στη χώρα μας\, την Πέμπτη 21 Νοεμβρίου\, στο Fuzz Live Music Club\, για μία συναυλία που προβλέπεται συναρπαστική! \n \n\n \nΤο πρόγραμμα:\nΠόρτες\, ταμείο 20:00\nΜοοn Diagrams 21:20\nDeerhunter 22:30 \nOι Moon Diagrams θα είναι το opening act στην πολυαναμενόμενη συναυλία της Πέμπτης.\nΤο προσωπικό “όχημα” του Moses John Archuleta\, ντράμερ και ιδρυτή των Deerhunter\, “διυλίζει” pop επιρροές μέσα από ακαθόριστο θόρυβο\, προσφέροντας μια minimal ηχητική άποψη\, που ο ίδιος επιδιώκει να λειτουργήσει στο υποσυνείδητό μας. \n—————————————– \nΑπό το ξεκίνημά τους\, το 2001 στην Atlanta των ΗΠΑ\, δεν συμβιβάστηκαν ποτέ με οποιαδήποτε μόδα και συγκεκριμένο ήχο. Κέρδισαν άμεσα μία πρωτοφανή κριτική αποδοχή\, ακόμα και με τις πιο πρώιμες κυκλοφορίες τους\, θέτοντας τα δικά τους όρια που εκτείνονται από την psych-pop\, το alt-rock έως την experimental lo-fi και το noise rock\, εξερευνώντας ταυτόχρονα το garage rock και το shoegaze\, με μια μόνιμη υπερβατική προσέγγιση την οποία οι ίδιοι ονομάζουν “ambient punk”. \nΟ χαρισματικός frontman Bradford Cox ηγείται μιας μοναδικής πορείας\, από το θορυβώδες ντεμπούτο “Turn It Up Faggot“ (2005) έως το φετινό πανέμορφο “Why Hasn‘t Everything Already Disappeared?”\, κατά τη διάρκεια της οποίας οι Deerhunter αλλάζουν κατεύθυνση ανά πάσα στιγμή. Albums όπως τα καταπληκτικά “Monomania”\, “Halcyon Digest”\, “Fading Frontier” και κομμάτια που έχουν χαρακτηρίσει την εναλλακτική σκηνή των δύο τελευταίων δεκαετιών (“Nothing Ever Happened“\, “Desire Lines“\, “Helicopter“\, “Breaker“\, “Back To The Middle“\, “Fluorescent Grey“) φανερώνουν μία μπάντα που έχει τη δυνατότητα και την ανησυχία να αλλάζει σαν χαμαιλέοντας και ταυτόχρονα να παραμένει σε ένα απίστευτα υψηλό επίπεδο σε κάθε νέα της κυκλοφορία\, χωρίς την παραμικρή εξαίρεση. \nΟι Deerhunter ηχούν ώριμοι και φρέσκοι την ίδια στιγμή\, γεμάτοι νέες ιδέες\, είτε στην σύνθεση είτε στην εκτέλεση. Είναι αδύνατο να τοποθετήσεις χρονικά κάθε δίσκο και κάθε τραγούδι τους αν δεν έχεις ιδέα ποιοί είναι. Δεν νοσταλγούν δεκαετίες και κινήματα\, δημιουργούν και κοιτάζουν μπροστά. \nΗ 21η Νοεμβρίου είναι η ημερομηνία που οφείλει να σημειώσει κάθε συνειδητοποιημένος μουσικόφιλος\, καθώς είναι λίγες οι φορές που έχουμε την ευκαιρία να παρακολουθήσουμε από κοντά μία τόσο σημαντική μπάντα. Οι Deerhunter είναι εκ των αδιαφιλονίκητων ηγετών της γενιάς τους και έρχονται στην χώρα μας τη στιγμή που πρέπει! \nΗ προπώληση ξεκινάει στα 23 ευρώ και για περιορισμένο αριθμό εισιτηρίων. \nΜετά την εξάντλησή τους\, θα συνεχιστεί στα 25 ευρώ. Στο ταμείο\, η τιμή θα είναι 28 ευρώ. \nΔιάθεση εισιτηρίων:\nΤηλεφωνικά / στο 11876 \nOnline: www.viva.gr & www.fuzzclub.gr/event/deerhunter/ \nΦυσικά σημεία: Kαταστήματα Reload\, Seven Spots\, Media Markt\, Ευριπίδης\, στον πολυχώρο Yoleni‘s (Σόλωνος 9\, καθημερινά 8:00-00:00\, Σάββατο 9:00-00:00\, Κυριακή 10:00-20:00) και στο Viva Spot Τεχνόπολης (μέσα στον χώρο της Τεχνόπολης\, είσοδος από οδό Περσεφόνης\, Δευτ-Σαβ 11:00-19:00) \nDeerhunter  + opening act (tba) \nΠέμπτη 21/11\, Fuzz Live Music Club (Πειραιώς 209 & Πατριάρχου Ιωακείμ 1\, Ταύρος\, Αθήνα\, 210 3450817\, www.fuzzclub.gr \nΟι πόρτες ανοίγουν στις 20:00. \nΠληροφορίες:\nOfficial site\nFacebook\nInstagram \nΕπικοινωνία:\nΘωμάς Μαχαίρας / thomasmachairas@fuzzproductions.gr/ 6936 161979\nΓιάννης Λυμπέρης / johnlimberis@fuzzproductions.gr / 6945 622781
URL:https://www.fuzzclub.gr/event/deerhunter/
LOCATION:Fuzz Club\, PIREOS 209 KAI PATRIARXOU IOAKIM 1\, Athens\, Greece
CATEGORIES:Concerts
ATTACH;FMTTYPE=image/jpeg:https://www.fuzzclub.gr/wp-content/uploads/2019/09/deerslide.jpg
END:VEVENT
END:VCALENDAR