BEGIN:VCALENDAR
VERSION:2.0
PRODID:-//Fuzz Club - ECPv6.15.17.1//NONSGML v1.0//EN
CALSCALE:GREGORIAN
METHOD:PUBLISH
X-ORIGINAL-URL:https://www.fuzzclub.gr
X-WR-CALDESC:Events for Fuzz Club
REFRESH-INTERVAL;VALUE=DURATION:PT1H
X-Robots-Tag:noindex
X-PUBLISHED-TTL:PT1H
BEGIN:VTIMEZONE
TZID:UTC
BEGIN:STANDARD
TZOFFSETFROM:+0000
TZOFFSETTO:+0000
TZNAME:UTC
DTSTART:20180101T000000
END:STANDARD
END:VTIMEZONE
BEGIN:VEVENT
DTSTART;TZID=UTC:20191108T200000
DTEND;TZID=UTC:20191108T200000
DTSTAMP:20260422T075803
CREATED:20190905T133730Z
LAST-MODIFIED:20190924T054545Z
UID:5963-1573243200-1573243200@www.fuzzclub.gr
SUMMARY:Nick Waterhouse
DESCRIPTION:O Nick Waterhouse επιστρέφει στην Αθήνα μετά το εκκωφαντικό sold out του περασμένου Μαρτίου! Ο αγαπημένος Αμερικανός μουσικός θα μας ταξιδέψει και πάλι στον κόσμο του αυθεντικού rock‘n‘roll\, των rhythm & blues\, της soul και jazz–pop των 50s και 60s\, την Παρασκευή 8 Νοεμβρίου\, στο Fuzz Live Music Club\, πάντα μαζί με την πολυμελή μπάντα του! \n \n\n \nΜε απαράμιλλη vintage αισθητική\, απεριόριστο συνθετικό ταλέντο και αληθινή αμεσότητα\, ο νεαρός καλλιτέχνης και παραγωγός από την California έχει κερδίσει μία πολύ ξεχωριστή θέση στην καρδιά του ελληνικού κοινού. Έτσι\, αυτή η δεύτερη επίσκεψή του στη χώρα μας μέσα στο 2019 μόνο έκπληξη δεν προκαλεί.\nΆλλωστε\, το sold out του περασμένου Μαρτίου\, σε ένα κατάμεστο και τρομερά κεφάτο Fuzz Club\, τα λέει όλα. \nΟ κόσμος τον έχει λατρέψει χάρη σε μερικά υπέροχα singles που έχουν κυριαρχήσει στο ραδιόφωνο τα τελευταία χρόνια – όπως το πασίγνωστο “Katchi“\, το “Some Place“\, το “Dead Room“\, το “I Can Only Give You Everything“\, το “Don‘t You Forget It“\, μεταξύ πολλών άλλων. \nΜε μια σιγουριά να χαρακτηρίζει πλέον την κάθε κίνησή του επί σκηνής\, ο Nick επανασυστήθηκε στους φίλους του\, αλλά και σε νέους ακροατές\, με το φετινό δίσκο με τίτλο το όνομά του. Οι συνεχείς συναυλίες του με μια μπάντα “μηχανή” επιβεβαίωσαν πως κάθε βράδυ είναι αφορμή για ένα rock n’ roll πάρτι με τις πολυαγαπημένες πλέον vintage R&B πινελιές του! \nEγραψαν για το sold-out στο Fuzz club: \n“Μια καταπληκτική βραδιά μας χάρισε ο Nick Waterhouse και η παρέα του το βράδυ του Σαββάτου.\nΟ Kαλιφορνέζος καλλιτέχνης δικαίωσε με την εμφάνισή του όλο τον κόσμο που γέμισε κάθε τετραγωνικό εκατοστό του Fuzz” / Rocking.gr \n“Με ραφιναρισμένα κομμάτια\, ξεκάθαρο μουσικό και γενικότερα αισθητικό στίγμα και άρτιο ήχο o Nick\, βρίσκεται στο απόγειο της καριέρας του” / Lifo \n“H πενταμελής μπάντα του Waterhouse αποδείχθηκε καλοκουρδισμένη και συγχρονισμένη\, στηρίζοντας τις ανάγκες του πρωταγωνιστή της βραδιάς.” / Avopolis.gr \nΗ προπώληση ξεκινάει προς στα 25 ευρώ (για ένα εισιτήριο) και 45 ευρώ (για δύο εισιτήρια). Στο ταμείο\, η τιμή θα είναι 28 ευρώ. \nΔιάθεση:\nΟnline / www.viva.gr και www.fuzzclub.gr\nΤηλεφωνικά / στο 11876\nΦυσικά σημεία / στα καταστήματα Reload\, Seven Spots\, Wind\, Ευριπίδης\, στον πολυχώρο Yoleni’s (Σόλωνος 9\, καθημερινά 8:00-00:00\, Σάββατο 9:00-00:00\, Κυριακή 10:00-20:00)\, στο Viva Kiosk Συντάγματος (Πλ. Συντάγματος 4\, καθημερινά 9:00-21:00) και στο Viva Spot Τεχνόπολης (μέσα στον χώρο της Τεχνόπολης\, είσοδος από οδό Περσεφόνης\, Δευτ-Σαβ 11:00-19:00) \nNick Waterhouse + opening act (tba)\nΠαρασκευή 8 Νοεμβρίου\, Fuzz Live Music Club (Πειραιώς 209 & Πατριάρχου Ιωακείμ 1\, Ταύρος\, Αθήνα\, 210 3450817\, www.fuzzclub.gr\nΟι πόρτες ανοίγουν στις 20:00.
URL:https://www.fuzzclub.gr/event/nick-waterhouse-2/
LOCATION:Fuzz Club\, PIREOS 209 KAI PATRIARXOU IOAKIM 1\, Athens\, Greece
CATEGORIES:Concerts
ATTACH;FMTTYPE=image/jpeg:https://www.fuzzclub.gr/wp-content/uploads/2019/09/nickslider.jpg
END:VEVENT
END:VCALENDAR