BEGIN:VCALENDAR
VERSION:2.0
PRODID:-//Fuzz Club - ECPv6.15.17.1//NONSGML v1.0//EN
CALSCALE:GREGORIAN
METHOD:PUBLISH
X-ORIGINAL-URL:https://www.fuzzclub.gr
X-WR-CALDESC:Events for Fuzz Club
REFRESH-INTERVAL;VALUE=DURATION:PT1H
X-Robots-Tag:noindex
X-PUBLISHED-TTL:PT1H
BEGIN:VTIMEZONE
TZID:UTC
BEGIN:STANDARD
TZOFFSETFROM:+0000
TZOFFSETTO:+0000
TZNAME:UTC
DTSTART:20180101T000000
END:STANDARD
END:VTIMEZONE
BEGIN:VEVENT
DTSTART;TZID=UTC:20191024T200000
DTEND;TZID=UTC:20191024T233000
DTSTAMP:20260422T093754
CREATED:20191011T082744Z
LAST-MODIFIED:20191011T082744Z
UID:6229-1571947200-1571959800@www.fuzzclub.gr
SUMMARY:Allah-Las
DESCRIPTION:Τρία χρόνια πέρασαν από την τελευταία εμφάνιση των αγαπημένων του ελληνικού κοινού\, Allah-Las στη χώρα μας και επιτέλους έρχονται στην Αθήνα\, την Πέμπτη 24 Οκτωβρίου στο Fuzz Club. Η συναυλιακή επιστροφή των Allah-Las στην Ελλάδα μόνο τυχαία δεν είναι… Στις 11 Οκτωβρίου\, λοιπόν\, κυκλοφορεί το νέο τους άλμπουμ\, LAHS. Και είθισται κάθε φορά που βγάζουν καινούργιο δίσκο\, να έρχονται και στη χώρα μας να τον παρουσιάσουν (μαζί φυσικά και με τα υπόλοιπα αγαπημένα τραγούδια). Επιστρέφουν\, λοιπόν\, στην αγαπημένη τους Ελλάδα\, κυνηγώντας το επόμενο κύμα…! \nΔείτε εδώ το video που δημιούργησαν οι ίδιοι για τις συναυλίες τους εδώ\nhttps://www.facebook.com/doledrums/videos/2593127250915145/ \nOpening act θα είναι o Tim Hill\, που παίζει keyboards στους Allah Las και έχει παίξει με τον Nick Waterhouse και τον Curtis Harding. Στο τέλος του 2019 ο Tim Hill\, θα κυκλοφορήσει τον 1ο προσωπικό του δίσκο.\nFacebook event \nΗ σχέση αγάπης με το ελληνικό κοινό δημιουργήθηκε με το τραγούδι – σταθμό στην καριέρα τους\, Tell Me (What’s On Your Mind)\, από το πρώτο τους ομότιτλο άλμπουμ και συνεχίστηκε με το δεύτερο album τους\, Worship The Sun αλλά και με τις live εμφανίσεις. \nΌσοι είχαν την τύχη να ακούσουν το τελευταίο άλμπουμ λένε πως είναι το πιο σφιχτοδεμένο και ώριμο της καριέρας τους. Ατενίζουν τον ορίζοντα\, εξερευνούν νέους τόπους και προορισμούς\, ταιριάζουν τις μελωδίες που αγαπούν με τις διαθέσεις της στιγμής\, κουβαλώντας μαζί τους πάντα το ξένοιαστο και ανέμελο πνεύμα της αγαπημένης τους Καλιφόρνιας. \nΗ μουσική των Allah –las και σε αυτό το άλμπουμ σερφάρει – όπως και οι ίδιοι – μεταξύ West Coast garage rock ήχων\, latin κρουστών\, ηλεκτρικών folk καταβολών και vintage pop αισθητικής. Με πλούσιους ψυχεδελικούς χρωματισμούς και διαχρονικό ήχο που παραπέμπει στην εποχή των beatniks\, των surfers και της νομαδικής ζωής. \nΑπομεινάρια μία άλλης Sunset Trip ακτής\, με χρυσό μαύρισμα και κοσμικές εμφανίσεις στις παραλίες της Νότιας Καλιφόρνια\, κατάφεραν να απομακρυνθούν από το νοσταλγικό κιτς και να προσθέσουν στο ψυχεδελικό μωσαϊκό τους στοιχεία από Byrds\, Love και Kinks. \nΑκόμα και η ιστορία τους είναι σαν βγαλμένη από την ταινία High Fidelity\, με τα τρία από τα τέσσερα μέλη του γκρουπ να γνωρίζονται στο θρυλικό δισκάδικο Amoeba στην Sunset Boulevard\, γεγονός που όχι μόνο τους διαμόρφωσε ως μπάντα\, αλλά τους έσπρωξε και στα υπόγεια της γειτονιάς για να γρατζουνήσουν τα πρώτα τους ακόρντα. \nΣτα δύο πρώτα τους σινγκλάκια (“Catamaran” / “Long Journey”) που βγήκαν το 2011\, παραγωγή έκανε ο φίλος και συμμαθητής τους\, Nick Waterhouse. Μαζί συνέχισαν και το 2012 βγάζοντας ένα ακόμη δισκάκι\, που στη μία του πλευρά είχε το “Tell Me What’s on Your Mind” – τραγούδι που τελικά τους καθιέρωσε – και στην άλλη πλευρά του φλιπ το\, “Sacred Sands “. \nΤο πρώτο τους άλμπουμ με τίτλο το όνομα τους\, κυκλοφόρησε το Σεπτέμβριο του ίδιου χρόνου\, με παραγωγό πάντα τον Waterhouse και περιείχε όλα τα κομμάτια που είχαν κυκλοφορήσει προηγουμένως\, καθώς και εννιά καινούργια. Έκαναν περιοδεία και μετά\, πάντα με τη χαλαρή διάθεση που τους χαρακτηρίζει\, ξαναμπήκαν στο στούντιο για να γράψουν το δεύτερο άλμπουμ τους. Το Worship the Sun που κυκλοφόρησε το Σεπτέμβριο του 2014. \nΓια το τρίτο τους άλμπουμ αποφάσισαν να δουλέψουν στο θρυλικά στούντιο Valentine Recording Studios – εκεί παλιά έγραφαν οι Beach Boys και ο Stan Kenton – και που μόλις είχαν ανακαινιστεί. Το Calico Review κυκλοφόρησε το Σεπτέμβριο του 2016. Την επόμενη χρονιά οι Allah-Las κυκλοφόρησαν το πρώτο από μία σειρά EP με διασκευές\, το Covers\, Vol. 1 – φόρο τιμής στους καλλιτέχνες που έχουν επηρεάσει την μπάντα. Τέσσερα τραγούδια περιλαμβάνονται στο EP: το Fish On The Sand του George Harrison\, το Hard On Love των Television από τη μία πλευρά και το J.O. Eleven των Further και το The Earth Won’t Hold Me της Kathy Heideman από την άλλη. \nΣτις 24 Οκτωβρίου οι Allah las θα μας χαρίσουν μία “feel good” ευδαιμονική βραδιά\, με vintage pop αισθητική\, πολλά νέα τραγούδια αλλά και όλα τα παλιά αγαπημένα\, με πλουμιστά πουκάμισα και σανίδες του surf να ξεπηδούν από τη σκηνή! \nKαλιφορνέζικα vibes\, μπόλικο coolness\, αυτό το περίφημο riff της Δυτικής Ακτής να μας δροσίζει και όπως πάντα πολύ ψυχεδέλεια να μας ταξιδεύει\, καθώς θα αποχαιρετούμε το φθινόπωρο… \nhttp://allah-las.com/ \nhttps://www.facebook.com/allahlasmusic/ \nBand members\nPedrum Siadatian – vocals | lead guitar \nMiles Michaud – vocals| rhythm guitar \nMatthew Coreia – vocals | drums \nSpencer Dunham – vocals |bass \nΠΡΟΠΩΛΗΣΗ ΕΙΣΙΤΗΡΙΩΝ \nΤιμές εισιτηρίων \nΤα early bird (20 ευρώ) έχουν εξαντληθεί και πλέον η τιμή ΠΡΟΠΩΛΗΣΗΣ έχει διαμορφωθεί στα 24 ευρώ \nΣτο ΤΑΜΕΙΟ η τιμή θα είναι 26 ευρώ \nΣημεία Προπώλησης \nΔίκτυο viva \nOnline: www.viva.gr  https://www.viva.gr/tickets/music/athina-thessaloniki/allah-las/ \nΤηλεφωνικά: στο 11876 \nΦυσικά σημεία: Στα καταστήματα Reload\, Seven Spots\, Καταστήματα Wind\, Βιβλιοπωλεία Ευριπίδης\, στον πολυχώρο Yoleni’s (Σόλωνος 9) και στο Viva Spot Τεχνόπολης (μέσα στο χώρο της Τεχνόπολης\, είσοδος από οδό Περσεφόνης) \n  \n 
URL:https://www.fuzzclub.gr/event/allah-las/
LOCATION:Fuzz Club\, PIREOS 209 KAI PATRIARXOU IOAKIM 1\, Athens\, Greece
CATEGORIES:Concerts
ATTACH;FMTTYPE=image/jpeg:https://www.fuzzclub.gr/wp-content/uploads/2019/10/allahlas2.jpg
END:VEVENT
END:VCALENDAR