BEGIN:VCALENDAR
VERSION:2.0
PRODID:-//Fuzz Club - ECPv6.15.17.1//NONSGML v1.0//EN
CALSCALE:GREGORIAN
METHOD:PUBLISH
X-WR-CALNAME:Fuzz Club
X-ORIGINAL-URL:https://www.fuzzclub.gr
X-WR-CALDESC:Events for Fuzz Club
REFRESH-INTERVAL;VALUE=DURATION:PT1H
X-Robots-Tag:noindex
X-PUBLISHED-TTL:PT1H
BEGIN:VTIMEZONE
TZID:UTC
BEGIN:STANDARD
TZOFFSETFROM:+0000
TZOFFSETTO:+0000
TZNAME:UTC
DTSTART:20180101T000000
END:STANDARD
END:VTIMEZONE
BEGIN:VEVENT
DTSTART;TZID=UTC:20191018T200000
DTEND;TZID=UTC:20191018T200000
DTSTAMP:20260422T094728
CREATED:20190904T051628Z
LAST-MODIFIED:20191016T032422Z
UID:5959-1571428800-1571428800@www.fuzzclub.gr
SUMMARY:Rise Evolve - An Evening in Memory of Makis Tsamkosoglou
DESCRIPTION:Την Παρασκευή 18 Οκτωβρίου\, γιορτάζουμε τη ζωή του Μάκη Τσαμκόσογλου\, ενός ανθρώπου που όσοι είχαμε την τύχη να τον γνωρίσουμε προσωπικά ξέρουμε την αγάπη και το πάθος που είχε για τη μουσική\, για τη μπάντα του\, για ολόκληρη την εγχώρια σκηνή. Οι Need\, Poem\, Universe217\, Playgrounded και Mother of Millions\, επί σκηνής\, καθώς και όλοι όσοι δώσουμε το παρών στο Fuzz Live Music Club\, θα τον τιμήσουμε και θα τον θυμηθούμε μέσα από τη μουσική\, όπως πιστεύουμε πως θα ήθελε και ο ίδιος. \n \n\n \nTo πρόγραμμα της βραδιάς:\n20:00 Πόρτες\, ταμείο\n20:30 POEM\n21:15 NEED\n22:00 PLAYGROUNDED\n22:45 UNIVERSE217\n23:30 MOTHER OF MILLIONS \n“Ο Μάκης Τσαμκόσογλου ήταν κάτι παραπάνω από ένας ταλαντούχος μουσικός. Ήταν φίλος μας\, bandmate και συνοδοιπόρος μας\, σε περισσότερα από ένα επίπεδα. Αν έπαιξες ποτέ σου σε μπάντα\, ξέρεις σε τι πράγμα αναφέρομαι. Αν μοιράστηκες ποτέ τα όνειρά σου με κάποιον\, καταλαβαίνεις πως έχω δίκιο. \nΥπάρχουν περιπτώσεις όπως αυτή\, που τα λόγια χάνουν την σημασία τους. Θα μπορούσαμε να γράψουμε δεκάδες σειρές κειμένου\, αναλύοντας το πόση σημασία είχε ο άνθρωπος για τους ανθρώπους του\, ή το μουσικό του έργο για την σκηνή που εκπροσωπούσε\, αλλά αποφασίσαμε να αφήσουμε την ίδια μουσική να γράψει τον επίλογο. Αυτό θα ήθελε κι ο ίδιος. \nΤην Παρασκευή 18 Οκτωβρίου\, παίζουμε μια συναυλία προς τιμήν του Μάκη Τσαμκόσογλου\, του φίλου μας που έφυγε από κοντά μας πρόωρα\, κάνοντας αυτό που αγαπάει. \nΟι Need\, Poem\, Universe217\, Playgrounded\, ακόμη και οι ίδιοι οι Mother of Millions\, συνεπικουρούμενοι επί σκηνής από κοντινούς ανθρώπους και ταλαντούχους καλλιτέχνες\, θα αποτίσουμε έναν φόρο τιμής στον αγαπημένο μας φίλο\, με μουσικές που του άρεσε να ακούει\, σαν να ήταν κι ο ίδιος εκεί. \nΜάκη θα μας λείψεις!” \nΤα έσοδα της συναυλίας θα διατεθούν στην οικογένεια του Μάκη Τσαμκόσογλου.\nΕισιτήρια προπωλούνται προς 8 ευρώ. Στο ταμείο\, η τιμή θα είναι 10 ευρώ. \nΔιάθεση:\nΤηλεφωνικά 11876\nOnline / www.viva.gr / /www.fuzzclub.gr/event/rise-evolve/\nΦυσικά σημεία: Kαταστήματα Reload\, Seven Spots\, Media Markt\, Ευριπίδης\, στον πολυχώρο Yoleni‘s (Σόλωνος 9\, καθημερινά 8:00-00:00\, Σάββατο 9:00-00:00\, Κυριακή 10:00-20:00 και στο Viva Spot Τεχνόπολης (μέσα στον χώρο της Τεχνόπολης\, είσοδος από οδό Περσεφόνης\, Δευτ-Σαβ 11:00-19:00) \nRise Evolve: An Evening in Memory of Makis Tsamkosoglou \nΠαρασκευή 18 Οκτωβρίου\, Fuzz Live Music Club (Πειραιώς 209 & Πατριάρχου Ιωακείμ 1\, Ταύρος\, Αθήνα\, 210 3450817\, www.fuzzclub.gr \nΟι πόρτες ανοίγουν στις 20:00. \nΕπικοινωνία / Πληροφορίες:\nΘωμάς Μαχαίρας / thomasmachairas@fuzzproductions.gr/ 6936 161979\nΓιάννης Λυμπέρης / johnlimberis@fuzzproductions.gr / 6945 622781
URL:https://www.fuzzclub.gr/event/rise-evolve/
LOCATION:Fuzz Club\, PIREOS 209 KAI PATRIARXOU IOAKIM 1\, Athens\, Greece
CATEGORIES:Concerts
ATTACH;FMTTYPE=image/jpeg:https://www.fuzzclub.gr/wp-content/uploads/2019/09/rise.jpg
END:VEVENT
END:VCALENDAR