BEGIN:VCALENDAR
VERSION:2.0
PRODID:-//Fuzz Club - ECPv6.15.17.1//NONSGML v1.0//EN
CALSCALE:GREGORIAN
METHOD:PUBLISH
X-WR-CALNAME:Fuzz Club
X-ORIGINAL-URL:https://www.fuzzclub.gr
X-WR-CALDESC:Events for Fuzz Club
REFRESH-INTERVAL;VALUE=DURATION:PT1H
X-Robots-Tag:noindex
X-PUBLISHED-TTL:PT1H
BEGIN:VTIMEZONE
TZID:UTC
BEGIN:STANDARD
TZOFFSETFROM:+0000
TZOFFSETTO:+0000
TZNAME:UTC
DTSTART:20180101T000000
END:STANDARD
END:VTIMEZONE
BEGIN:VEVENT
DTSTART;TZID=UTC:20191005T200000
DTEND;TZID=UTC:20191005T200000
DTSTAMP:20260422T094729
CREATED:20190821T045615Z
LAST-MODIFIED:20190930T113508Z
UID:5939-1570305600-1570305600@www.fuzzclub.gr
SUMMARY:The Underground Youth
DESCRIPTION:Οι Underground Youth επιστρέφουν στην Αθήνα! H post-punk / psych rock μπάντα από το Manchester\, η οποία έχει ήδη χτίσει μία σχέση γεμάτη πάθος και αμοιβαία εκτίμηση με το ελληνικό κοινό\, θα γιορτάσει μαζί μας 10 χρόνια πορείας\, παρουσιάζοντας παράλληλα για πρώτη φορά ζωντανά το νέο της album\, “Montage Images Of Lust & Fear”\, το Σάββατο 5 Οκτωβρίου στο Fuzz Live Music Club.  \nΗ προπώληση συνεχίζεται στα 20 ευρώ. Στο ταμείο\, η τιμή θα είναι 23 ευρώ.\nΠρόγραμμα Σαββάτου: Πόρτες|ταμείο 20.00\, Οδ. Τζιρίτας 21.20\, Τhe Underground Youth 22.30\n \n \n\n \nΔιάθεση εισιτηρίων: Τηλεφωνικά / στο 11876\nOnline / www.viva.gr\nΦυσικά σημεία / Kαταστήματα Reload\, Seven Spots\, Media Markt\, Ευριπίδης\, στον πολυχώρο Yoleni‘s (Σόλωνος 9\, καθημερινά 8:00-00:00\, Σάββατο 9:00-00:00\, Κυριακή 10:00-20:00)  και στο Viva Spot Τεχνόπολης (μέσα στον χώρο της Τεχνόπολης\, είσοδος από οδό Περσεφόνης\, Δευτ-Σαβ 11:00-19:00) \n \nΜε ένα πιστό πυρήνα οπαδών σε ολόκληρο τον πλανήτη\, που συνεχώς μεγαλώνει χάρις στις ασταμάτητες περιοδείες\, η τετράδα των Craig Dyer (φωνή / κιθάρα)\, Olya Dyer (κρουστά)\, Max James (μπάσο) και Leo Kaage (κιθάρα) φημίζεται πλέον για τις καταπληκτικές live εμφανίσεις της! \nO φετινός τους δίσκος\, “Montage Images Of Lust & Fear”\, συνεχίζει το εξαιρετικό σερί κυκλοφοριών\, με όλα τα μέλη να συμμετέχουν για πρώτη φορά στις συνθέσεις που ηχογραφήθηκαν\, ως επί το πλείστον\, ζωντανά στο στούντιο. Με καλεσμένο τον Kristof Hahn (Swans) στην lap steel guitar σε έξι κομμάτια\, δίνουν στον ήχο τους την αίσθηση μιας παραμορφωμένης ψυχεδέλειας\, μαζί με μια στοιχειωμένη punk αισθητική και εκτέλεση\, συστήνοντας μια μπάντα αδυσώπητη\, με κυκλωτικά fuzzy κιθαριστικά riffs\, αλλά και μελαγχολική\, χτίζοντας μια μοναδική μελωδική ατμόσφαιρα. \nΌμως\, η δύναμη και η ουσία των Underground Youth ανέκαθεν βρισκόταν\, κυρίως\, στη σκηνική τους παρουσία. Το ελληνικό κοινό έχει ζήσει μαζί τους ορισμένες σπουδαίες βραδιές – γι’ αυτό και ο αριθμός των φίλων τους στη χώρας μας αυξάνεται συνεχώς – και είναι σίγουρο πως ήδη ετοιμάζεται για το επόμενο ραντεβού μαζί τους. \n\nΟ Οδυσσέας Τζιρίτας και η μπάντα του\nθα είναι το opening act στην συναυλία των Underground Youth. \nΤο φετινό ντεμπούτο album του “Βutterflies” τον τοποθέτησε μεμιάς στα πιο ενδιαφέροντα ονόματα της νέας εναλλακτικής σκηνής της χώρας.\nΟ ίδιος αποκαλεί τον ήχο του “pop”\, ιδανικός χαρακτηρισμός για να συμπεριλάβει το πλήθος επιρροών από διαφορετικά είδη. Με το παρόν όλο δικό του\, τις κριτικές και την ανταπόκριση των θεατών στις συνεχείς εμφανίσεις του να είναι αποθεωτικές\, το μέλλον φαίνεται λαμπρό. \n\nΣάββατο 5 Οκτωβρίου\, Fuzz Live Music Club (Πειραιώς 209 & Πατριάρχου Ιωακείμ 1\, Ταύρος\, Αθήνα\, 210 3450817). \nΟι πόρτες ανοίγουν στις 20:00. \nΠληροφορίες: \nwww.facebook.com/fuzzproductionsgr/\nwww.facebook.com/fuzzclub.gr/\nwww.facebook.com/TheUndergroundYouth/\n\nΕπικοινωνία:\nΘωμάς Μαχαίρας / thomasmachairas@fuzzproductions.gr/ 6936 161979\nΓιάννης Λυμπέρης / johnlimberis@fuzzproductions.gr / 6945 622781 \n \n  \n 
URL:https://www.fuzzclub.gr/event/undergroundyouth/
LOCATION:Fuzz Club\, PIREOS 209 KAI PATRIARXOU IOAKIM 1\, Athens\, Greece
CATEGORIES:Concerts
ATTACH;FMTTYPE=image/jpeg:https://www.fuzzclub.gr/wp-content/uploads/2019/08/youthslider.jpg
END:VEVENT
END:VCALENDAR