BEGIN:VCALENDAR
VERSION:2.0
PRODID:-//Fuzz Club - ECPv6.15.17.1//NONSGML v1.0//EN
CALSCALE:GREGORIAN
METHOD:PUBLISH
X-WR-CALNAME:Fuzz Club
X-ORIGINAL-URL:https://www.fuzzclub.gr
X-WR-CALDESC:Events for Fuzz Club
REFRESH-INTERVAL;VALUE=DURATION:PT1H
X-Robots-Tag:noindex
X-PUBLISHED-TTL:PT1H
BEGIN:VTIMEZONE
TZID:UTC
BEGIN:STANDARD
TZOFFSETFROM:+0000
TZOFFSETTO:+0000
TZNAME:UTC
DTSTART:20180101T000000
END:STANDARD
END:VTIMEZONE
BEGIN:VEVENT
DTSTART;TZID=UTC:20190913T200000
DTEND;TZID=UTC:20190913T200000
DTSTAMP:20260422T113934
CREATED:20190417T031302Z
LAST-MODIFIED:20190829T091627Z
UID:5461-1568404800-1568404800@www.fuzzclub.gr
SUMMARY:The Sisters Of Mercy | A.A. Williams
DESCRIPTION:Οι θρυλικοί The Sisters Of Mercy επιστρέφουν στη χώρα μας για δύο μεγάλες συναυλίες\, την Πέμπτη 12 Σεπτεμβρίου στο Fix Factory Of Sound (Θεσσαλονίκη) και την Παρασκευή 13 Σεπτεμβρίου στο Gazi Music Hall (Αθήνα)! Ο βρυχηθμός της μεγάλης μηχανής θα ακουστεί ξανά! \nΗ προπώληση και για τις δύο συναυλίες ξεκινάει στα 27 ευρώ\, για περιορισμένο αριθμό εισιτηρίων. Μετά την εξάντλησή τους\, θα συνεχιστεί στα 30 ευρώ\, για συγκεκριμένο αριθμό εισιτηρίων. Οι επόμενες φάσεις της πώλησης θα ανακοινωθούν στην πορεία. \n  \n  \n \n  \nΈνα από τα σπουδαιότερα συγκροτήματα που ανέδειξε η post punk σκηνή\, με την επιβλητική παρουσία και τη βαριά μελαγχολική φωνή του Andrew Eldritch να δίνει από την αρχή το στίγμα τους\, οι Sisters Of Mercy αποτελούν σημείο αναφοράς του σκοτεινού rock ήχου και της dark κουλτούρας\, γενικότερα\, παρότι έχουν κυκλοφορήσει μόλις τρία επίσημα studio albums. \nΤα “First And Last And Always” (1985)\, “Floodland” (1987)\, “Vision Thing” (1990)\, θεωρούνται κλασικά\, έχοντας σημαδέψει όχι μόνο την εποχή τους αλλά και επόμενες γενιές καλλιτεχνών και ακροατών. Από κοντά\, μερικές εξαιρετικές συλλογές και αρκετά καταπληκτικά singles και EPs που έδωσαν στο όνομα της μπάντας μυθικές διαστάσεις και έκαναν τη μουσική και το στυλ της αντικείμενα λατρείας για μία ευρεία γκάμα fans\, από το post–punk / dark wave μέχρι το hard rock. \nΟι ίδιοι\, ανέκαθεν θεωρούσαν τους εαυτούς τους ως ένα\, πρωτίστως\, rock’n’roll συγκρότημα με βασικές επιρροές από τον Leonard Cohen (από κομμάτι του οποίου πήραν και το όνομά τους)\, τους Stooges\, τους Suicide\, τους Velvet Underground\, τους Hawkwind\, τους Birthday Party και τους Fall. Στα live τους\, ισχυρίζονται πως δημιουργούν ατμόσφαιρα “φορτισμένης industrial ψυχεδέλειας”\, συνδυάζοντας νέο υλικό με τα παλιά γνώριμα τραγούδια τους\, βουτηγμένα στην παραζάλη ενός εντυπωσιακού light show. \nΜόνιμα σημεία αναφοράς\, η αδύνατη φιγούρα του Eldritch\, με τα μαύρα γυαλιά\, τα δερμάτινα ρούχα και μία από τις χαρακτηριστικότερες φωνές στη σύγχρονη ιστορία του rock‘n‘roll\, και τα βαριά beats του Doktor Analanche\, του drum machine που δίνει το ρυθμικό υπόβαθρο στα κομμάτια των Sisters Of Mercy\, από την ημέρα που δημιουργήθηκαν μέχρι σήμερα. \nΤη συνέχεια την υποδηλώνουν και μόνο οι τίτλοι των μοναδικών τραγουδιών που θα ακούσουμε σε αυτά τα δύο live\, τα οποία θα έχουν τη μορφή greatest hits shows\, περιέχοντας πολλά θρυλικά κομμάτια που έχουμε πολλά χρόνια να ακούσουμε ζωντανά: \n“Alice“\, “Temple Of Love“\, “Marian“\, “This Corrosion“\, “More“\, “Lucretia My Reflection“\, “Dominion / Mother Russia“\, “Body And Soul“\, “First And Last And Always“\, “Vision Thing“\, “Ribbons“\, “No Time To Cry“\, “Walk Away” και πολλά ακόμη\, που αποδεικνύουν ότι οι Sisters of Mercy\, παραμένουν επικίνδυνα σκοτεινοί\, μόνιμα συναισθηματικοί και κατευθύνονται ξανά προς την πόλη μας. Μην τους χάσεις! \nthe-sisters-of-mercy.com\n \nΔιάθεση: \nΤηλεφωνικά / στο 11876\nOnline / viva.gr / fuzzclub.gr / fixfactoryofsound.gr \nΦυσικά σημεία / Αθήνα / στα καταστήματα Reload\, Seven Spots\, Καταστήματα Wind\, Ευριπίδης\, στον πολυχώρο Yoleni’s (Σόλωνος 9\, καθημερινά 8:00-00:00\, Σάββατο 9:00-00:00\, Κυριακή 10:00-20:00)\, στο Viva Kiosk Συντάγματος (Πλ. Συντάγματος 4\, καθημερινά 9:00-21:00) και στο Viva Spot Τεχνόπολης (μέσα στον χώρο της Τεχνόπολης\, είσοδος από οδό Περσεφόνης\, Δευτ-Σαβ 11:00-19:00) – Θεσσαλονίκη / στα καταστήματα Seven Spots\, Wind \nThe Sisters Of Mercy + opening acts (tba) \nΠέμπτη 12 Σεπτεμβρίου\, Fix Factory of Sound (26ης Οκτωβρίου 15\, Θεσσαλονίκη / τηλ. 2310 500670 & 2310 504014 / www.fixfactoryofsound.gr) και Παρασκευή 13 Σεπτεμβρίου\, Gazi Music Hall (Ιερά Οδός 7-13\, Γκάζι\, Μετρό “Κεραμεικός”). \nΟι πόρτες ανοίγουν στις 20:00. \nΓραφείο Τύπου / Επικοινωνία:\nΘωμάς Μαχαίρας (Αθήνα) / thomasmachairas@fuzzproductions.gr / 6936 161979\nΓιάννης Λυμπέρης (Αθήνα) / johnlimberis@fuzzproductions.gr / 6945 622781\nΙωάννα Μεταξοπούλου (Θεσσαλονίκη) / metaxopoulou@gmail.com / 6944 188878
URL:https://www.fuzzclub.gr/event/the-sisters-of-mercy/
LOCATION:Gazi Music Hall\, Iera Odos 7\, Athens\, 118 54\, Greece
CATEGORIES:Concerts
ATTACH;FMTTYPE=image/jpeg:https://www.fuzzclub.gr/wp-content/uploads/2019/04/som.jpg
END:VEVENT
END:VCALENDAR