BEGIN:VCALENDAR
VERSION:2.0
PRODID:-//Fuzz Club - ECPv6.15.17.1//NONSGML v1.0//EN
CALSCALE:GREGORIAN
METHOD:PUBLISH
X-WR-CALNAME:Fuzz Club
X-ORIGINAL-URL:https://www.fuzzclub.gr
X-WR-CALDESC:Events for Fuzz Club
REFRESH-INTERVAL;VALUE=DURATION:PT1H
X-Robots-Tag:noindex
X-PUBLISHED-TTL:PT1H
BEGIN:VTIMEZONE
TZID:Europe/Athens
BEGIN:DAYLIGHT
TZOFFSETFROM:+0200
TZOFFSETTO:+0300
TZNAME:EEST
DTSTART:20240331T010000
END:DAYLIGHT
BEGIN:STANDARD
TZOFFSETFROM:+0300
TZOFFSETTO:+0200
TZNAME:EET
DTSTART:20241027T010000
END:STANDARD
BEGIN:DAYLIGHT
TZOFFSETFROM:+0200
TZOFFSETTO:+0300
TZNAME:EEST
DTSTART:20250330T010000
END:DAYLIGHT
BEGIN:STANDARD
TZOFFSETFROM:+0300
TZOFFSETTO:+0200
TZNAME:EET
DTSTART:20251026T010000
END:STANDARD
BEGIN:DAYLIGHT
TZOFFSETFROM:+0200
TZOFFSETTO:+0300
TZNAME:EEST
DTSTART:20260329T010000
END:DAYLIGHT
BEGIN:STANDARD
TZOFFSETFROM:+0300
TZOFFSETTO:+0200
TZNAME:EET
DTSTART:20261025T010000
END:STANDARD
END:VTIMEZONE
BEGIN:VEVENT
DTSTART;TZID=Europe/Athens:20250510T223000
DTEND;TZID=Europe/Athens:20250510T233000
DTSTAMP:20260420T021434
CREATED:20250505T094910Z
LAST-MODIFIED:20250510T174751Z
UID:8464-1746916200-1746919800@www.fuzzclub.gr
SUMMARY:TRASHFORMERS - SEASON FINALE
DESCRIPTION:Η σεζόν φτάνει στο τέλος της και φεύγουμε για μια ΤΕΛΕΥΤΑΙΑ ΚΟΥΡΣΑ (εννοούμε τελευταίο show) με το μαγικό ταξί των Trashformers! \nΕίναι η τελευταία φορά που θα παρουσιαστεί το show “Διπλή Ταρίφα”.. δυστυχώς γιατί το έχουμε αγαπήσει πραγματικά! ΜΗΝ χάσετε την ευκαιρία\, σας περιμένουμε! \n******** \nΑθήνα… Σάββατο βράδυ…. \nΕπιλογές   Α – ΠΕΙ – ΡΕΣ … ! \nΚαι που να πρωτοπάει κανείς… \nΠου είναι άραγε το μέρος που θα γίνει… “η φάση” ; \nΣήμερα είναι η τυχερή μας μας μέρα.. (ή μάλλον.. νύχτα) \nΘα πάμε ΠΑΝΤΟΥ ! \n  \nΟι Trashformers μας προσκαλούν σε μια νυχτερινή βόλτα στην Πόλη… \nΤην πόλη του Φωτός! Την αιώνια πόλη… Την πόλη που δεν κοιμάται ποτέ! Την Αθήνα… \nΘα τη γυρίσουμε ολόκληρη\, με ένα taxi\, από άκρη σε άκρη! Πολλές διαφορετικές γειτονιές της Αθήνας\, κάθε μία με τον χαρακτηριστικό της ήχο! \nΟ τελικός προορισμός βέβαια είναι ένας… και μοναδικός! \n… αυτός που μας εκφράζει πραγματικά! \n  \n(Πολλές τελίτσες έχω βάλει…) \nΕίναι εκεί που το παρελθόν συναντάει το παρόν\, και το παρόν το μέλλον\, οι έννοιες γίνονται ένα… και τα αγαπημένα μας τραγούδια από 80s\, 90s\, 00s (και βάλε) μπλέκουν σε ένα χορευτικό ασταμάτητο megamix. Φυσικά με την αξεπέραστη μυστική συνταγή των TFs! \nΑπό τη δημιουργία των Trash Parties το μακρινό 2004\, μέχρι το νο1 διαγαλαξιακό party του σήμερα\, μια ιδέα δρόμος! \nΣάββατο 10/5/25\, στο πιο εκρηκτικό Dancefloor της πόλης! \nΤο show είναι μοναδικό\, αλλά τα απαραίτητα συστατικά για το οπτικοακουστικό υπερθέαμα των Trashformers είναι γνωστά! \n  \nᗘ Pre party… DJ set. Έτσι\, για να μπούμε σε mood! \nᗘ  Ultra απολαυστικό show! \nᗘ  VJ sets που καίνε τον αμσφιβηλστροειδή (στου χαντάκι) \nᗘ Secret guest γιατί πάντα περνάμε καλά με τους φίλους μας! \nᗘ  Δόσεις τρέλας! (παντού και πάντα <3 ) \nᗘ  Δόσεις νοσταλγίας απευθείας από το υποσυνείδητο. \nᗘ After party σκληρό… για όσους αντέχουν! \n****************************** \nTrashformers – Διπλή Ταρίφα! \nSat. 10/5/25 // ΜΑΥ – SEASON FiNALE \nFuzz Live Music Club \nΠειραιώς 209 & Πατρ. Ιωακείμ 1\, Ταύρος \ndoors open at 22:22 / show starts at 23:45 \nticket presale 8 / on spot 10 \ninfo/reservations 2103450817 \nonline ticketing at more.com by viva
URL:https://www.fuzzclub.gr/event/trashformers-season-finale-2/
CATEGORIES:Concerts
ATTACH;FMTTYPE=image/jpeg:https://www.fuzzclub.gr/wp-content/uploads/2024/04/trash01.jpg
END:VEVENT
BEGIN:VEVENT
DTSTART;TZID=Europe/Athens:20250513T183000
DTEND;TZID=Europe/Athens:20250513T233000
DTSTAMP:20260420T021434
CREATED:20250205T141324Z
LAST-MODIFIED:20250513T142256Z
UID:8413-1747161000-1747179000@www.fuzzclub.gr
SUMMARY:1349 - The Ruins of Beverast \, Vitriol\, Sarcator
DESCRIPTION:  \n\n\n\n\n\n\n\n\nΤο πιο κορυφαίο extreme metal πακέτων των τελευταίων ετών\, με 1349 και Ruins of Beverast\, έρχεται στην Ελλάδα. \n\n1349 (NO) live in Greece\n The Wolf and the King Eastern European Tour 2025\nSpecial guests:\n\nThe Ruins of Beverast (DE)\, Vitriol (US)\, Sarcator (SE) \n\n\nΤρίτη 13 Μαϊου 2025 | Fuzz Live Music Club | Αθήνα \n\n\nΤα εισιτήρια κοστίζουν 30 ευρώ (προπώληση) και 35 ευρώ (ταμείο). \n\nΗ προπώληση πραγματοποιείται μέσω της more.com και του δικτύου καταστημάτων της και στα καταστήματα The Nephilim Store (Πατριάρχου Ιωακείμ 17\, Θεσσαλονίκη) και Metal Era (Εμ.Μπενάκη 22\, Αθήνα).\n\n\n\nΗλεκτρονική προπώληση: https://www.more.com/gr-el/tickets/music/1349-the-ruins-of-beverast-more \n\n\nΗ Made of Stone Productions και η Krisis Productions υπερήφανα παρουσιάζουν αυτή την Άνοιξη ένα από τα πιο εμβληματικά extreme metal πακέτα που έχουν έρθει ποτέ στην Ελλάδα. Με headliners τους Νορβηγούς θρύλους 1349\, η περιοδεία “The Wolf and the King” θα εξαπολύσει την ηχητική της επίθεση σε Θεσσαλονίκη και Αθήνα\, τον Μάϊο. Με μία σπουδαία πορεία άνω των 20 ετών\, οι 1349 έχουν σμιλεύσει το όνομά τους στα παγωμένα σαλόνια της black metal ιστορίας\, ενσαρκώνοντας την πλέον ασυμβίβαστη έκφανση του είδους. Η πιο πρόσφατη κυκλοφορία τους\, συνώνυμη της εν λόγω περιοδείας\, στέκει ως περίτρανη απόδειξη της αδιαμφισβήτητης αφοσίωσής τους στον ακραίο ήχο\, ενώ αποτελεί μία κυκλοφορία σταθμό για την εξέλιξη του black metal\, συνεχίζοντας να πιέζει τα όρια του σκότους και της ηχητικής τραχύτητας! \n\n\nΦημισμένοι για τα υπερηχητικά τους παιξίματα και την συνθετική τους ωμότητα\, με τα παγωμένα Νορβηγικά landscapes ως βασική επιρροή του ήχου τους\, οι 1349\, με την κυκλοφορία του “The Wolf and the King” προσθέτουν ένα ακόμη επικό κεφάλαιο στην δισκογραφία τους\, διαποτισμένο -όπως πάντα- με τα κοφτερά κιθαριστικά τους riffs\, τα αδυσώπητα blast beats τους και μία παγωμένη ατμόσφαιρα που φέρνει στην επιφάνεια την πραγματική ουσία του true Νορβηγικού black metal. Στυλοβάτες του είδους\, οι 1349 παραμένουν μια ασταμάτητη δύναμη\, διατηρώντας την ποιότητά τους\, δισκογραφικά και επί σκηνής\, κάτι που άλλωστε τους έχει καταξιώσει ως ένα από τα πιο σεβαστά συγκροτήματα σε όλο τον black metal χώρο. \n\n\nΑυτό το άρτιο line-up δεν θα ήταν πλήρες χωρίς τα 3 σπουδαία συγκροτήματα που θα μοιραστούν την σκηνή με τους 1349. Οι The Ruins of Beverast\, με το στοιχειωτικό μείγμα τους από blackened doom και σκοτεινές ατμόσφαιρες\, φέρνουν στην εξίσωση μία καθηλωτική εμπειρία που υπερβαίνει την μουσική και εισχωρεί σε τελετουργικά βάθη. Οι Vitriol\, γνωστοί για το αδυσώπητο death metal τους\, προσφέρουν έναν ηχητικό καταιγισμό τεχνικής ακρίβειας και αδιάκοπης έντασης\, που δεν αφήνει περιθώρια συμβιβασμών. Οι Sarcator\, μία ανερχόμενη δύναμη στη σκηνή του death / thrash metal\, είναι γεμάτοι νεανική ενέργεια\, ενώ συνεισφέρουν στο πακέτο τα αμίμητα old-school vibes τους\, που οδηγούν σε μία δυναμική και ηλεκτρισμένη εμπειρία για κάθε θεατή. Οι οπαδοί του ακραίου ήχου θα έχουν την ευκαιρία να γίνουν μάρτυρες ενός από τα πιο πλήρη και δεξιοτεχνικά line-ups του είδους και ενός που υπόσχεται δύο βραδιές αδιάκοπης ηχητικής καταστροφής\, προορισμένης να αφήσει το αποτύπωμά της στην συναυλιακή ιστορία της Ελλάδας. \n\n\nΜην χάσετε την ευκαιρία να αποτελέσετε μέρος ενός από τα πιο σημαντικά events για την σκηνή του ακραίου metal στην χώρα μας. Προετοιμαστείτε να γίνετε μάρτυρες ενός πακέτου που αποδεικνύει το γιατί το ακραίο metal στις μέρες μας είναι πιο δυνατό και ζωντανό παρά ποτέ! Στις 12 Μαϊου στο Principal Club Theater στην Θεσσαλονίκη και στις 13 Μαϊου στο Fuzz Live Music Club της Αθήνας\, το σκοτάδι θα έχει την δική του τιμητική\, την ίδια στιγμή που σβέρκοι θα πονέσουν από το headbanging\, ενώ τα moshpits προβλέπεται να μετατραπούν σε πεδία μάχης! Αποκτήστε τα εισιτήριά σας τώρα\, πριν να είναι αργά και ζήστε μία βραδιά αμίμητης ηχητικής ακρότητας! \n\n\nΠαραγωγή: Made of Stone Productions & Krisis Productions \n\nΔημοσιογραφική επικοινωνία: 3plabgr@gmail.com\n\n\n\n\n\n\n\n 
URL:https://www.fuzzclub.gr/event/1349/
CATEGORIES:Concerts
ATTACH;FMTTYPE=image/jpeg:https://www.fuzzclub.gr/wp-content/uploads/2025/02/1349_PP.jpg
ORGANIZER;CN="Made of Stone":MAILTO:christos@madeofstone.gr
END:VEVENT
END:VCALENDAR