BEGIN:VCALENDAR
VERSION:2.0
PRODID:-//Fuzz Club - ECPv6.15.17.1//NONSGML v1.0//EN
CALSCALE:GREGORIAN
METHOD:PUBLISH
X-ORIGINAL-URL:https://www.fuzzclub.gr
X-WR-CALDESC:Events for Fuzz Club
REFRESH-INTERVAL;VALUE=DURATION:PT1H
X-Robots-Tag:noindex
X-PUBLISHED-TTL:PT1H
BEGIN:VTIMEZONE
TZID:Europe/Athens
BEGIN:DAYLIGHT
TZOFFSETFROM:+0200
TZOFFSETTO:+0300
TZNAME:EEST
DTSTART:20240331T010000
END:DAYLIGHT
BEGIN:STANDARD
TZOFFSETFROM:+0300
TZOFFSETTO:+0200
TZNAME:EET
DTSTART:20241027T010000
END:STANDARD
BEGIN:DAYLIGHT
TZOFFSETFROM:+0200
TZOFFSETTO:+0300
TZNAME:EEST
DTSTART:20250330T010000
END:DAYLIGHT
BEGIN:STANDARD
TZOFFSETFROM:+0300
TZOFFSETTO:+0200
TZNAME:EET
DTSTART:20251026T010000
END:STANDARD
BEGIN:DAYLIGHT
TZOFFSETFROM:+0200
TZOFFSETTO:+0300
TZNAME:EEST
DTSTART:20260329T010000
END:DAYLIGHT
BEGIN:STANDARD
TZOFFSETFROM:+0300
TZOFFSETTO:+0200
TZNAME:EET
DTSTART:20261025T010000
END:STANDARD
END:VTIMEZONE
BEGIN:VEVENT
DTSTART;TZID=Europe/Athens:20250405T223000
DTEND;TZID=Europe/Athens:20250405T233000
DTSTAMP:20260420T002405
CREATED:20250326T093033Z
LAST-MODIFIED:20250402T141934Z
UID:8450-1743892200-1743895800@www.fuzzclub.gr
SUMMARY:Trashformers - Διπλή Ταρίφα! // April
DESCRIPTION:Αθήνα… Σάββατο βράδυ…. \nΕπιλογές   Α – ΠΕΙ – ΡΕΣ … ! \nΚαι που να πρωτοπάει κανείς… \nΠου είναι άραγε το μέρος που θα γίνει… “η φάση” ; \nΣήμερα είναι η τυχερή μας μας μέρα.. (ή μάλλον.. νύχτα) \nΘα πάμε ΠΑΝΤΟΥ ! \nΟι Trashformers μας προσκαλούν σε μια νυχτερινή βόλτα στην Πόλη… \nΤην πόλη του Φωτός! Την αιώνια πόλη… Την πόλη που δεν κοιμάται ποτέ! Την Αθήνα… \nΣτο φετινό show θα τη γυρίσουμε ολόκληρη\, με ένα taxi\, από άκρη σε άκρη! Πολλές διαφορετικές γειτονιές της Αθήνας\, κάθε μία με τον χαρακτηριστικό της ήχο! \nΟ τελικός προορισμός βέβαια είναι ένας… και μοναδικός! \n… αυτός που μας εκφράζει πραγματικά! \n(Πολλές τελίτσες έχω βάλει…) \nΕίναι εκεί που το παρελθόν συναντάει το παρόν\, και το παρόν το μέλλον\, οι έννοιες γίνονται ένα… και τα αγαπημένα μας τραγούδια από 80s\, 90s\, 00s (και βάλε) μπλέκουν σε ένα χορευτικό ασταμάτητο megamix. Φυσικά με την αξεπέραστη μυστική συνταγή των TFs! \nΑπό τη δημιουργία των Trash Parties το μακρινό 2004\, μέχρι το νο1 διαγαλαξιακό party του σήμερα\, μια ιδέα δρόμος! \nΣάββατο 5/4/25\, στο πιο εκρηκτικό Dancefloor της πόλης! \nΤο show είναι ολόφρεσκο\, αλλά τα απαραίτητα συστατικά για το οπτικοακουστικό υπερθέαμα των Trashformers είναι γνωστά! \nᗘ Pre party… DJ set. Έτσι\, για να μπούμε σε mood! \nᗘ  Ultra απολαυστικό show! \nᗘ  VJ sets που καίνε τον αμσφιβηλστροειδή (στου χαντάκι) \nᗘ Secret guest γιατί πάντα περνάμε καλά με τους φίλους μας! \nᗘ  Δόσεις τρέλας! (παντού και πάντα <3 ) \nᗘ  Δόσεις νοσταλγίας απευθείας από το υποσυνείδητο. \nᗘ After party σκληρό… για όσους αντέχουν! \n  \n****************************** \nTrashformers – Διπλή Ταρίφα! \nSat. 5/4/25 // April \nFuzz Live Music Club \nΠειραιώς 209 & Πατρ. Ιωακείμ 1\, Ταύρος \ndoors open at 22:22 / show starts at 23:45 \nticket presale 8 / on spot 10 \ninfo/reservations 2103450817 \nonline ticketing at more.com \n****************************** \n 
URL:https://www.fuzzclub.gr/event/trashformers-april/
LOCATION:Fuzz Club\, PIREOS 209 KAI PATRIARXOU IOAKIM 1\, Athens\, Greece
CATEGORIES:Concerts
ATTACH;FMTTYPE=image/jpeg:https://www.fuzzclub.gr/wp-content/uploads/2025/03/cropped-image-2.jpg
END:VEVENT
BEGIN:VEVENT
DTSTART;TZID=Europe/Athens:20250408T200000
DTEND;TZID=Europe/Athens:20250408T233000
DTSTAMP:20260420T002405
CREATED:20240730T181000Z
LAST-MODIFIED:20250407T114309Z
UID:8227-1744142400-1744155000@www.fuzzclub.gr
SUMMARY:Dirkschneider live!
DESCRIPTION:Made of Stone productions proudly present: \nDirkschneider live!\nBalls To The Wall 40th Anniversary Tour\n8TH APRIL 2025 FUZZ CLUB ATHENS \n\nΤο DIRKSCHNEIDER είναι ένα όνομα που σημαίνει πολλά περισσότερα από απλά μια δεύτερη ενσάρκωση των U.D.O.\, συγκροτήματος του αειθαλούς Udo Dirkschneider. Σε αυτή τη μορφή του\, του κουιντέτο αποτίει φόρο τιμής στην μουσική ιστορία του θρυλικού τραγουδιστή του. \nΩς τραγουδοποιός και ιδρυτής στα 70’s\, ο Udo αποτέλεσε έναν από τους βασικούς χαρακτήρες του success story των Accept. Ο μπασίστας Peter Baltes\, νεότερο μέλος της οικογένειας U.D.O. / DIRKSCHNEIDER\, επίσης συνεισέφερε τα μέγιστα στις πιο επιδραστικές και game-changing δουλειές των ACCEPT\, με περίλαμπρο παράδειγμα το “Balls To The Wall” full album\, στο οποίο και συνυπήρξαν με τον Udo. \nΕκτός από album των Accept\, ο τίτλος “Balls To The Wall” αποτελεί και έναν πολύ ταιριαστό χαρακτηρισμό για την σκηνική παρουσία του συγκροτήματος\, που ολοκληρώνεται με το χειρουργικό drumwork του Sven Dirkschneider\, και το ταλαντούχο guitar duo των Andrey Smirnov και Fabian “Dee” Dammers. Η 40η επέτειος του προαναφερθέντος album\, που κυκλοφόρησε το 1983\, αποτελώντας την highest selling\, αλλά και διασημότερη κυκλοφορία των Γερμανών δεν θα μπορούσε να περάσει ανεκμετάλλευτη! \nΓι’ αυτόν ακριβώς τον λόγο οι DIRKSCHNEIDER είναι στην ευτυχή θέση να ανακοινώσουν μία ολόκληρη περιοδεία για τον εορτασμό της κυκλοφορίας αυτού του εμβληματικού album\, την Άνοιξη του 2025. \nΔεν είναι τυχαίο πως ακόμη κι ο ίδιος ο Udo ανυπομονεί για αυτές τις ιστορικές συναυλίες: “Ανυπομονώ να τραγουδήσω το απόλυτο success album των Accept. \nΕν τω μεταξύ η -καθόλου συμπτωματική- συμμετοχή του Peter Baltes σε αυτές τις εμφανίσεις\, κάνει αυτή τη συγκυρία μία από τις κορυφαίες στιγμές της μέχρι στιγμής καριέρας μου!” \nΠέραν των 45 λεπτών του “Balls To The Wall” -λες και δεν ήταν ήδη αρκετό να ακούσουμε ζωντανά τα “London Leatherboys”\, “Love Child” η την υπέρτατη μπαλάντα “Winterdreams” με την original φωνή των Accept- οι Dirkschneider έχουν φροντίσει να προσθέσουν ακόμη περισσότερες μουσικές εκπλήξεις στο setlist και μάλιστα να εμπλουτίσουν όλα αυτά με ένα πολύ φρέσκο stage production\, διαφορετικό από ό\,τι έχουμε δει μέχρι τώρα από αυτούς. \nΌλα είναι έτοιμα για τον εορτασμό της 40ής επετείου αυτού του αδιαμφισβήτητου μεταλλικού ογκόλιθου των ACCEPT και ο προορισμός είναι μόνο ένας: Δύο αξέχαστες εορταστικές βραδιές για κάθε metalhead εκεί έξω! \n\nΟι πόρτες ανοίγουν στις 20:00 | Ώρα έναρξης στις 21:30\n\nΤΙΜΕΣ ΕΙΣΙΤΗΡΙΩΝ:\n— Περιορισμένη προπώληση : 30€\n— Προπώληση : 32€\n— Ταμείο : 35€ \nΣΗΜΕΙΑ ΠΡΟΠΩΛΗΣΗΣ:\n— more.gr (πανελλαδικά)\n— Καταστήματα Public (πανελλαδικά)\n— Καταστήματα Nova (πανελλαδικά)\n— The Nephilim Store (Θεσσαλονίκη) \n— Metal Era (Αθήνα)
URL:https://www.fuzzclub.gr/event/dirkschneider/
LOCATION:Fuzz Club\, PIREOS 209 KAI PATRIARXOU IOAKIM 1\, Athens\, Greece
CATEGORIES:Concerts
ATTACH;FMTTYPE=image/jpeg:https://www.fuzzclub.gr/wp-content/uploads/2024/07/UDO.jpg
ORGANIZER;CN="Made of Stone":MAILTO:christos@madeofstone.gr
END:VEVENT
BEGIN:VEVENT
DTSTART;TZID=Europe/Athens:20250412T203000
DTEND;TZID=Europe/Athens:20250412T233000
DTSTAMP:20260420T002405
CREATED:20250317T130827Z
LAST-MODIFIED:20250317T130827Z
UID:8441-1744489800-1744500600@www.fuzzclub.gr
SUMMARY:Babo Koro
DESCRIPTION:BABO KORO LIVE @ FUZZ\nΣΑΒΒΑΤΟ 12 ΑΠΡΙΛΙΟΥ \nΟι Babo Koro ξεχωρίζουν για τον δυναμικό συνδυασμό παραδοσιακών ήχων και σύγχρονων επιρροών. Από τις βαλκανικές μελωδίες και την ελληνική δημοτική μουσική μέχρι το progressive rock\, η μουσική τους γεφυρώνει παλιούς και νέους ήχους\, δημιουργώντας ένα μοναδικό αποτέλεσμα που ξεσηκώνει το κοινό. \nΜετά την επιτυχία του προηγούμενου τους album “Σίσυφος”\, που αγαπήθηκε για τις συγκινητικές ιστορίες και τις δυνατές του ενορχηστρώσεις\, το συγκρότημα επανέρχεται με ένα ακόμα κινηματογραφικό video clip με τίτλο “Νηχός”. Ο Νηχός είναι η μελωδία\, η μουσική ως κάλεσμα\, ως κραυγή και ψίθυρος μαζί\, ως νήμα που ενώνει αόρατα το χθες με το σήμερα\, τη ρίζα με την αλλαγή. \nΤο τραγούδι είναι ένα από τα εννέα κομμάτια του πολυαναμενόμενου album τους “Όψεις”\, που κυκλοφορεί το Μάρτιο του 2025 και συνεχίζει την αφήγηση ιστοριών μέσα από τον ρυθμό\, την ποίηση και τον σύγχρονο παραδοσιακό παλμό που χαρακτηρίζει το σχήμα. \nΣτη συναυλία στο Fuzz το Σάββατο 12 Απριλίου\, οι Babo Koro θα παρουσιάσουν για πρώτη φορά ζωντανά τα νέα τους τραγούδια\, ενώ παράλληλα θα ερμηνεύσουν κομμάτια από όλη την πορεία τους\, χαρίζοντας στο κοινό μια ανεπανάληπτη βραδιά γεμάτη χορό\, συναίσθημα και αυθεντική ενέργεια. \nINFO\nFUZZ CLUB: ΠΕΙΡΑΙΩΣ 209 & ΠΑΤΡ. ΙΩΑΚΕΙΜ 1\, ΤΑΥΡΟΣ\nΤΗΛ: 210 3450817 \nΠΟΡΤΕΣ 20:30 – ΕΝΑΡΞΗ 21:00\nEARLY BIRD: 10€ | ΠΡΟΠΩΛΗΣΗ: 12€ | ΤΑΜΕΙΟ: 15€
URL:https://www.fuzzclub.gr/event/babo-koro/
LOCATION:Fuzz Club\, PIREOS 209 KAI PATRIARXOU IOAKIM 1\, Athens\, Greece
CATEGORIES:Concerts
ATTACH;FMTTYPE=image/jpeg:https://www.fuzzclub.gr/wp-content/uploads/2025/03/Babo-Koro_FB-EVENT-scaled.jpg
END:VEVENT
BEGIN:VEVENT
DTSTART;TZID=Europe/Athens:20250413T193000
DTEND;TZID=Europe/Athens:20250413T233000
DTSTAMP:20260420T002405
CREATED:20250210T101337Z
LAST-MODIFIED:20250331T082351Z
UID:8420-1744572600-1744587000@www.fuzzclub.gr
SUMMARY:Μαρίνα Σπανού  (sold-out)
DESCRIPTION:Η Μαρίνα Σπανού μαζί με τη μπάντα της επιστρέφει στην Αθήνα της\, την Κυριακή 13 Απριλίου στη σκηνή του Fuzz. \n«ένα χρόνο μετά το πρώτο ταξίδι\, \nφέρνουμε την άνοιξη ξανά \nκαι τραγουδάμε για τα γράμματα που δε δώσαμε\, \nτα νησιά που αγαπήσαμε\, \nτα καλοκαίρια που περιμένουμε να ‘ρθουν \nκι ίσως κάποιους καινούργιους αστερισμούς που μέσα τους φυλάμε όλες τις γειτονιές που ερωτευτήκαμε \nέλα να τα πούμε ξανά λοιπόν» \nΜαζί της:\nΚωστής Βήχος | Μπάσο\, Ενορχηστρώσεις\nΑλέκος Βουλγαράκης | Κιθάρα\nΑποστόλης Μπουρνιάς | Κρουστά\, Τύμπανα\nΓιώργος Κουρέλης | Πλήκτρα \nΗλίας Καρούμπαλης | Ηχοληψία \nΑγαπητός Καταξάκης | Ηχοληψία \nΜαρία Βενετάκη | Φωτισμοί \nΑλεξάνδρα Κατσαρού | Φωτογραφία Αφίσας \nΧρήστος Σπανός | Καλλιτεχνική Επιμέλεια\nNovel Vox | Παραγωγή \nΠόρτες : 19:30 – Έναρξη : 21:00 \n 
URL:https://www.fuzzclub.gr/event/marina-spanou-2025/
LOCATION:Fuzz Club\, PIREOS 209 KAI PATRIARXOU IOAKIM 1\, Athens\, Greece
CATEGORIES:Concerts
ATTACH;FMTTYPE=image/png:https://www.fuzzclub.gr/wp-content/uploads/2025/02/image-12.png
END:VEVENT
BEGIN:VEVENT
DTSTART;TZID=Europe/Athens:20250417T203000
DTEND;TZID=Europe/Athens:20250417T233000
DTSTAMP:20260420T002405
CREATED:20241011T084638Z
LAST-MODIFIED:20241024T130435Z
UID:8277-1744921800-1744932600@www.fuzzclub.gr
SUMMARY:HOOVERPHONIC
DESCRIPTION:Οι Hooverphonic έρχονται στην Ελλάδα με κουαρτέτο εγχόρδων για τα 25 χρόνια του “The Magnificent Tree”! \nHooverphonic (BE) live στην Ελλάδα\nThe Magnificent Tree 25th Anniversary \nThe band will be accompanied by a string quartet! \nΤετάρτη 16 Απριλίου 2025 | Principal Club Theater | Θεσσαλονίκη \nΠέμπτη 17 Απριλίου 2025 | Fuzz Live Music Club | Αθήνα \nΤα εισιτήρια κοστίζουν 30 ευρώ (περιορισμένη προπώληση)\, 35 ευρώ (προπώληση)\, 38 ευρώ (ταμείο). \nΗλεκτρονική προπώληση: https://www.more.com/music/hooverphonic-live-in-greece \nHard copy εισιτήρια διαθέσιμα στο The Nephilim Metal Store (Πατρ. Ιωακείμ 17)\, Rudu Bar (Ηρακλειδών 70\, Αθήνα) \nΟι αγαπημένοι του ελληνικού κοινού\, Hooverphonic επιστρέφουν στην Ελλάδα για δύο επικά shows\, με όλες τους τις επιτυχίες\, αλλά και για τον εορτασμό των 25 ετών από την κυκλοφορία του εμβληματικού “The Magnificent Tree” που είναι άλλωστε και το album που τους εκτόξευσε στην στρατόσφαιρα της επιτυχίας και της παγκόσμιας αναγνώρισης. Σε αυτές τις δύο μοναδικές συναυλίες που θα λάβουν χώρα σε Αθήνα και Θεσσαλονίκη\, οι Hooverphonic θα συνοδεύονται από κουαρτέτο εγχόρδων\, κάτι που θα εμπλουτίσει ακόμη περισσότερο την live ηχητική παλέτα τους\, στοχεύοντας στην πιστή αποτύπωση της τραγουδοποιίας τους\, αλλά και την δημιουργία μίας πολύ ξεχωριστής ατμόσφαιρας\, κάτι στο οποίο άλλωστε το Βελγικό τρίο ειδικεύεται! \nΣχηματίστηκαν το 1995 από τους Alex Callier\, Raymond Geerts και Liesje Sadonius\, με την Geike Arnaert να προσχωρεί στο σχήμα αργότερα ως η lead τραγουδίστρια. Από τα πρώτα τους κιόλας βήματα ξεχώρισαν για την μαεστρία με την οποία προσμείγνυαν pop\, rock και ηλεκτρονικούς ήχους. Αυτό έγινε εμφανές στο ντεμπούτο του 1996 με τίτλο “A New Stereophonic Sound Spectacular”\, που αποθεώθηκε από τον μουσικό τύπο για την μοναδική του αισθητική και την χαρισματική του τραγουδοποιεία\, ανοίγοντας τον δρόμο για τον επίσης εξαιρετικό διάδοχό του\, το “Blue Wonder Power Milk” του 1998\, που θεμελίωσε την φήμη τους\, περιέχοντας τραγούδια – σταθμούς όπως τα “Club Montepulciano” και “This Strange Effect”. Η ατμοσφαιρική μελαγχολία είχε πλέον το όνομα Hooverphonic\, αλλά αυτό ήταν μόνο η αρχή. \nΤο “The Magnificent Tree” που ακολούθησε 2 χρόνια αργότερα\, αποτέλεσε την ίσως πιο κρίσιμη καμπή της εναρκτήριας πορείας των Hooverphonic. Άλλωστε τραγούδια όπως τα “Mad About You” και “Vinegar & Salt” βασιλεύουν μέχρι και σήμερα στις mainstream ραδιοφωνικές -και όχι μόνο- playlists αποδεικνύοντας την διαχρονική μουσική τους αξία. Δεν είναι μόνο η αιθέρια φωνή της Geike Arnaert\, και το συνθετικό τους ταλέντο\, αλλά και η ταχύτητα της μουσικής τους εξέλιξης\, η ροπή τους προς την καινοτομία και η επιδεξιότητα με την οποία έφεραν κοντά την trip hop και τα ορχηστρικά στοιχεία\, πιέζοντας τα όρια των ειδών και δημιουργώντας ένα forward-thinking αριστούργημα\, που μάγεψε μονομιάς την μουσική βιομηχανία και τα παγκόσμια ακροατήρια. Όσα χρόνια κι αν περάσουν\, το “The Magnificent Tree” θα είναι πάντα το album που καθόρισε τους Hooverphonic κι εκείνο στο οποίο οι οπαδοί τους θα γυρνάμε\, σαν μια ζεστή αγκαλιά που μας κάνει να νιώθουμε σαν στο σπίτι μας. \nΠρόκειται για την ίσως σημαντικότερη\, αλλά όχι μοναδική επιτυχία τους\, μιας που από τότε μέχρι και σήμερα\, συνεχίζουν ασταμάτητα να δισκογραφούν με συνέπεια και να σαρώνουν τις μουσικές σκηνές ανά την υφήλιο. Πλέον\, επανενωμένοι με την τραγουδίστρια που σημάδεψε τον ήχο τους\, την χαρισματική Geike Arnaert\, βγαίνουν και πάλι στον δρόμο\, περνώντας από την χώρα μας στις 16 και 17 Απριλίου σε Θεσσαλονίκη και Αθήνα αντίστοιχα. Αυτές οι δύο συναυλίες τους φέρνουν και πάλι κοντά στο αγαπημένο τους ελληνικό κοινό\, αυτήν όμως την φορά\, σε μία συγκυρία που ξεχωρίζει από τις άλλες\, για τον εορτασμό δηλαδή των 25 ετών από την κυκλοφορία του album που τους καταξίωσε στην συνείδησή του. \nΔημοσιογραφική επικοινωνία: 3plabgr@gmail.com
URL:https://www.fuzzclub.gr/event/hooverphonic-fuzz/
LOCATION:Fuzz Club\, PIREOS 209 KAI PATRIARXOU IOAKIM 1\, Athens\, Greece
CATEGORIES:Concerts
ATTACH;FMTTYPE=image/jpeg:https://www.fuzzclub.gr/wp-content/uploads/2024/10/Hooverphonic_PP1-1.jpg
ORGANIZER;CN="Made of Stone":MAILTO:christos@madeofstone.gr
END:VEVENT
BEGIN:VEVENT
DTSTART;TZID=Europe/Athens:20250426T200000
DTEND;TZID=Europe/Athens:20250426T233000
DTSTAMP:20260420T002405
CREATED:20240625T102200Z
LAST-MODIFIED:20240627T081039Z
UID:8209-1745697600-1745710200@www.fuzzclub.gr
SUMMARY:Baby Lasagna
DESCRIPTION:Ο Baby Lasagna\, το φαινόμενο της φετινής Eurovision\, στην Ελλάδα!\n\n\nΟ Baby Lasagna που σάρωσε σε όλες τις χώρες στις ψηφοφορίες του κοινού του πιο δημοφιλούς μουσικού διαγωνισμού της Ευρώπης\, θα βρεθεί στην Αθήνα για μία και μοναδική συναυλία στο Fuzz Club στις 26 Απριλίου του 2025. \nΟ Baby Lasagna\, το μουσικό project του Marko Purisic\, γεννήθηκε από την ανάγκη του τραγουδοποιού για καλλιτεχνική έκφραση\, προκειμένου να γράψει και να ερμηνεύσει μουσική χωρίς αυστηρούς περιορισμούς είδους. \nΜε τον Baby Lasagna\, ο Marko βρήκε επιτέλους μια θέση μέσα στην οποία μπορεί να συνδυάσει ασυμβίβαστα είδη\,\nδημιουργώντας νέους ήχους που είναι ταυτόχρονα φρέσκοι και συναρπαστικοί. \nΗ μουσική του παρουσιάστηκε για πρώτη φορά δημόσια στα τέλη του 2023\, με τα single «IG BOY» και «Don’t hate yourself\, but don’t love yourself too much»\, ενώ το πρώτο εξάμηνο του 2024 ήρθε η παγκόσμια αναγνώριση με το «Rim Tim Tagi Dim». \nΤο τραγούδι κέρδισε τον Κροατικό διαγωνισμό ESC Dora τον Φεβρουάριο και κατέλαβε τη δεύτερη θέση στον διαγωνισμό τραγουδιού της Eurovision στη Σουηδία τον Μάιο\, κερδίζοντας μακράν τις περισσότερες ψήφους του κοινού στις τηλεψηφοφορίες σε όλο τον κόσμο. \nΤο τραγούδι έχει πλέον ξεπεράσει τα 35 εκατομμύρια streams στο Spotify και βρίσκεται αρκετό καιρό στο Top 40 των επίσημων charts σε χώρες όπως το Ηνωμένο Βασίλειο\, η Γερμανία και η Αυστρία. \nΜετά από την εκπληκτική διαδρομή του στη Eurovision\, η ιστορία του Baby Lasagna απογειώθηκε εξαιρετικά γρήγορα\,\nμε την υπογραφή δισκογραφικής συμφωνίας με την Polydor / Universal Γερμανίας\, κάνοντας συγχρόνως sold out σε μία ημέρα τρεις συναυλίες στο στάδιο του Ζάγκρεμπ της Κροατίας. Tην ίδια αποθεωτική υποδοχή γνώρισαν πολλές ακόμα συναυλίες του στην Κροατία\, τα Βαλκάνια και την Ευρώπη. \nΠραγματοποιώντας τις πρώτες\, εξαιρετικά επιτυχημένες\, ζωντανές εμφανίσεις του αυτή την Άνοιξη και με περισσότερες από 60 συναυλίες μέχρι το τέλος Απριλίου του 2025\, το μέλλον φαίνεται πραγματικά λαμπρό για τον Baby Lasagna. \nΟ ασταμάτητος Marko ετοιμάζει και νέα μουσική με singles και βίντεο να έχουν ήδη προγραμματιστεί για τα τέλη Ιουνίου\, ενώ το πολυαναμενόμενο ντεμπούτο άλμπουμ του θα κυκλοφορήσει τον επόμενο χειμώνα. \n\n\nΤο Σάββατο 26 Απριλίου 2025 το ελληνικό κοινό θα έχει την τύχη να υποδεχθεί ένα από τα πιο hot acts παγκοσμίως στο Fuzz Club\, σε ένα show που θα αποδείξει ότι ο Baby Lasagna είναι το next best thing του music industry!
URL:https://www.fuzzclub.gr/event/baby-lasagna/
LOCATION:Fuzz Club\, PIREOS 209 KAI PATRIARXOU IOAKIM 1\, Athens\, Greece
CATEGORIES:Concerts
ATTACH;FMTTYPE=image/jpeg:https://www.fuzzclub.gr/wp-content/uploads/2024/06/baby-l.jpg
END:VEVENT
END:VCALENDAR