BEGIN:VCALENDAR
VERSION:2.0
PRODID:-//Fuzz Club - ECPv6.15.17.1//NONSGML v1.0//EN
CALSCALE:GREGORIAN
METHOD:PUBLISH
X-WR-CALNAME:Fuzz Club
X-ORIGINAL-URL:https://www.fuzzclub.gr
X-WR-CALDESC:Events for Fuzz Club
REFRESH-INTERVAL;VALUE=DURATION:PT1H
X-Robots-Tag:noindex
X-PUBLISHED-TTL:PT1H
BEGIN:VTIMEZONE
TZID:Europe/Athens
BEGIN:DAYLIGHT
TZOFFSETFROM:+0200
TZOFFSETTO:+0300
TZNAME:EEST
DTSTART:20240331T010000
END:DAYLIGHT
BEGIN:STANDARD
TZOFFSETFROM:+0300
TZOFFSETTO:+0200
TZNAME:EET
DTSTART:20241027T010000
END:STANDARD
BEGIN:DAYLIGHT
TZOFFSETFROM:+0200
TZOFFSETTO:+0300
TZNAME:EEST
DTSTART:20250330T010000
END:DAYLIGHT
BEGIN:STANDARD
TZOFFSETFROM:+0300
TZOFFSETTO:+0200
TZNAME:EET
DTSTART:20251026T010000
END:STANDARD
BEGIN:DAYLIGHT
TZOFFSETFROM:+0200
TZOFFSETTO:+0300
TZNAME:EEST
DTSTART:20260329T010000
END:DAYLIGHT
BEGIN:STANDARD
TZOFFSETFROM:+0300
TZOFFSETTO:+0200
TZNAME:EET
DTSTART:20261025T010000
END:STANDARD
END:VTIMEZONE
BEGIN:VEVENT
DTSTART;TZID=Europe/Athens:20250301T223000
DTEND;TZID=Europe/Athens:20250301T235900
DTSTAMP:20260419T203847
CREATED:20250228T111338Z
LAST-MODIFIED:20250228T111522Z
UID:8430-1740868200-1740873540@www.fuzzclub.gr
SUMMARY:Trashformers - Διπλή Ταρίφα! // CARNIVAL 2025 - VIDEOCLIP
DESCRIPTION:Αθήνα… Σάββατο βράδυ…. Απόκριες…\nΕπιλογές   Α – ΠΕΙ – ΡΕΣ … ! \nΚαι που να πρωτοπάει κανείς…\nΠου είναι άραγε το μέρος που θα γίνει… “η φάση” ;\nΣήμερα είναι η τυχερή μας μας μέρα.. (ή μάλλον.. νύχτα) \nΘα πάμε ΠΑΝΤΟΥ ! … και εννοείται θα το κάνουμε ΜΑΣΚΕ ! \nΟι Trashformers μας προσκαλούν σε μια νυχτερινή\, καρναβαλική\, τρελιάρικη βόλτα στην Πόλη…\nΤην πόλη του Φωτός! Την αιώνια πόλη… Την πόλη που δεν κοιμάται ποτέ! Την Αθήνα… \nΣτο φετινό show τη γυρίζουμε ολόκληρη\, με ένα taxi\, από άκρη σε άκρη! Πολλές διαφορετικές γειτονιές της Αθήνας\, κάθε μία με τον χαρακτηριστικό της ήχο!\nΟ τελικός προορισμός βέβαια είναι ένας… και μοναδικός!\n… αυτός που μας εκφράζει πραγματικά! \n(Πολλές τελίτσες έχω βάλει…) \n§§§§§§§ ////// CARNIVAL 2025 \\\\\\ §§§§§§§ \nΩς γνωστό παγκοσμίως (και πανδιαγαλαξιακά αν υπάρχει αυτή η λέξη) τα αποκριάτικα parties των Trashformers είναι τα πιο τέλεια/υπέρτατα/ανυπέρβλητα σε ΟΛΟ τον κόσμο (ακολουθούν αυτά στη Βραζιλία και στη Βενετία)!!!\nΦέτος το θέμα μας είναι “VIDEOCLIP”\, δηλαδή ντυθείτε όποιος χαρακτήρας\, ρόλος\, τραγουδιστής\, performer\, αισθητική\, κτλ\, κτλ\, κτλ από κάποιο αγαπημένο μουσικό video.\nΟυσιαστικά ό\,τι θέλετε αρκεί να παραπέμπει σε κάποιο μουσικό Video Clip. \nΠαραδείγματα στολών:\nThriller – Michael Jackson / κλάσσικ και άμεσα αναγνωρίσιμο\nOops I did it Again – Britney / αν σας ταιριάζει το κόκκινο…\nEverybody – BSB / ιδέα για ομαδική πολλών ατόμων\nWild Dances – Ruslana / αν έχετε άγρια ένστικτα για τη νύχτα!\nFirestarter – Prodigy / δυνατή στολή!\nGucci Φόρεμα – Μαζώ / αν έχετε γουνάκι εύκαιρο \nΓενικά οι ιδέες είναι άπειρες! Προφανώς αν δεν σας κάνει το θέμα\, μπορείτε να ντυθείτε και κάτι άκυρο! Απλά έτσι δεν θα πάρετε μέρος στον ΓΑΜΑΤΟ καθιερωμένο διαγωνισμό στολής!! (κρίμα δεν είναι 😉 \nΌπως κάθε χρόνο\, ανταμείβεται η δημιουργικότητα\, οι έξυπνες ιδέες\, οι αστείες εκτελέσεις. Φυσικά τον τελικό λόγο τον έχει ο κόσμος! \n§§§§§§§§§§§§§§§§§§§§§§§§§§§§§§§§§§§ \n  \nΣάββατο του Καρναβαλιού 1/3/25\, στο πιο εκρηκτικό Dancefloor της πόλης! \nΤο show είναι ολόφρεσκο\, αλλά τα απαραίτητα συστατικά για το οπτικοακουστικό υπερθέαμα των Trashformers είναι γνωστά! \nᗘ Pre party… DJ set. Έτσι\, για να μπούμε σε mood!\nᗘ  Ultra απολαυστικό show!\nᗘ  VJ sets που καίνε τον αμσφιβηλστροειδή (στου χαντάκι)\nᗘ Secret guest γιατί πάντα περνάμε καλά με τους φίλους μας!\nᗘ  Δόσεις τρέλας! (παντού και πάντα <3 )\nᗘ  Δόσεις νοσταλγίας απευθείας από το υποσυνείδητο.\nᗘ After party σκληρό… για όσους αντέχουν! \nΕίναι εκεί που το παρελθόν συναντάει το παρόν\, και το παρόν το μέλλον\, οι έννοιες γίνονται ένα… και τα αγαπημένα μας τραγούδια από 80s\, 90s\, 00s (και βάλε) μπλέκουν σε ένα χορευτικό ασταμάτητο megamix. Φυσικά με την αξεπέραστη μυστική συνταγή των TFs! \nΑπό τη δημιουργία των Trash Parties το μακρινό 2004\, μέχρι το νο1 διαγαλαξιακό party του σήμερα\, μια ιδέα δρόμος! \n****************************** \nTrashformers – Διπλή Ταρίφα!\nSat. 1/3/25 // Carnival 2025\nDress theme VideoClip\nFuzz Live Music Club\nΠειραιώς 209 & Πατρ. Ιωακείμ 1\, Ταύρος\ndoors open at 22:22 / show starts at 23:45\ntickets early-bird 8 / presale 9 / on spot 10\ninfo/reservations 2103450817\nonline ticketing at more.com by viva
URL:https://www.fuzzclub.gr/event/trashformers-carnival-edition/
LOCATION:Fuzz Club\, PIREOS 209 KAI PATRIARXOU IOAKIM 1\, Athens\, Greece
CATEGORIES:Concerts
ATTACH;FMTTYPE=image/jpeg:https://www.fuzzclub.gr/wp-content/uploads/2025/02/trashformers-viva1220x370-80.jpeg
END:VEVENT
BEGIN:VEVENT
DTSTART;TZID=Europe/Athens:20250307T203000
DTEND;TZID=Europe/Athens:20250307T233000
DTSTAMP:20260419T203847
CREATED:20241029T102125Z
LAST-MODIFIED:20241104T084620Z
UID:8328-1741379400-1741390200@www.fuzzclub.gr
SUMMARY:TOUCHE AMORE
DESCRIPTION:Η Smoke the Fuzz gigs περήφανα παρουσιάζει\, τους Touché Amoré \, το μοναδικό φαινόμενο του μέσου post-hardcore ήχου\, από το πολυθρύλητο Los Angeles\, που για σχεδόν 20 χρόνια εντυπωσιάζει με τον ξεχωριστό του ήχο\, θα επισκεφτεί για πρώτη φορά τη χώρα μας στις 7 Μαρτίου του 2025 στο Fuzz Club και το ελληνικό κοινό θα έχει μίας πρώτης τάξεως ευκαιρία\, όχι απλά να βιώσει τις έντονες εμφανίσεις τους και το συνολικό συναίσθημα που προσφέρουν στον ακροατή και θεατή\, αλλά και με ολόφρεσκο το υλικό του νέου έκτου τους άλμπουμ με τίτλο “Spiral In A Straight Line”\, που κυκλοφόρησε ελάχιστες μέρες πριν την πολυαναμενόμενη αυτή ανακοίνωση. Ένα άλμπουμ που τους βρίσκει να έχουν εξελιχθεί περισσότερο από ποτέ στην καριέρα τους και με νέους δρόμους να ανοίγονται στο πόσο εσωτερικοί ακούγονται\, αλλά και στο πόσο μεταδοτικοί έχουν γίνει από το ξεκίνημα των full-length δίσκων τους 15 χρόνια πίσω\, με το ντεμπούτο τους στην εταιρεία 6131 ονόματι “…To The Beat Of A Dead Horse” να εκπλήσσει όχι απλά με τη μικρή του διάρκεια των μόλις 18μιση λεπτών αλλά και την περιεκτικότητά του μουσικά. \nΚύριο χαρακτηριστικό της καριέρας των Touché Amoré είναι οι ελάχιστες αλλαγές στο line-up τους\, πράγμα που προ(σ)δίδει σταθερότητα αλλά και χημεία μεταξύ τους\, ώστε να βγει ο ιδιαίτερος ήχος τους και να ακούγονται πιο έντονοι με κάθε απόπειρά τους στη δισκογραφία. Ο τραγουδιστής Jeremy Bolm\, ο κιθαρίστας/πληκτράς Clayton Stevens και ο πρώην μπασίστας και μετέπειτα ρυθμικός κιθαρίστας Nick Steinhardt είναι μαζί από την δημιουργία της μπάντας το 2007 και γνωρίζουν άπταιστα τι πρέπει να κάνουν κάθε φορά ώστε η μπάντα να κάνει τη διαφορά\, όπως έχει συνηθίσει\, και πώς να διαχειριστούν την ευθύνη της ραγδαίας αύξησης του κοινού τους με κάθε δίσκο. Με τις προσθήκες αργότερα του ντράμερ Elliot Babin το 2009 αλλά και του μπασίστα Tyler Kirby από την μεταπήδηση του Steinhardt στις ρυθμικές κιθάρες από το 2010 και μετά την αποχώρηση του κιθαρίστα Tyson White που συμμετείχε μόνο στο ντεμπούτο τους\, το Αμερικάνικο κουιντέτο θαρρείς και κάνει επίδειξη δύναμης και κατάθεση ψυχής παράλληλα\, συνεχίζουν ακάθεκτοι παρά την αλλαγή εταιρείας στην Deathwish Inc. στο 2ο άλμπουμ τους “Parting The Sea Between Brightness And Me” το 2011. \nOλες οι πληροφορίες στο facebook event \nΟ ερχομός τους στη χώρα μας τους βρίσκει με τη μεγαλύτερη δυνατή δημοτικότητά τους\, με την καλύτερή τους κατάσταση στα 15 χρόνια επίσημης δισκογραφίας τους και με αρκετό υλικό να γεμίσουν μία εμφάνιση\, παρά τη μικρή διάρκεια των κομματιών τους και των δίσκων τους. Θεωρούμε βέβαιο ότι θα είναι μία βραδιά που θα θυμούνται για πάντα οι πιστοί Fuzzsmokers ως μία από τις πλέον έντονες εμπειρίες που τους έχουμε προσφέρει και που θα μείνει για πάντα στην ιστορία. \nΣτις 7 Μαρτίου του 2025 προσφέρουμε για άλλη μία φορά το διαφορετικό και καινοτόμο με ένα συγκρότημα που καταπλήσσει τα πλήθη στο εξωτερικό και που η μοναδικότητά τους θα περιβάλει και το ελληνικό κοινό για πρώτη φορά. Και ελπίζουμε ότι θα ακολουθήσουν κι άλλες μελλοντικά… \nΠαρασκευή  7 Μαρτίου 2025 @ Fuzz Club \nΠόρτες : 20:30 \nΈναρξη : 21:00 \nΤιμές εισιτηρίων : από €29 \nΣημεία προπώλησης : Αποκλειστικά μέσω more.com : \n– Online στο https://bit.ly/3UrdiI1 & http://www.athinorama.gr/ \n– Σε φυσικά σημεία : καταστήματα NOVA\, Public\, Βιβλιοπωλεία Ευριπίδης και Viva Spot Τεχνόπολης (μέσα στο χώρο της Τεχνόπολης\, είσοδος από οδό Περσεφόνης\, Δευτ-Σαβ 11:00-19:00)
URL:https://www.fuzzclub.gr/event/touche-amore/
LOCATION:Fuzz Club\, PIREOS 209 KAI PATRIARXOU IOAKIM 1\, Athens\, Greece
CATEGORIES:Concerts
ATTACH;FMTTYPE=image/jpeg:https://www.fuzzclub.gr/wp-content/uploads/2024/10/file.jpg
END:VEVENT
BEGIN:VEVENT
DTSTART;TZID=Europe/Athens:20250308T203000
DTEND;TZID=Europe/Athens:20250308T233000
DTSTAMP:20260419T203847
CREATED:20250305T093825Z
LAST-MODIFIED:20250305T093825Z
UID:8434-1741465800-1741476600@www.fuzzclub.gr
SUMMARY:MOBB DEEP feat. HAVOC\, BIG NOYD & DJ L.E.S.
DESCRIPTION:MOBB DEEP feat. HAVOC\, BIG NOYD & DJ L.E.S. \nSpecial guests: \nΘΥΤΗΣ Χ SADOMAS \nOBNOXIOUS KAS \n️ΣΑΒΒΑΤΟ 8 ΜΑΡΤΙΟΥ \nFUZZ CLUB \nΠατριάρχου Ιωακείμ 1\, Ταύρος \nΟι Mobb Deep δεν είναι απλώς μουσική · είναι αφήγηση\, κουλτούρα\, και ρεαλισμός. \nΌταν μιλάμε για την ιστορία του Hip Hop\, δεν γίνεται να μην αναφέρουμε τους Mobb Deep\, ένα από τα πιο επιδραστικά και εμβληματικά ντουέτα του East Coast. Αποτελούμενοι από τους Prodigy (RIP) και Havoc\, οι Mobb Deep έθεσαν τα θεμέλια για το hardcore street rap\, δημιουργώντας ένα σκοτεινό και ωμό ήχο που αντικατοπτρίζει τις πραγματικότητες των δρόμων της Νέας Υόρκης. O Havoc\, το ½ ενός από τα πιο θρυλικά και επιδραστικά συγκροτήματα του Hip Hop της Νέας Υόρκης\, μαζί με τον Big Noyd\, βασικό συνεργάτη του γκρουπ και έναν από τους πιο live MCs του Queensbridge\, και τον ιστορικό dj και producer DJ L.E.S. έρχονται να βάλουν φωτιά στην Αθήνα\, εκπροσωπώντας τη ζωντανή κληρονομιά των Mobb Deep! Η δισκογραφία των Mobb Deep περιλαμβάνει κάποια από τα σημαντικότερα albums και tracks σε ολόκληρη την Ιστορία του Hip Hop. Με το mega hit “Shook Ones\, Part II” και το “Survival Of The Fittest” του “The Infamous” του 1995\, το “Hell On Earth” του 1996 και το “Murda Music” του 1999\, το γκρουπ εδραιώθηκε ως ένα από τα πιο καθοριστικά της περιόδου στον νεοϋορκέζικο ήχο του Hip Hop. O Havoc θεωρείται ευρέως ως ένας από τους κορυφαίους producers όλων των εποχών. Μέσω των albums των Mobb Deep\, στα οποία έχει αναλάβει σχεδόν εξ ολοκλήρου την παραγωγή\, έθεσε τους τόνους και καθόρισε ένα ολόκληρο μουσικό είδος καθ’ όλη τη διάρκεια της δεκαετίας των ‘90s\, με τον dark\, gritty και atmospheric ήχο του. Εκτός από τους δίσκους του γκρουπ\, έχει προσφέρει αμέτρητα classics μέσω των συνεργασιών του με τους σημαντικότερους καλλιτέχνες της σκηνής όπως οι Notorious B.I.G.\, Eminem\, Nas\, Raekwon\, 50 Cent\, Method Man\, Kanye West\, LL Cool J\, Big Noyd\, Lil’ Kim\, Capone-N-Noreaga\, Foxy Brown\, Onyx αλλά και φυσικά με τα solo album του Prodigy.  Εκτός από κορυφαίος παραγωγός ο Havoc αποτελεί και μία από τις πιο κλασικές φωνές στο μικρόφωνο στο νεοϋορκέζικο Hip Hop. Έχει κυκλοφορήσει τα πολύ επιτυχημένα solo albums “The Kush”\, “13” και “13 Reloaded”. Εκτός από τις solo δουλειές του\, έχει κυκλοφορήσει σημαντικά συνεργατικά projects όπως το “Silent Partner” με τον Alchemist\, το “In the Name of Prodigy” με τον Flee Lord και το “Wreckage Manner” with Styles P μεταξύ άλλων. Αυτό τον καιρό δουλεύει πάνω σε δύο από τα πιο γνωστά και αναμενόμενα από το κοινό projects\, ένα νέο Mobb Deep album παρέα με τον Alchemist και ένα album με τον Method Man. \n  \nO Big Noyd ήταν ανέκαθεν ένα “άτυπο τρίτο μέλος” στους Mobb Deep και τους έχει συνοδεύσει στο μικρόφωνο σε όλες τις φάσεις της μεγάλης πορείας τους. Έχει πάρα πολλά κλασικά και πολύ αγαπημένα κουπλέ σε albums των Mobb Deep\, όπως στα κομμάτια “Give Up The Goods”\, “Burn” αλλά και πολλά άλλα\, ενώ έχει και ο ίδιος εκτεταμένη και πολύ επιτυχημένη δισκογραφία\, από το πρώτο solo album του “Episodes of a Hustla” του 1996 σε παραγωγή του Havoc μέχρι κομμάτια όπως το “Hoodlum” με τον Rakim. \nO DJ L.E.S. είναι dj και παραγωγός με πολλά μεγάλα hits στην πλάτη του\, όπως το “Life’s a Bitch” από το Illmatic του Nas\, το “Gettin’ Jiggy wit It” και το “Miami” του Will Smith σε συμπαραγωγή με τους Trackmasters\, το “Envy” του Fat Joe και πολλά άλλα. \nFUZZ CLUB\, Πατριάρχου Ιωακείμ 1\, Ταύρος \nDoors open 20:30 \nΠροπώληση εισιτηρίων: more.com και στο δίκτυο καταστημάτων του. \nEarly Bird: 23€ \nPresale: 27€ \nDoor: 32€
URL:https://www.fuzzclub.gr/event/mobb-deep/
LOCATION:Fuzz Club\, PIREOS 209 KAI PATRIARXOU IOAKIM 1\, Athens\, Greece
CATEGORIES:Concerts
ATTACH;FMTTYPE=image/jpeg:https://www.fuzzclub.gr/wp-content/uploads/2025/03/cropped-image-1.jpg
END:VEVENT
BEGIN:VEVENT
DTSTART;TZID=Europe/Athens:20250321T200000
DTEND;TZID=Europe/Athens:20250321T233000
DTSTAMP:20260419T203847
CREATED:20250321T101118Z
LAST-MODIFIED:20250321T101500Z
UID:8447-1742587200-1742599800@www.fuzzclub.gr
SUMMARY:ΦΙ ΒΗΤΑ ΣΙΓΜΑ
DESCRIPTION:Οι ΦΙ ΒΗΤΑ ΣΙΓΜΑ παρουσιάζουν ζωντανά το νέο album “Όνειρα Σε Σπίτι Μάγισσας” σε μία μεγάλη συναυλία στην Αθήνα.
URL:https://www.fuzzclub.gr/event/fi-bhta-sigma-2/
LOCATION:Fuzz Club\, PIREOS 209 KAI PATRIARXOU IOAKIM 1\, Athens\, Greece
CATEGORIES:Concerts
ATTACH;FMTTYPE=image/jpeg:https://www.fuzzclub.gr/wp-content/uploads/2025/03/fvs-ath-viva-1220x370-1.jpg
END:VEVENT
BEGIN:VEVENT
DTSTART;TZID=Europe/Athens:20250328T203000
DTEND;TZID=Europe/Athens:20250328T233000
DTSTAMP:20260419T203847
CREATED:20250213T114319Z
LAST-MODIFIED:20250213T114319Z
UID:8424-1743193800-1743204600@www.fuzzclub.gr
SUMMARY:Κωσταντής Πιστιόλης
DESCRIPTION:Την Παρασκευή 28 Μαρτίου ο Κωσταντής Πιστιόλης εμφανίζεται μαζί με τους συνεργάτες του στο Fuzz Club στην Αθήνα σε μια συναυλία που περιλαμβάνει τραγούδια από την πρόσφατη δισκογραφία του αλλά και από την υπόλοιπη μουσική δουλειά του. Παραδοσιακοί ήχοι και γνώριμες μελωδίες εναρμονίζονται με ηλεκτρικούς και πειραματικούς αυτοσχεδιασμούς\, δημιουργώντας άλλοτε απόκοσμα και άλλοτε εκστατικά ηχοτοπία. Η μουσική του μας συνοδεύει από την γνωριμία μέχρι την μύηση και από εκεί έως την κάθαρση μέσα από ένα κυκλωτικό γλέντι. \n\nΜαζί του επί σκηνής θα είναι οι μουσικοί: \n\nΒαγγέλης Καζαντζής (ηλεκτρική κιθάρα\, λαούτο\, φωνητικά) \n\nΓιάννης Ριζόπουλος (κρουστά setup\, φωνητικά) \n\nΚώστας Τσαρούχης (κοντραμπάσο\, φωνητικά) \n\nΕπιμέλεια ήχου: Νίκος Χριστογιαννόπουλος \n\nΠροσέλευση: 20:30 \n\nΈναρξη: 21:30 \n\nΔιάρκεια: 150 λεπτά \n\nΓενική είσοδος: 15 ευρώ \n\nΟργάνωση παραγωγής: Arbor Cultus Productions
URL:https://www.fuzzclub.gr/event/pistiolis/
LOCATION:Fuzz Club\, PIREOS 209 KAI PATRIARXOU IOAKIM 1\, Athens\, Greece
CATEGORIES:Concerts
ATTACH;FMTTYPE=image/jpeg:https://www.fuzzclub.gr/wp-content/uploads/2025/02/477183955_122101810496760442_4204022336748422772_n.jpg
END:VEVENT
BEGIN:VEVENT
DTSTART;TZID=Europe/Athens:20250329T193000
DTEND;TZID=Europe/Athens:20250329T233000
DTSTAMP:20260419T203847
CREATED:20250124T114343Z
LAST-MODIFIED:20250329T162225Z
UID:8403-1743276600-1743291000@www.fuzzclub.gr
SUMMARY:Enemy of Reality
DESCRIPTION:Εκεί που η heavy metal δεξιοτεχνία\, συναντά την λαϊκή παράδοση\, στο σταυροδρόμι που ο λυρισμός και η επιβλητικότητα του symphonic metal κύματος\, φλερτάρει με progressive metal performances\, οι Enemy of Reality ξεδιπλώνουν την τραγουδοποιεία τους\, εδώ και πάνω από μία δεκαετία\, χαρίζοντάς μας απλόχερα δημιουργίες γεμάτες έμπνευση\, ταλέντο και πρωτοτυπία. \n\nΈχοντας κάνει την αρχή το 2013\, με το φιλόδοξο παρθενικό τους album Rejected Gods που ήρθε ως επιστέγασμα μιας επιτυχημένης crowdfunding καμπάνιας\, ξεκίνησαν να θεμελιώνουν την θέση τους στην εγχώρια αλλά και παγκόσμια σκηνή\, αυτού που τότε πολλοί αποκαλούσαν “female fronted metal”. Οι ίδιοι\, δεν επαναπαύτηκαν\, παρά εξέλιξαν τις εκτελεστικές\, συνθετικές και στιχουργικές τους ικανότητες\, οδηγούμενοι το2016\, στην κυκλοφορία του δεύτερου σε σειρά Arakhne\, ενός εξαιρετικού concept album\, που έλαβε διθυραμβικές κριτικές από τον παγκόσμιο μουσικό τύπο\, χάρη στην πολυμορφία του\, αλλά και τον ιδανικό τρόπο με τον οποίον εκτυλισσόταν σε αυτό\, το χαρισματικό storytelling του συγκροτήματος.\n\n\nΗ εξαετής δισκογραφική αποχή τους που ακολούθησε\, όχι απλά δεν τους πτόησε\, αλλά τους βρήκε το 2018 να περιοδεύουν στην Ευρώπη\, στο πλευρό των σπουδαίων Σουηδών symphonic metallers Therion\, αλλά και να πραγματοποιούν στο ίδιο διάστημα\, πληθώρα εμφανίσεων και φεστιβαλικών συμμετοχών στην ελληνική επικράτεια και το εξωτερικό\, συνοδεύοντας επί σκηνής ονόματα – θρύλους όπως οι Gus G\, Septicflesh\, Tarja\, Epica και While Heaven Wept μεταξύ άλλων! \n\n\nΤον Μάϊο του 2021\, ημέρα μνήμης της γενοκτονίας του Πόντου\, μίας από τις σκοτεινότερες στιγμές της ελληνικής ιστορίας\, κυκλοφόρησαν μία εμβληματική διασκευή στο παραδοσιακό τραγούδι “Την Πατρίδα Μ’Έχασα”\, επιδεικνύοντας για πρώτη φορά τις δεξιότητές τους στο εν λόγω είδος. Μοιραία\, το πιο πρόσφατο album Where Truth May Lie (2023\, Vinylstore) τους βρήκε για πρώτη φορά να πειραματίζονται με παραδοσιακές φόρμες\, σε συνδυασμό και εδώ με μία εντυπωσιακή conceptual αφήγηση\, που προσέδωσε επικές διαστάσεις σε αυτή την κατά πολύ ωριμότερη δισκογραφική δουλειά τους. Με την στόφα μεγάλης μπάντας\, οι Enemy of Reality έμοιαζαν πλέον έτοιμοι να πορευτούν με σίγουρα βήματα στη νέα εποχή τους. \n\n\nΤο Σάββατο 29 Μαρτίου\, στο Fuzz Live Music Club\, το κουαρτέτο γιορτάζει 11 χρόνια ύπαρξης\, σε μία μεγάλη συναυλία\, στην οποία θα ακουστούν όλα τα διαμάντια της δισκογραφίας τους\, συνοδεία εντυπωσιακών σκηνικών και ενδυμασιών\, αλλά και πολλών εκπλήξεων. Σε μία πολυαναμενόμενη για το Αθηναϊκό κοινό συγκυρία\, οι Enemy of Reality πραγματοποιούν την ίσως μεγαλύτερη μέχρι στιγμής εμφάνισή τους στην Αθήνα\, υποσχόμενοι την αποτύπωση όλου τους του καλλιτεχνικού μεγαλείου και οράματος επί σκηνής. Μην το χάσετε! \n\nΜαζί τους θα εμφανιστούν οι Lazy Man’s Load\, ένα από τα συγκροτήματα που έχει προκαλέσει ιδιαίτερο θόρυβο γύρω από το όνομά του τα τελευταία χρόνια. Η πιο πρόσφατη δισκογραφική τους δουλειά\, το Saints Full of Sin του 2023\, αποτέλεσε την απόλυτη ενσάρκωση των πολύπλευρων ταλέντων του πενταμελούς σχήματος από την Αθήνα\, με την ποικιλομορφία και την έντονη προσωπικότητά του\, που προσμειγνύει κλασικό heavy metal\, southern metal\, αμερικάνικο hard rock και πολλές ακόμη επιρροές\, από όλο το φάσμα του σκληρού ήχου. Οι ίδιοι έχουν γράψει πολλά χιλιόμετρα επί σκηνής\, ενώ οι δυναμικές ζωντανές τους εμφανίσεις έχουν συγκεντρώσει γύρω τους ένα φανατικό κοινό\, που τους ακολουθεί σε κάθε συναυλιακή τους περιπέτεια! Κάθε βήμα για τους Lazy Man’s Load είναι ένα βήμα μπροστά\, και δίχως άλλο η συμμετοχή τους σε αυτή την εξαιρετική συναυλιακή συγκυρία\, ενδυναμώνει ακόμη περισσότερο το πακέτο της 29ης Μαρτίου! Κάντε ένα δώρο στον εαυτό σας\, απολαμβάνοντας κάθε στιγμή που θα βρίσκονται επί σκηνής!\n\n\nΤο μοντέρνο metal των Deus Culpa αποπνέει φρεσκάδα\, τόσο στην στουντιακή αποτύπωσή του\, όσο και στις συναυλίες τους\, που είναι κάθε φορά και πιο δυναμικές. Έχοντας στις αποσκευές του το Roots EP και ετοιμάζοντας ήδη το έδαφος για την κυκλοφορία του ντεμπούτο full album του\, το Αθηναϊκό σχήμα θα αποτελέσει την ιδανική έναρξη για την συναυλία της 29ης Μαρτίου\, υποσχόμενο να ηλεκτρίσει την ατμόσφαιρα μίας βραδιάς που αναμένεται επική!
URL:https://www.fuzzclub.gr/event/enemy-of-reality/
LOCATION:Fuzz Club\, PIREOS 209 KAI PATRIARXOU IOAKIM 1\, Athens\, Greece
CATEGORIES:Concerts
ATTACH;FMTTYPE=image/jpeg:https://www.fuzzclub.gr/wp-content/uploads/2025/01/487278878_1316993119869998_7906288936155438132_n.jpg
END:VEVENT
BEGIN:VEVENT
DTSTART;TZID=Europe/Athens:20250330T210000
DTEND;TZID=Europe/Athens:20250330T233000
DTSTAMP:20260419T203847
CREATED:20241104T085009Z
LAST-MODIFIED:20241223T110244Z
UID:8337-1743368400-1743377400@www.fuzzclub.gr
SUMMARY:SHE PAST AWAY
DESCRIPTION:DEATH DISCO PRESENTS\nSHE PAST AWAY\n\n\nLIVE AT FUZZ MUSIC LIVE CLUB \n\n\nSUNDAY MARCH 30 2025 \n\n\nDOORS AT 21:00 \nΤο ίσως πιο σημαντικό συγκρότημα της νέας γενιάς του post-punk / darkwave\, οι She Past Away από τη Τουρκία\, επιστρέφουν στην Αθήνα. Με ένα ολοκαίνουργιο mega hit στην αγορα και στα σκοτεινά dance floors του πλανήτη (inziva)\, με το καινούργιο τους άλμπουμ να παίρνει τη τελική του μορφή μέρα με τη μέρα και δύο χρόνια μετά την τελευταία τους Αθηναϊκή εμφάνιση στο Death Disco Open Air Festival του 2023\, η 30η μέρα του Μάρτη φαντάζει σαν η ιδανική μέρα για τη μεγάλη επιστροφή!\nΕισιτήρια στο δίκτυο της more.com. \n\n\n\nSHE PAST AWAY is a dark wave / post-punk duo\, consisting of Volkan Caner (vocal\, guitars and songwriting) and Doruk Ozturkcan (drums\, synths and production). Experimenting old/new aesthetic of synth music into their core guitar stuff\, She Past Away forged a sound\, an attitude\, and a sensibility\, conveyed through a minimalist poetry sung in Turkish\, which sweeps the audience through a dense\, continual epic trip in both their recordings and live performances. \n\n\n\nShe Past Away released their critically-acclaimed first EP “Kasvetli Kutlama”\, via Remoov in April 2009. Following the digital release of the debut album “Belirdi Gece” in February 2012\, the band was signed to Fabrika Records in 2013 and shortly thereafter they released “Belirdi Gece” in LP format. Including “Rituel”\, “Ruh” as well as “Kasvetli Kutlama”\, the album was listed as one of the best albums of the decade 2010-2019 by post-punk.com. \n\n\n\nWith the release of their follow-up album “Narin Yalnızlık” in May 2015\, the duo established themselves as one of the most influential and successful genre-defining acts of dark wave music and scored numerous crowd-puller performances all around the world. \n\n\nIn December 2018\, the band signed to Metropolis Records and re-issued both albums in North America. \n\n\nThe band graced the audience with a beautifully dark and driving new album “Disko Anksiyete” via Metropolis Records and Fabrika Records in May 2019. In May 2020\, the band celebrated their tenth anniversary with the remix album “X”\, including remixes from Boy Harsher\, The Soft Moon\, Clan of Xymox\, Front 242\, Lebanon Hanover and many more. In October 2020\, the first ever live studio recording of the band was released with the title “Part Time Punks Session”. \n\n\nSHE PAST AWAY is a driving\, mesmerizing outburst of sentimental anxiety through the nihilistic mind-frame. It is both personal and broad\, like a wandering mind brave enough to question taboo and existence. \n\n\nOfficial website: https://shepastaway.org \n\n\nFacebook: https://www.facebook.com/shepastaway \n\n\nInstagram: https://www.instagram.com/shepastaway_official/ \n\n\nYoutube: https://www.youtube.com/c/shepastaway \n\nBandcamp: https://shepastawayofficial.bandcamp.com/\n\nTwitter: https://twitter.com/shepastaway_ofl
URL:https://www.fuzzclub.gr/event/she-past-away-2/
LOCATION:Fuzz Club\, PIREOS 209 KAI PATRIARXOU IOAKIM 1\, Athens\, Greece
CATEGORIES:Concerts
ATTACH;FMTTYPE=image/jpeg:https://www.fuzzclub.gr/wp-content/uploads/2024/11/465277266_986470876854317_2329542015304499061_n.jpg
END:VEVENT
END:VCALENDAR