BEGIN:VCALENDAR
VERSION:2.0
PRODID:-//Fuzz Club - ECPv6.15.17.1//NONSGML v1.0//EN
CALSCALE:GREGORIAN
METHOD:PUBLISH
X-WR-CALNAME:Fuzz Club
X-ORIGINAL-URL:https://www.fuzzclub.gr
X-WR-CALDESC:Events for Fuzz Club
REFRESH-INTERVAL;VALUE=DURATION:PT1H
X-Robots-Tag:noindex
X-PUBLISHED-TTL:PT1H
BEGIN:VTIMEZONE
TZID:UTC
BEGIN:STANDARD
TZOFFSETFROM:+0000
TZOFFSETTO:+0000
TZNAME:UTC
DTSTART:20210101T000000
END:STANDARD
END:VTIMEZONE
BEGIN:VEVENT
DTSTART;TZID=UTC:20220916T200000
DTEND;TZID=UTC:20220916T233000
DTSTAMP:20260419T151043
CREATED:20220904T154651Z
LAST-MODIFIED:20220904T154651Z
UID:7329-1663358400-1663371000@www.fuzzclub.gr
SUMMARY:Altin Gün
DESCRIPTION:Η εκρηκτική εξαμελή μπάντα των Altin Gün\, από τα πιο ξεχωριστά και υποσχόμενα psych-folk συγκροτήματα\, έρχεται στην Αθήνα για μία βραδιά γεμάτη ανατολικούς ρυθμούς\, ψυχεδέλεια και funk την Παρασκευή 16 Σεπτεμβρίου 2022\, στο Fuzz Club. \n«Altın Gün are always a transportive listen»\nThe Quietus  \n«A spaced out journey into synth dreamland» \nall things loud \n«Turkish psych folk band Altin Gün are easy to fall in love with.»\nAto Records \nΤο εξαμελές σχήμα Altin Gün\, με έδρα το Άμστερνταμ και καταγωγή από την Τουρκία\, έχει κατορθώσει να κάνει μία εξαιρετικά ενδιαφέρουσα πορεία στην παγκόσμια σκηνή του psych-rock. \nΗ μπάντα – αποκάλυψη μας συστήθηκε το 2018\, με την κυκλοφορία του άλμπουμ «On»\, το οποίο έτυχε ενθουσιώδους υποδοχής. Η αγάπη τους για την παραδοσιακή τουρκική  folk των ‘60s και ‘70s φαίνεται να διαδραματίζει κυρίαρχο ρόλο στις συνθέσεις τους\, ενώ συνεχώς πειραματίζονται με ψυχεδελικούς ήχους και στοιχεία funk για την ανάδειξη του ιδιαίτερου μουσικού είδους που υπηρετούν. Το ηλεκτρικό saz – ένα τρίχορδο τουρκικό λαούτο – και τα φωνητικά του Erdinç Ecevit δίνουν απίστευτη δυναμική στη ρυθμική σύνθεση της μουσικής\, ενώ τα πλήκτρα\, η κιθάρα\, το μπάσο\, τα ντραμς και τα κρουστά τροφοδοτούν ορμητικούς ρυθμούς και η Merve Daşdemir τραγουδά με τη μαγευτική δύναμη μιας νεαρής Grace Slick. \nΜεταξύ άλλων\, έχουν ξεχωρίσει για τις δυναμικές ζωντανές εμφανίσεις τους\, ενώ η εξαιρετικά δημοφιλή εμφάνισή τους στο KEXP κέντρισε το ενδιαφέρον των κριτικών και του κοινού αναμφισβήτητα. \nΣύνδεσμοι:\nFacebook – www.facebook.com/altingunband\nInstagram – www.instagram.com/altingunband/?hl=en\nTwitter – www.twitter.com/altingunband\nYouTube – www.youtube.com/channel/UChEZ2psKMV0dei91gpDtI_A \nΕισιτήρια:\n22€ – Προπώληση\n25€ – Γενική είσοδος \nΔίκτυο Προπώλησης:\nOnline: www.viva.gr/tickets/music/fuzz/altin-gun/\nΤηλεφωνικά: 11876 \nΣημεία Προπώλησης:\nΚαταστήματα Wind\nΕυριπίδης Βιβλιοπωλεία\nYoleni’s Greek Gastronomy Center (Σόλωνος 9)\nViva Spot Τεχνόπολης (μέσα στο χώρο της Τεχνόπολης\, είσοδος από οδό Περσεφόνης\, Δευτ-Σαβ 11:00-19:00)
URL:https://www.fuzzclub.gr/event/altingun-2/
LOCATION:Fuzz Club\, PIREOS 209 KAI PATRIARXOU IOAKIM 1\, Athens\, Greece
CATEGORIES:Concerts
ATTACH;FMTTYPE=image/png:https://www.fuzzclub.gr/wp-content/uploads/2022/09/816x465-3.png
END:VEVENT
BEGIN:VEVENT
DTSTART;TZID=UTC:20220928T190000
DTEND;TZID=UTC:20220928T233000
DTSTAMP:20260419T151043
CREATED:20220926T151222Z
LAST-MODIFIED:20220926T151223Z
UID:7353-1664391600-1664407800@www.fuzzclub.gr
SUMMARY:The Ocean (Collective) w/ LLNN & Playgrounded
DESCRIPTION:/  \n\n\nΛόγω αυξημένης προπώλησης και εξάντλησης των εισιτηρίων της συναυλίας των The Ocean Collective \, LLNN και Playgrounded \, το event μεταφέρεται στο Fuzz Live Music Club.\n\n\nΗ προπώληση συνεχίζεται μέσω του viva.gr και του δικτύου καταστημάτων του\, η τιμή των εισιτηρίων πλέον διαμορφώνεται στα 22€ και τα ήδη αγορασμένα εισιτήρια ισχύουν για το νέο χώρο\, χωρίς καμία περαιτέρω ενέργεια.\n\n\n Εισιτήρια θα πωλούνται και στο ταμείο του συναυλιακού χώρου προς 25€. \n\nwww.viva.gr/tickets/music/the-ocean-collective\n\n\n\n\n\n\n\nΧΡΟΝΟΛΟΓΙΟ:\nΠόρτες: 19:00\n19:45 – Playgrounded\n20:50 – LLNN\n22:00 – The Ocean \n\nΤις τελευταίες δύο δεκαετίες\, οι Ocean βρίσκονται σε μία διαρκή κατάσταση εξέλιξης\, κυκλοφορώντας αναγνωρισμένους δίσκους που έχουν χαιρετηθεί απ’το κοινό και με σκοπό να οδηγήσουν τη heavy μουσική όλο και μακρύτερα αλλά και βαθύτερα\, αλλά και με ίσο σεβασμό προς το εγκεφαλικό και το πρωτόγονο.\nΤον Σεπτέμβρη του 2020\, στο μέσο πια της πανδημίας\, η κολλεκτίβα με βάση το Βερολίνο κυκλοφόρησε το πολυαναμενόμενο Phanerozoic II\, που ολοκλήρωνε και το Phanerozoic journey. Χωρίς καν τη δυνατότητα μιας περιοδείας για να προωθήσει το δίσκο\, το Phanerozoic II βρέθηκε στο Top 10 των Γερμανικών charts\, για πρώτη φορά στην ιστορία του σχήματος. \n\nΜοιρασμένο σε δύο τμήματα\, το Mesozoic και το Cenozoic\, το Phanerozoic II παρουσιάζει τη λεπτομέρεια αλλά και το βάθος δύο εκ των πιο ισχυρών trademarks των Ocean. Ενώ εμβαθύνουν με επιμονή στις αξιοσημείωτες πραγματικότητες που διέπουν τις εναλλασσόμενες χρονικές παλίρροιες\, ο Robin Staps και οι σύντροφοί του διαχρονικά ερωτοτροπούσαν μεταξύ των θεμάτων που επέλεγαν όπως και των εμπειριών που η μουσική τους προσπαθεί να δημιουργήσει. \n\nΚαι το Phanerozoic II είναι ένας δίσκος στην πραγματικότητα για το χρόνο\, με ιδιαίτερα καυστικούς και δεικτικούς υπαινιγμούς για τον σύγχρονο κόσμο\, ενδεδυμένους στο πνευματικό πέπλο της νέας μουσικής.\nΣτην μεγάλη επιστροφή των The Ocean Collective στην Αθήνα\, θα βρίσκονται μαζί τους οι LLNN και οι δικοί μας Playgrounded. \n\nΕΠΙΚΟΙΝΩΝΙΑ:\n• W: http://thetemple.gr\n• FB: https://www.facebook.com/templeliveclub\n• IG: https://www.instagram.com/templeathens\n• T: +30 698 640 8118\n• E: info@thetemple.gr\, jim@thetemple.gr
URL:https://www.fuzzclub.gr/event/the-ocean/
LOCATION:Fuzz Club\, PIREOS 209 KAI PATRIARXOU IOAKIM 1\, Athens\, Greece
CATEGORIES:Concerts
ATTACH;FMTTYPE=image/jpeg:https://www.fuzzclub.gr/wp-content/uploads/2022/09/2022_09_28-Ocean-cover.jpg
ORGANIZER;CN="3 shades of Black":MAILTO:contact@3shadesofblack.net
END:VEVENT
END:VCALENDAR