BEGIN:VCALENDAR
VERSION:2.0
PRODID:-//Fuzz Club - ECPv6.15.17.1//NONSGML v1.0//EN
CALSCALE:GREGORIAN
METHOD:PUBLISH
X-WR-CALNAME:Fuzz Club
X-ORIGINAL-URL:https://www.fuzzclub.gr
X-WR-CALDESC:Events for Fuzz Club
REFRESH-INTERVAL;VALUE=DURATION:PT1H
X-Robots-Tag:noindex
X-PUBLISHED-TTL:PT1H
BEGIN:VTIMEZONE
TZID:UTC
BEGIN:STANDARD
TZOFFSETFROM:+0000
TZOFFSETTO:+0000
TZNAME:UTC
DTSTART:20210101T000000
END:STANDARD
END:VTIMEZONE
BEGIN:VEVENT
DTSTART;TZID=UTC:20220305T110000
DTEND;TZID=UTC:20220305T170000
DTSTAMP:20260420T034758
CREATED:20220223T090512Z
LAST-MODIFIED:20220224T081401Z
UID:7175-1646478000-1646499600@www.fuzzclub.gr
SUMMARY:Trashformers Carnival 2022 – Ντύσου Πουλί
DESCRIPTION:Ποια Βενετία?\nΠοιο Ρίο Ντε Τζανέιρο?\nΠοιο Ρίο Αντίρριο?\n\nΤι να μας πουν όλα αυτά… όταν παίζει το απόλυτο καρναβαλικό υπερevent!  Ναι ναι… καλά καταλάβατε! \nΤο Σάββατο 5 Μαρτίου\, οι TRASHFORMERS θα βρίσκονται στη σκηνή του Fuzz και θα κάνουν αυτό που ξέρουν καλύτερα από όλους!!!\nΜια ξέφρενη\, ακραία διασκεδαστική και ακομπλεξάριστη βραδιά που θα τη θυμάστε για τα επόμενα 1325 χρόνια! (το νούμερο πατήθηκε τυχαία) \n \n\n \n★ Καρναβαλικές μουσικές που δίνουν το ρυθμό σαν μαράκες (με ρο\, όχι λάμδα)\n★ Οπτικοακουστικό υλικό που δένει τις καλά κρυμένες αναμνήσεις σαν μπερδεμένη σερπαντίνα\n★ Πολύχρωμο Live Show σαν κομφετί που πέφτει από ψηλά\n★ Secret guest γιατί πάντα είναι ωραίο να έχεις φίλους μαζί\n★ Και φυσικά… μασκέ… \nΕδώ μιλάμε για την αυθεντική ακραία καρναβαλική εμπειρία! Και μιας και υπάρχει και μια παράδοση στο θέμα * στολής / ντυσίματος / απόκριες / δημιουργικότητα *  … wait for it… \n★★ Ντύσου… Πουλί! ★★ \nΌλων των ειδών τα πουλιά θα παρελάσουν εκεί… στη σκηνή του Fuzz χορεύοντας για ένα και μοναδικό σκοπό! \nΝα ζήσουν την πιο αξέχαστη βραδιά-πτήση της ζωής τους και φυσικά να κερδίσουν τον καθιερωμένο ΔΙΑΓΩΝΙΣΜΟ ΣΤΟΛΗΣ ! (δύο ήταν οι σκοποί τελικά) \n* Στο διαγωνισμό θα πάρουν μέρος μόνο οι στολές που είναι στο θέμα. \nΌπως πάντα παραθέτουμε μερικές ιδέες για στολές. Αν και πάντα οι δικές σας ιδέες μας ξεπερνάνε σε δημιουργικότητα και χιούμορ. \nΑς τα ξεχωρίσουμε σε κατηγορίες: \n> Πουλιά: Παπαγάλοι / Περιστέρια / Πουλιά του Παραδείσου / Κότες / Χήνες / Τουκάν \n> Τραγούδια: Θα ζήσω ελεύθερο πουλί / Ζωή και κότα / Το πουλάκι Τσίου / Γέλα πουλί μου \n> Παροιμίες: Με το πουλί στο χέρι / Το έξυπνο πουλί από τη μύτη πιάνεται / Η γριά κότα έχει το ζουμί \n> Φαγητά: Κόκορας κρασάτος / Γεμιστή γαλοπούλα \n> Κόμιξ: Ντόναλτ / Σκρούτζ / Ντάφι Ντακ / Τουίτι / Μάτζικα ντε σπέλ / Χαμηλές πτήσεις Αρκά \n> Μυθικά: Στυμφαλίδες όρνιθες / Γρύπας / Μονόκερος (δεν είναι πουλί αλλά έχει φτερά) \n> Ταίνιες/Super Heroes: Black Swan / Birdman / Penguin / Superman (πετάει) \nΚαι μιας και έτσι όπως έχουν αλλάξει τα πράγματα πλέον\, και κανένας δεν διαβάζει τόσο κάτω τις γραμμές\, μπορούμε να γράψουμε ότι θέλουμε! Όταν λέμε “Πουλί” εννοούμε κάθε είδους πουλιού άρα προφανώς και τα άλλα… “πουλιά”. \nP.S. Αν κάποιος/α έρθει και πιει το μισό μπαρ και πει “έγινα πούτς..” (=πουλί) δεν σημαίνει ότι θα κερδίσει το διαγωνισμό! \nΤέλος πάντων… αρκετά με τις ιδέες για “πουλιά”… περισσότερα στη σκηνή των Trashformers! \nΚαι ως γνωστό… Καρναβάλι χωρίς Trashformers δε λέει μία. \nTrashformers Carnival 2022\nΚρατήσεις 210 3450817\n \nΣάββατο του Καρναβαλίου! 5/3/22 \nDoors open at 23:06 \nFuzz Live Music Club \nΠειραιώς 209 & Πατρ. Ιωακείμ 1\, Ταύρος \nTicket presale 7 / on the spot 9 – Τicket presale viva.gr \n* Για την είσοδο στο event θα ζητηθεί επίδειξη πιστοποιητικού εμβολιασμού/νόσησης και ταυτοπροσωπίας. \n** Σε περίπτωση ακύρωσης του event λόγω υγειονομικών μέτρων (χτύπα ξύλο)\, το αντίτιμο του εισιτηρίου προπώλησης θα επιστραφεί. \n*** Τα εισιτήρια θα είναι περιορισμένου αριθμού ώστε να μην υπάρχει συνωστισμός\, μην το αργήσετε!
URL:https://www.fuzzclub.gr/event/trashformers-carnival/
LOCATION:Fuzz Club\, PIREOS 209 KAI PATRIARXOU IOAKIM 1\, Athens\, Greece
CATEGORIES:Concerts
ATTACH;FMTTYPE=image/jpeg:https://www.fuzzclub.gr/wp-content/uploads/2022/02/bird-1.jpg
END:VEVENT
BEGIN:VEVENT
DTSTART;TZID=UTC:20220306T170000
DTEND;TZID=UTC:20220306T233000
DTSTAMP:20260420T034758
CREATED:20220217T125131Z
LAST-MODIFIED:20220217T125131Z
UID:7162-1646586000-1646609400@www.fuzzclub.gr
SUMMARY:EDEN presents TODD TERJE
DESCRIPTION:Ο κυρίαρχος της nu-disco\, Todd Terje\, θα εμφανιστεί στο Fuzz Club με ένα ρετρο-φουτουριστικό Dj set που θα αναδείξει το μεγαλείο του\, τη δημιουργική του ιδιοφυΐα  και τον καινοτόμο ήχο του την Κυριακή 6 Μαρτίου\, 2022. \nΟ Σκανδιναβός γκουρού της nu-disco\, Todd Terje\, έχει κατορθώσει να αναδειχθεί σε έναν από τους σημαντικότερους παραγωγούς / καλλιτέχνες αλλά και σε ένα ασύλληπτα δημιουργικό πνεύμα το οποίο συνδυάζει αριστοτεχνικά την ηλεκτρονική φουτουριστική disco με αναφορές από house\, jazz\, funk\, latin και pop. Ο Νορβηγός βρίσκεται στο χώρο της μουσικής σκηνής αρκετά χρόνια και έχει αφήσει το στίγμα του με μία σειρά από μικρά διαμάντια\, όπως «Eurodans»\, «It’s Album Time» και «It’s The Arps». Η ποιότητα των δημιουργημάτων του είναι αξιοθαύμαστη: παραγωγές και συνεργασίες με καλλιτέχνες όπως Franz Ferdinand\, Robbie Williams\, Lindstrøm\, Prins Thomas και Four Tet\,  αλλά και πολλά επιτυχημένα remixes όπως «Another Station» του Lindstrom\, «Jolene» της Dolly Parton\, «All I do» του Stevie Wonder\, «I Can’t Help It» του Michael Jackson\, «On The Beach» του Chris Rae και «I Want Your Love» των Chic. \nΜεταξύ άλλων\, οι διασκευές του σε κομμάτια όπως «Johnny & Mary» του Bryan Ferry\, «Inspector Norse» και «Delorean Dynamite»\, τον αναδεικνύουν σε εξαιρετικό παραγωγό με λαμπρό μέλλον. Ο Todd Terje έχει καταφέρει να «σκαρφαλώσει» στο #23 των βρετανικών charts αλλά και στη λίστα του Pitchfork με τους 100 καλύτερους δίσκους\, ενώ η παρουσία του έγινε αισθητή και στην Αμερική όπου έφτασε στο #120 του Billboard. Έχει πραγματοποιήσει εμφανίσεις σε υψηλού κύρους φεστιβάλ\, όπως Sónar\, Coachella\, Lowlands και Pitchfork Festival\, ενώ έχει βρεθεί σε πολυάριθμες λίστες του μουσικού διεθνή τύπου\, με αποκορύφωμα αυτή του Rolling Stone\, που τον κατέταξε στο #17 του «The 25 DJs That Rule the Earth». \nΣύνδεσμοι:\nWebsite – www.toddterje.com\nFacebook – www.facebook.com/ToddTerje\nTwitter – www.twitter.com/toddterjeolsen\nInstagram – www.instagram.com/toddterje\nSoundcloud – www.soundcloud.com/toddterje \nΕισιτήρια:\n15\,00€ – Early Bird (sold out)\n20\,00€ -Περιορισμένη προπώληση (εχουν μείνει λίγα)\n25\,00€ – Γενική προπώληση \n\n\nΔίκτυο Προπώλησης:\nOnline: www.viva.gr/tickets/music/todd-terje/\nΤηλεφωνικά: 11876 \nΣημεία Προπώλησης:\nReload\nΚαταστήματα Wind\nΕυριπίδης Βιβλιοπωλεία\nYoleni’s Greek Gastronomy Center (Σόλωνος 9)\nViva Spot Τεχνόπολης (μέσα στο χώρο της Τεχνόπολης\, είσοδος από οδό Περσεφόνης\, Δευτ-Σαβ 11:00-19:00)
URL:https://www.fuzzclub.gr/event/eden-presents-todd-terje/
LOCATION:Fuzz Club\, PIREOS 209 KAI PATRIARXOU IOAKIM 1\, Athens\, Greece
CATEGORIES:Concerts
ATTACH;FMTTYPE=image/png:https://www.fuzzclub.gr/wp-content/uploads/2022/02/fb-event-cover-TK.png
END:VEVENT
BEGIN:VEVENT
DTSTART;TZID=UTC:20220311T210000
DTEND;TZID=UTC:20220311T233000
DTSTAMP:20260420T034758
CREATED:20220128T124658Z
LAST-MODIFIED:20220128T124658Z
UID:7150-1647032400-1647041400@www.fuzzclub.gr
SUMMARY:FUNDRACAR x BAZOOKA
DESCRIPTION:FUNDRACAR x BAZOOKA \nΠαρασκευή 11 Μαρτίου 2022\, Fuzz Live Music Club (Πειραιώς 209 & Πατριάρχου Ιωακείμ 1\, Ταύρος) \nΕισιτήρια: 10€ (περιορισμένα early birds)\, 12€ (προπώληση)\, 14€ (ταμείο)\nΠροπώληση από το δίκτυο Viva: \n• Online στο bit.ly/3KNTmbE\n• Τηλεφωνικά στο 11876\n• Φυσικά σημεία: Καταστήματα Wind\, Public\, Media Markt\, Ευριπίδης\, Yoleni’s\, Viva Spot Τεχνόπολης \nFB event: facebook.com/events/260198952910338 \nFUNDRACAR \nΟι Fundracar δεν είναι “άλλη μια μπάντα”. Είναι η μοναδική μπάντα με έδρα την Ελλάδα\, της οποίας το υλικό δεν μπορεί να καταταχθεί όχι σε ένα\, ούτε σε δύο\, ούτε καν σε τέσσερα είδη μουσικής. Κι όμως\, αντί αυτό να οδηγεί σε απώλεια μουσικής ταυτότητας\, είναι το στοιχείο που συνθέτει τη μοναδικότητα των Fundracar. Αυτό το “κάτι”\, που ψάχνουν όλες οι μπάντες ώστε να ξεχωρίζουν από τις υπόλοιπες. \nΓιατί οι Fundracar παίζουν και Reggae\, αλλά παίζουν και Punk. Παίζουν και Rock\, αλλά παίζουν και Funk. Παίζουν με Ηλεκτρικές κιθάρες και Μπάσο\, αλλά παίζουν και με Ηλεκτρονικά Synths και Human Beatbox. Κι όλα αυτά\, με βάση τους τον ρυθμό των Drums\, ενδεδυμένα με στίχο απρόσμενο και ανατρεπτικό\, δημιουργούν ένα μουσικό κράμα που σε τριπάρει ενώ ταυτόχρονα σε βάζει να σκέφτεσαι\, που σε διασκεδάζει ενώ ταυτόχρονα σε στραγγίζει συναισθηματικά. \nΜε θεράποντα ιατρό τον Μάριο (κατά κόσμο Νταβέλη) και την κολεκτίβα των τροφίμων ψυχιατρείου που τον συνοδεύουν στα Studios και τις σκηνές ολόκληρης της χώρας\, οι Fundracar μετρούν πλέον 13 χρόνια από το πρώτο Single και 10 χρόνια από το πρώτο Album\, έχουν εμφανιστεί ζωντανά σε κάποια από τα μεγαλύτερα μουσικά φεστιβάλ της χώρας\, σε δράσεις και αυτο-οργανωμένα Lives\, ενώ έχουν στήσει και τις δικές τους συναυλίες. \nWebsite: https://fundracar.com \nYouTube: https://www.youtube.com/user/fundracar \nInstagram: https://www.instagram.com/fundracarband \nFacebook: https://www.facebook.com/Fundracar \nSpotify: https://spoti.fi/3ne8eGm \nBandcamp: https://fundracar.bandcamp.com \nSoundcloud: https://soundcloud.com/fundracar \nBAZOOKA \nΤο ψυχεδελικό punk rock θωρηκτό των Bazooka\, σχηματίστηκε στην Αθήνα το 2008\, και από τότε έχει καταφέρει να περιοδεύσει 11 φορές στην Ευρώπη και μία στις ΗΠΑ το 2013. \nΤο πρώτο τους single με τίτλο “Shame Take My Brain / Ravening Trip” (Inch Allah Records) κυκλοφόρησε το 2011\, ενώ το 2012 σηματοδότησε την πρώτη τους συνεργασία με την αμερικανική Slovenly Recordings\, για την κυκλοφορία του EP “I Want to Fuck All The Girls in My School”. \nΤο ομότιτλο ντεμπούτο album τους\, είδε το φως της δημοσιότητας το 2013\, ενώ ακολούθησε το single “Δεμένος στο Κρεβάτι Σου” (Sound Effect Records\, 2016)\, όπως και ο διάδοχος του ντεμπούτου τους\, το σπουδαίο “Άχρηστη Γενιά” (Slovenly\, 2016). \nΤο 2017 ένωσαν δυνάμεις με μία από τις σημαντικότερες ελληνικές δισκογραφικές εταιρείες\, την φημισμένη Inner Ear Records\, μέσω της οποίας και κυκλοφόρησαν το EP “Ζούγκλα”. \nΌσο τα χρόνια περνούν και σε κάθε νέα δισκογραφική τους δουλειά\, οι Bazooka διευρύνουν όλο και περισσότερο τους μουσικούς ορίζοντές τους\, χωρίς να χάνουν τη δυναμική και τον ηλεκτρισμό του ήχου τους\, ενώ σταδιακά επιστρέφουν στις ρίζες τους\, δίνοντας έμφαση στον ελληνικό στίχο. \nΤο πιο πρόσφατο album τους “Zero Hits” κυκλοφόρησε στις 18 Ιανουαρίου 2019\, πάλι μέσω της Inner Ear Records\, λαμβάνοντας εξαιρετικές κριτικές από το κοινό και τον μουσικό Τύπο\, ενώ η μπάντα περιόδευσε εκτενώς για την προώθησή του. \nΑυτήν την περίοδο οι Bazooka ηχογραφούν τον καινούργιο τους δίσκο ο οποίος θα κυκλοφορήσει το 2022. \nFacebook: https://www.facebook.com/bazookagreece \nInstagram: https://www.instagram.com/bazookaofficial \nBandcamp: https://bazookabzk.bandcamp.com \nSpotify: https://spoti.fi/3tdPbPZ \nYouTube: https://bit.ly/3JWUB8g \n\nΕπικοινωνία: \nhttp://www.i-JUKEBOX.gr \ninfo@i-jukebox.gr \n\nCOVID-FREE EVENT \nΓια την είσοδό σας στο χώρο θα πρέπει να επιδείξετε τα κάτωθι: \n• Έγγραφο ταυτοπροσωπίας (ταυτότητα / διαβατήριο / δίπλωμα οδήγησης) κατά την είσοδο όπως και \n• Πιστοποιητικό εμβολιασμού κατά του Covid-19 (μπαίνει σε ισχύ 14 μέρες μετά την ολοκλήρωση του εμβολιασμού) \n• Ή πιστοποιητικό νόσησης Covid-19 που εκδίδεται τριάντα (30) ημέρες μετά από τον πρώτο θετικό έλεγχο και η ισχύς του διαρκεί έως εκατόν ογδόντα (180) ημέρες μετά από αυτόν. \n• Άτομα ηλικιών κάτω των 16 ετών πρέπει να συνοδεύονται από γονέα ή κηδεμόνα\, με την προϋπόθεση ότι και εκείνος θα επιδείξει έγγραφο ταυτοπροσωπίας και ένα από τα προαναφερθέντα πιστοποιητικά ανοσίας.
URL:https://www.fuzzclub.gr/event/fundracar-x-bazooka/
LOCATION:Fuzz Club\, PIREOS 209 KAI PATRIARXOU IOAKIM 1\, Athens\, Greece
CATEGORIES:Concerts
ATTACH;FMTTYPE=image/png:https://www.fuzzclub.gr/wp-content/uploads/2022/01/image001.png
END:VEVENT
BEGIN:VEVENT
DTSTART;TZID=UTC:20220318T210000
DTEND;TZID=UTC:20220318T233000
DTSTAMP:20260420T034758
CREATED:20211011T120924Z
LAST-MODIFIED:20220316T115540Z
UID:7040-1647637200-1647646200@www.fuzzclub.gr
SUMMARY:Rival Consoles / αναβολή
DESCRIPTION:Pliskken festival: Είμαστε στη δυσάρεστη θέση να σας ενημερώσουμε πως ο Ryan Lee West ή αλλιώς Rival Consoles μόλις διεγνώσθη με κορονοϊό πριν πετάξει από το Λονδίνο για τις προγραμματισμένες του εμφανίσεις σε Πράγα και Αθήνα. Όπως καταλαβαίνετε η συναυλία της Παρασκευής είναι αδύνατον να πραγματοποιηθεί. Είμαστε σε επικοινωνία με το management του καλλιτέχνη για την εύρεση νέας ημερομηνίας σε σύντομο χρονικό διάστημα. Οι κάτοχοι των εισιτηρίων θα ειδοποιηθούν για τη νέα ημερομηνία εντός της εβδομάδας και αντιστοίχως την επιθυμία τους για την επιστροφή του αντιτίμου τους. Θα ακολουθήσει και επίσημη ανακοίνωση από τον ίδιο τον καλλιτέχνη.\n\n\n\n\nLondon-based electronic producer and composer Ryan Lee West\, aka Rival Consoles\, is bringing to Athens his captivating live A/V show at Fuzz Club on March 18th\, 2022.\n\n\nCovid free event:\n* Proof of full Vaccination against COVID-19\n* Proof of recovery from COVID-19 within the last 6 months\n\n“West has made a career out of evoking human emotions with digital sounds”\nPitchfork\n“Ambient leaning\, mind-expanding electronics”\nDJ Magazine\n“as one of the most influential creators of intelligent\, intellectual EDM on the planet” Spill Magazine\n\nErased Tapes’ very first signee\, London-based producer Ryan Lee West better known under the name Rival Consoles\, is notable for making synthesisers sound human and atmospheric.\nHis consistent desire to create a more organic\, humanised sound sees West often draft early ideas on traditional\, acoustic instruments like the guitar or the piano; forming pieces that capture a sense of songwriting behind the electronics.\n\nFascinated by sound from an early age\, Ryan chose to dedicate his time to studying and producing sound\, graduating from De Montfort University in his hometown Leicester. In the early years as a recording artist West continued to experiment with a broad palette of electronic sounds. It was with the release of his Odyssey and Sonne EPs in 2013 and 2014 that West started gaining more of a reputation for making thoughtful electronica that spans a wider spectrum of musical ideas. Foremost a guitarist\, growing up listening to rock rather than club music\, his full-length album Howl released in 2015 saw West strive towards finding a more personal balance between music for home listening and larger spaces. \nThe increasingly dynamic live audio-visual show\, born from bespoke performances at the Tate and for Boiler Room at the V&A Museum featuring self-programmed visuals in Max/MSP\, has propelled him to play around the world including appearances at music festivals such as Sónar\, Moogfest\, FORM\, Mutek\, Big Ears\, Lovebox and Roskilde. \n\n\n2016 marked the release of his mini album Night Melody — born out of and shaped by long hours working into the night — followed by his acclaimed 2018’s full length Persona whose title was inspired by Ingmar Bergman’s film of the same name. \nHaving previously remixed the likes of Jon Hopkins\, Nico Muhly and label peers Ólafur Arnalds & Nils Frahm\, further commissions followed from Max Cooper\, Noisia\, Sasha and UNKLE band Toydrum.\nSince the release of Persona\, Ryan has taken his captivating live A/V set to all corners of the world. Last seen live on stage with 17 players of the London Contemporary Orchestra for a sold-out orchestral performance at Southbank Centre’s Queen Elizabeth Hall in January 2020. \n\nAfter contributing an exclusive track Them Is Us to Adult Swim’s coveted Singles series\, Ryan recently shared the beautifully textured solo piano piece Winter’s Lament on this year’s Piano Day. He has also been in high demand as a composer\, scoring Charlie Brooker’s much talked about Black Mirror episode Striking Vipers\, composing original music for Secret Cinema presents Stranger Things as well as renowned choreographer Alexander’s Whitley’s groundbreaking new work Overflow which was set to premiere at London’s Sadler’s Wells Theatre this spring.\nRival Consoles has announced the details of his highly anticipated new album Articulation\, released on July 31.\nLinks:\nWebsite – www.rivalconsoles.net\nFacebook – www.facebook.com/rivalconsoles\nTwitter – www.twitter.com/rivalconsoles\nInstagram – www.instagram.com/rivalconsolesTicket Prices:\n13\,00€ – Early Bird\n16\,00€ – Presale\n19\,00€ – General Admission \n\nViva Network:\nOnline:\nBy phone: 11876\nPoints of sale:\nReload\nWind Stores\nYoleni’s Greek Gastronomy Center (9 Solonos Str.)\nEvripidis Bookstores\nViva Spot Technopolis City of Athens (entry via Persefonis str.\, Mon-Sat 11:00-19:00)\nVenue:\nFuzz Live Music Club\n209 Pireos Str. & 1 Patriarchou Ioakim Str.\nTavros\, 177 78\nPhone: +30 210 345 0817\nwww.fuzzclub.gr
URL:https://www.fuzzclub.gr/event/rival-consoles/
LOCATION:Fuzz Club\, PIREOS 209 KAI PATRIARXOU IOAKIM 1\, Athens\, Greece
CATEGORIES:Concerts
ATTACH;FMTTYPE=image/jpeg:https://www.fuzzclub.gr/wp-content/uploads/2021/10/fb-event-cover.jpg
END:VEVENT
BEGIN:VEVENT
DTSTART;TZID=UTC:20220319T193000
DTEND;TZID=UTC:20220320T233000
DTSTAMP:20260420T034758
CREATED:20220224T074153Z
LAST-MODIFIED:20220308T053059Z
UID:7181-1647718200-1647819000@www.fuzzclub.gr
SUMMARY:Γιάννης Αγγελάκας 19 & 20 Mαρτίου
DESCRIPTION:Ένας από τους πιο ανήσυχους και επιδραστικούς καλλιτέχνες των τελευταίων 40 χρόνων βγαίνει ξανά στο δρόμο. Ο Γιάννης Αγγελάκας παίρνει τη μπάντα του\, τους 100°C\, και μετά από δυόμισι χρόνια επιστρέφει στη σκηνή για δύο εμφανίσεις στο Fuzz Live Music Club\, το Σάββατο 19 και την Κυριακή 20 Μαρτίου. \n \n\n \nΗ αληθινή μουσική – και η τέχνη\, γενικότερα – οφείλει να προφητεύει τα χειρότερα τις εποχές που οι άνθρωποι νομίζουν πως ευημερούν και τα καλύτερα όταν δυστυχούν\, καταθλίβονται και πιστεύουν πως έχουν όλα χαθεί\, υπενθυμίζοντάς τους πως πάντα\, στο πιο βαθύ σκοτάδι\, άνθιζε η συνείδηση και η ορμή για εξέλιξη. Έχουμε ακόμα πολλά γοητευτικά και δύσβατα μονοπάτια να περπατήσουμε. \nΈτσι λοιπόν\, σε μια δυστοπική εποχή\, έρχονται τα τραγούδια του Γιάννη Αγγελάκα\, από τις Τρύπες μέχρι σήμερα\, να μας θυμίσουν πως οι πραγματικά δημιουργικοί καλλιτέχνες πάντα έθεταν τις πιο καίριες ερωτήσεις. Εκτός από γνωστά και αγαπημένα κομμάτια\, θα έχουμε την ευκαιρία να ακούσουμε το νέο υλικό που ετοίμασαν\, μαζί με τη μπάντα του\, το τελευταίο διάστημα\, αφού σύντομα θα κυκλοφορήσει καινούργιος δίσκος. \nΤους 100°C αποτελούν οι: Λαμπρινή Γρηγοριάδου στην ακουστική κιθάρα\, Αλέξης Αρχοντής στα τύμπανα\, Γιώργος Αβραμίδης στην τρομπέτα\, Ηλίας Μπαγλάνης στα πλήκτρα και τα δύο νέα μέλη της παρέας\, ο Αλέξανδρος Κόντζογλου στην ηλεκτρική κιθάρα και ο Μιχάλης Καρανίκος στο τρομπόνι. Την επιμέλεια του ήχου έχουν ο Γιώργος Ταχτσίδης και ο Μίμης Κωνσταντινίδης. \nΟργάνωση και επιμέλεια παραγωγής: Fuzz Productions – Novel Vox \nΗ προπώληση ξεκινά στα 13€ και για περιορισμένο αριθμό εισιτηρίων. Μετά την εξάντλησή τους\, θα συνεχιστεί στα 15€. Στο ταμείο\, αν απομείνουν εισιτήρια\, η τιμή θα είναι 17 ευρώ. \nΟι πόρτες ανοίγουν στις 19.30.\nΤο live ξεκινάει στις 21.30\nΠαρακαλούμε για την έγκαιρη προσέλευση των θεατών. \nCOVID–FREE EVENT \nΓια την είσοδο σας στη συναυλία θα πρέπει να επιδείξετε: \nΠιστοποιητικό εμβολιασμού κατά του Covid-19 ή έγκυρο πιστοποιητικό νόσησης Covid-19.\nΈγγραφο ταυτοπροσωπίας (ταυτότητα / διαβατήριο / δίπλωμα οδήγησης) κατά την είσοδο.\nΤα άτομα ηλικιών κάτω των 16 ετών πρέπει να συνοδεύονται από γονέα ή κηδεμόνα\, με την προϋπόθεση ότι και εκείνος θα επιδείξει έγγραφο ταυτοπροσωπίας και ένα από τα προαναφερθέντα πιστοποιητικά.\nΔιάθεση εισιτηρίων: \nΤηλεφωνικά στο 11876\nΦυσικά σημεία: Καταστήματα  Wind\, Public\, Media Markt\, Ευριπίδης\, Yoleni’s και Viva Spot Τεχνόπολης.\nOnline στα fuzzclub.gr / viva.gr \n 
URL:https://www.fuzzclub.gr/event/aggelakas/
LOCATION:Fuzz Club\, PIREOS 209 KAI PATRIARXOU IOAKIM 1\, Athens\, Greece
CATEGORIES:Concerts
ATTACH;FMTTYPE=image/jpeg:https://www.fuzzclub.gr/wp-content/uploads/2022/02/john.jpg
END:VEVENT
BEGIN:VEVENT
DTSTART;TZID=UTC:20220324T193000
DTEND;TZID=UTC:20220324T233000
DTSTAMP:20260420T034758
CREATED:20220218T150051Z
LAST-MODIFIED:20220218T150051Z
UID:7165-1648150200-1648164600@www.fuzzclub.gr
SUMMARY:Sodom + Domination Inc + Fragments Of Despair
DESCRIPTION:Πέμπτη 24 Μαρτίου 2022\nFuzz Club\, Αθήνα\n\nFB event (Αθήνα): https://www.facebook.com/events/7467586306600938/\n\n\nΤιμή Εισιτηρίων: 30€ Προπώληση/Ταμείο (Nέα Τιμή)\nΏρα Έναρξης: 20:00 (Οι πόρτες ανοίγουν 19:30) \n\nΠροπώληση εισιτηρίων: \nEat Metal (Σπυρίδωνος Τρικούπη 45\, Εξάρχεια)\nSirens Records (Νικηταρά 14 Αθήνα) 210 3822304\nMonsterville (Αγ. Ειρήνης 13 – Μοναστηράκι)\nOld School (Σολωμού 13\, Εξάρχεια)\nMetal Era (Εμμανουήλ Μπενάκη 22\, Αθήνα) \n\nΤα εισιτήρια που έχουν ήδη προπωληθεί ισχύουν κανονικά.\n\n\nSodom… Είναι σίγουρα μια μπάντα που δεν χρειάζεται συστάσεις…. Για τους λάτρεις και μη του thrash ήχου\, οι Sodom αποτελούν ένα από τα “Big Four” σχήματα του Γερμανικού thrash παρέα με τους Kreator\, Destruction & Tankard.\n\nΜε καινούργια αλλά περισσότερο από ποτέ πολύ γνώριμα πλέον νέα μέλη στην μπάντα τους σαν να γύρισαν από το παρελθόν θα επισκεφτούν για 2 εμφανίσεις την Ελλάδα\, για δύο Special Anniversary Old School Shows μόνο για το ελληνικό και όπως ανέφερε ο Tom Angelripper\, για ένα από τα πιο αγαπημένα του κοινά και χώρα…την Ελλάδα.\nΑκολουθεί βιογραφία της μπάντα.\nΗ μπάντα δημιουργήθηκε από τους Tom “Angelripper” Such και Frank “Aggressor” Terstegen εν έτη 1981 στην πόλη Gelsenkirchen της Δυτικής Γερμανίας με την μπάντα να είναι επηρεασμένη στο ξεκίνημα της από σχήματα όπως οι Motörhead\, οι Tank\, οι Raven και οι Venom. \n\nΠολύ σύντομα βρήκαν τον drummer “Bloody Monster” (aka Rainer Focke) ο οποίος πολύ γρήγορα αντικαταστάθηκε από τον Chris “Witchhunter” (σ.σ.: Christian Dudek; απεβίωσε στις 05-08-2008 από νεφρική ανεπάρκεια)\, με τον οποίο κυκλοφόρησαν αρχικά δυο demos\, τα “Witching Metal” & “Victims of Death”\, το 1982 και το 1984 αντίστοιχα\, προτού το σχήμα υπογράψει συμβόλαιο συνεργασίας με την SPV GmbH.\nΌταν αυτό επετεύχθη η μπάντα κυκλοφόρησε το “In the Sign of Evil” με τον Frank “Aggressor” Terstegen να έχει αποχωρήσει και να έχει αντικασταθεί από τον Josef Dominik ή “Grave Violator” αν προτιμάτε\, τον οποίο συνέστησε ο Mille Petrozza των Kreator στο σχήμα\, ο οποίος επίσης δεν παρέμεινε για μεγάλο διάστημα στην μπάντα. Ενώ υπήρχε υλικό διαθέσιμο αλλά λόγω κάποιων προβλημάτων με την εταιρία\, το “In the Sign of Evil” αντί για full length άλμπουμ κυκλοφόρησε ως 12’’ EP. \n\nO “Grave Violator” αποτελεί παρελθόν\, ο Michael “Destructor” Wulf έρχεται\, για να φύγει και αυτός με την σειρά του λίγο μετά τις ηχογραφήσεις του πρώτου δίσκου\, “Obsessed by Cruelty”\, το 1986 για να ενταχθεί στους Kreator\, με τους οποίους έπαιξε μόλις μια συναυλία(!). Ο ίδιος σκοτώθηκε το 1993 σε ατύχημα που είχε με την μηχανή του. Το “Obsessed by Cruelty” επανηχογραφήθηκε εξ’ ολοκλήρου και πάλι το 1986 με έναν ακόμα κιθαρίστα ο οποίος δεν έμεινε πολύ στο σχήμα\, τον Uwe “Ahäthoor” Christoffers\, έπειτα από απαίτηση της δισκογραφικής τους εταιρίας\, όπου τελικά κατέληξαν να κυκλοφορήσουν και οι δυο. Η νέα ηχογράφηση (στην οποία υπήρχε επιπλέον η σύνθεση “After the Deluge”) κυκλοφόρησε από την Steamhammer για την Ευρωπαϊκή έκδοση ενώ για την Αμερικάνικη που κυκλοφόρησε από την Metal Blade\, χρησιμοποιήθηκε η έκδοση που είχε αρχικά απορριφθεί.\nΜετά την κυκλοφορία του “Obsessed by Cruelty”\, το σχήμα απέσυρε το “Σατανιστικό” image της και το αντικατέστησε με μια (σε πιο ειρηνική μορφή) πιο “πολεμική” εικόνα\, η οποία συναντάτε στις περισσότερες κυκλοφορίες των Sodom. Με νέο κιθαρίστα πλέον τον Frank “Blackfire” (σ.σ.: Frank Gosdzik; νυν Assassin)\, οι Sodom κυκλοφόρησαν με αυτή τη σύνθεση δυο στούντιο άλμπουμ (καθώς και ένα live album\, το “Mortal Way of Live”\, την πρώτη από διάφορες κυκλοφορίες της μπάντας που είχαν λογοκριμένο εξώφυλλο στην Γερμανία)\, τα “Persecution Mania” (το οποίο ήταν το πρώτο άλμπουμ των Sodom με τον μακροχρόνιο παραγωγό της μπάντας Harris Johns και συνάμα το πρώτο που στο εξώφυλλο της οποίας κάνει την εμφάνιση του η μασκότ της μπάντας\, “Knarrenheinz”) και “Agent Orange” (στο οποίο εμπεριέχεται και το κλασσικό single “Ausgebombt”). Το “Agent Orange” ήταν το άλμπουμ εκείνο που έκανε τους Sodom την πρώτη Γερμανική thrash metal μπάντα που μπήκε στα Γερμανικά charts\, φτάνοντας την θέση #36.\nΟ Frank “Blackfire” αποχωρεί το 1989 και όπως ο προκάτοχος του\, “Destructor”\, εντάσσεται στους Kreator\, ο οποίος αντικαταστάθηκε από τον πρώην κιθαρίστα των Assassin\, Michael “Micha” Hoffmann\, ο οποίος παρέμεινε στο σχήμα για μερικούς μήνες μέχρι να αντικατασταθεί εν συνεχεία διαδοχικά από τους Andy Brings (1991-1995) & Dirk “Strahli” Strahlmeier (1996).\n1992 και ο Tom απολύει τον Chris Witchhunter\, ο οποίος αντιμετώπιζε προβλήματα αλκοολισμού. Αντικαταστάτης του ήταν ο Atomic Steif (σ.σ.: Guido Richter)\, ο οποίος παρέμεινε στην μπάντα μέχρι το 1996.\nΑπό το 1997 έως το 2010\, οι Sodom αποκτούν το πιο μακροχρόνιο line-up της καριέρας τους\, με τους Tom Angelripper\, Konrad “Bobby” Schottkowski και Bernd “Bernemann” Kost. Το 2001 ο Tom\, ο οποίος στο μεσοδιάστημα κυκλοφόρησε και κάποια solo albums ως Onkel Tom Angelripper\, βραβεύθηκε για την πώληση πάνω από 1.000.000 αντιτύπων κυκλοφοριών των Sodom με ένα διπλά πλατινένιο δίσκο τιμής ένεκεν.\nΤο 2007 ο Tom Angelripper προσκάλεσε τα μέλη της σύνθεσης του “In the Sign of Evil”\, Chris “Witchhunter” & “Grave Violator”\, για να ηχογραφήσουν το αρχικό EP και άλλα κομμάτια από εκείνη την περίοδο ώστε να το κυκλοφορήσουν σαν ένα full length δίσκο όπως αρχικά ήθελαν\, το οποίο πράγματι έγινε υπό τον τίτλο “The Final Sign of Evil”.\n\n\nΣτις 14 Αυγούστου 2009\, οι Sodom εμφανίστηκαν για πρώτη φορά μετά από είκοσι χρόνια στη Μεγάλη Βρετανία στο Bloodstock Open Air ενώ τον Νοέμβριο του 2010 κυκλοφόρησε το “In War and Pieces”\, το τελευταίο άλμπουμ της μπάντας με τον Konrad “Bobby” Schottkowski\, ο οποίος να αποχωρεί λίγο αργότερα\, για να αντικατασταθεί από τον Markus “Makka” Freiwald (ex-Despair).\nΤο 2011 οι Sodom συνεργάστηκαν με τον Γερμανό τραγουδιστή των hits\, Roberto Blanco\, για την πραγματοποίηση μιας διαφήμισης σχετικά με την νόσο του Alzheimer. Ο ίδιος βρέθηκε μαζί τους επί σκηνής αρκετές φορές\, όπως έγινε και στο Wacken της ιδίας χρονιάς\, με την μπάντα να πραγματοποιεί μια metal επανεκτέλεση του κλασσικού του κομματιού\, “Ein bisschen Spaß muss sein”.\n22 Δεκεμβρίου 2012 η κυκλοφορία του “Big Teutonic 4” split\, στο οποίο συμπεριλαμβάνονται οι Sodom\, Kreator\, Destruction & Tankard\, το οποίο μπορούσε κανείς να το πάρει με το τεύχος #82 του Γερμανικού περιοδικού Legacy! Στις 29 Απριλίου 2013\, κυκλοφόρησε το άλμπουμ “Epitome of Torture”\, ο δέκατος τέταρτος στούντιο δίσκος του συγκροτήματος ανεβαίνοντας στο #32 των Γερμανικών charts\, την υψηλότερη θέση από οποιονδήποτε άλλο δίσκο τους!\nΤο 2016 κυκλοφορούν το “Decision Day”\, έναν από τους καλύτερους δίσκους της μέχρι τώρα πορείας τους. Έπειτα από το σχήμα αποχώρησαν οι Bernemann και Makka (νυν μέλη Bonded) ενώ έκτοτε οι Sodom με τους Frank “Blackfire” Gosdzik (Assassin\, ex-Kreator) στην κιθάρα\, Toni Merkel (Frank Blackfire\, ex-Pestlegion) στα drums και Yorck Segatz (Neck Cemetery\, ex-Beyondition) στην κιθάρα έχουν κυκλοφορήσει ένα full length album\, το “Genesis XIX” (2020; Steamhammer/SPV) αλλά και πέντε EP’s\, με το πιο πρόσφατο να είναι το “Bombenhagel” που κυκλοφόρησε τον περασμένο Αύγουστο.\nΛίγο πριν τους headliners\, επί σκηνής αναμέναται να εμφανιστούν οι οι Domination Inc. Οι Domination Inc. Είναι μια νέα\, δυναμική groove/thrash metal μπάντα από την Αθήνα που πάρα το νεαρό της ηλικίας τους μετρούν ήδη 10 χρόνια σαν μπάντα. Έχοντας πλέον δισκογραφική την ιστορική SPV/Steamhammer και έχοντας κάνει διάφορες περιοδείες\, με αποκορύφωμα το live στο Wacken Open Air\, είναι πιο έτοιμοι από ποτέ να επιστρέψουν στην Αθήνα για ένα live γεμάτο ενέργεια.\nUrl: https://www.facebook.com/dominationinc.official\nΟι Fragments Of Despair που θα ανοίξουν την συναυλία\, δημιουργήθηκαν στην Πάρο το 2013 από τον τραγουδιστή και κιθαρίστα Ρωμύλο (Romulus) Χονδρογιωργάκη και τον κιθαρίστα Στέλιο “The Youth” Ζουμή. Έχοντας κυκλοφορήσει τον Ιούλιο του 2014 δυο singles\, τα “Under The Same Sky” & “Eradicate War” κέντρισαν το ενδιαφέρον του μουσικού παραγωγού Clive Martin κι έγιναν αφορμή να κυκλοφορήσει στις 17/01/2015 το πρώτο EP του συγκροτήματος σε παραγωγή του. Τρία χρόνια αργότερα\, με αρκετές ζωντανές εμφανίσεις και αρκετές αλλαγές μελών\, οι Fragments Of Despair κυκλοφορούν το “Broken Lost Mistakes”\, το πρώτο τους άλμπουμ με παραγωγό και πάλι τον Clive Martin. Στα τύμπανα πλέον είναι ο Sevan Barsam (Memorain\, Karma Violens) και στο μπάσο ο Ιάσωνας Ιωακείμ (Lycans).\n\nUrl: https://www.facebook.com/Fragmentsofdespair/
URL:https://www.fuzzclub.gr/event/sodom-2/
LOCATION:Fuzz Club\, PIREOS 209 KAI PATRIARXOU IOAKIM 1\, Athens\, Greece
CATEGORIES:Concerts
ATTACH;FMTTYPE=image/jpeg:https://www.fuzzclub.gr/wp-content/uploads/2022/02/sodom.jpg
END:VEVENT
END:VCALENDAR