BEGIN:VCALENDAR
VERSION:2.0
PRODID:-//Fuzz Club - ECPv6.15.17.1//NONSGML v1.0//EN
CALSCALE:GREGORIAN
METHOD:PUBLISH
X-ORIGINAL-URL:https://www.fuzzclub.gr
X-WR-CALDESC:Events for Fuzz Club
REFRESH-INTERVAL;VALUE=DURATION:PT1H
X-Robots-Tag:noindex
X-PUBLISHED-TTL:PT1H
BEGIN:VTIMEZONE
TZID:UTC
BEGIN:STANDARD
TZOFFSETFROM:+0000
TZOFFSETTO:+0000
TZNAME:UTC
DTSTART:20200101T000000
END:STANDARD
END:VTIMEZONE
BEGIN:VEVENT
DTSTART;TZID=UTC:20211103T080000
DTEND;TZID=UTC:20211103T233000
DTSTAMP:20260420T111330
CREATED:20211011T114937Z
LAST-MODIFIED:20211101T072944Z
UID:7031-1635926400-1635982200@www.fuzzclub.gr
SUMMARY:Christian Löffler live + Parra for Cuva live
DESCRIPTION:Christian Löffler live in Athens \nplus special guest: Parra for Cuva \nΟ πολυπράγμων Γερμανός παραγωγός Christian Löffler\, από τις πιο ιδιαίτερες παρουσίες στο χώρο της ηλεκτρονικής σκηνής\, μαζί με τον εξαιρετικά ταλαντούχο μουσικό Parra for Cuva\, θα εμφανιστούν την Τετάρτη 3 Νοεμβρίου 2021 στο Fuzz Live Music Club\, για ένα live γεμάτο minimal techno\, deep house και ambient ήχους. \nTIMETABLE \n20:00 DOORS\n21:00 PARRA FOR CUVA\n22:15 CHRISTIAN LÖFFLER \n«gorgeous slice of electronic\, ambient and techno» \nMagnetic Magazine \n«All my music is connected by a gloomy spirit\, which is minted by a warm sincerity. I try to merge all kinds of different acoustic colors to obtain this feeling in my music» \nChristian Löffler \nΔιακεκριμένος μουσικός\, συνθέτης αλλά και εικαστικός\, ο Christian Löffler έχει αναμφισβήτητα την ικανότητα να δημιουργεί μουσική γεμάτη συναισθήματα αλλά και να πειραματίζεται με τεχνικές παίζοντας με νέους ήχους και αναζητώντας ατμοσφαιρικές μελωδίες. Χαμηλού προφίλ\, αλλά πολύ δραστήριος\, ο αυτοδίδακτος μουσικός ξεκίνησε την αναζήτησή του στο χώρο της μουσικής σε ηλικία 14 ετών\, και πέρασε τα επόμενα χρόνια ασχολούμενος αποκλειστικά με την ηλεκτρονική μουσική και χρησιμοποιώντας ποικιλία προγραμμάτων αλλά και νέο εξοπλισμό για την επίτευξη ενός διαφορετικού ήχου. \nΗ άνοδός του στο μουσικό στερέωμα στέφθηκε από μεγάλη επιτυχία. Δημιούργησε μια  σειρά από άλμπουμ\, παρουσιάζοντας το δικό του όραμα  που συγκεντρώνει στοιχεία deep house\, minimal techno\, ambient και ηχογραφήσεις πεδίου που προσδίδουν πολύ όμορφη φυσική υφή στη μουσική του. Ο Christian Löffler έχει κατορθώσει να εξελίξει το είδος που καλλιεργεί και πρεσβεύει συνυφαίνοντας έντονα μουσικά συναισθήματα όπως μελαγχολία\, ευφορία\, θλίψη και ευδαιμονία αλλά και να δημιουργεί συνθέσεις που μιλούν στην ψυχή του κοινού. Συνδυάζει αρμονικά\, με φυσικό τρόπο\, δύο αντιφατικούς κόσμους\, τους μελαγχολικούς τόνους και τη χορευτική μουσική. Τα live σετ του είναι εκλεπτυσμένα\, γεμάτα ενέργεια\, πάθος και στιγμές ρυθμικής κορύφωσης\, ενώ η αισθητική φαίνεται να διαδραματίζει κι αυτή κυρίαρχο ρόλο. \nΈχει συνεργαστεί επί σκηνής με πολλά γνωστά ονόματα της μουσικής\, όπως Alt-J\, Bonobo\, The Glitch Mob\, Jungle\, Noisia\, Chet Faker\, Son Lux\, Axwell ∆ Ingrosso\, Hardwell και ZHU σε όλα σχεδόν τα παγκόσμια φεστιβάλ. Μεταξύ άλλων\, διατηρεί τη δική του δισκογραφική εταιρεία\, Ki Records. \n«Richly textured euphoric soundscapes of electronic music» \nPlastic Magazine \nΟ Nicolas Demuth\, κατά κόσμον Parra for Cuva\, έχει δημιουργήσει μία καλλιτεχνική και μουσική ταυτότητα τελείως ασυνήθιστη στο πεδίο της ηλεκτρονικής μουσικής σκηνής. Γεννημένος στην Κολωνία\, ξεκίνησε την αναζήτησή του για τη μουσική σε πολύ μικρή ηλικία με το κλασικό πιάνο και στη συνέχεια ασχολήθηκε με ευρύ φάσμα διαφόρων μουσικών ειδών όπως Jazz\, Pop και Indie. O νεαρός καλλιτέχνης ανέπτυξε σύντομα  έντονο πάθος για την ηλεκτρονική μουσική\, που τον οδήγησε να εγκαταλείψει τη γενέτειρά του και να μετακομίσει σε μία από τις πιο ζωντανές πόλεις του κόσμου\, το δημιουργικό Βερολίνο. \nΜε τη βοήθεια μουσικών οργάνων\, συνθεσάιζερ και ψηφιακής επεξεργασίας\, ο ταλαντούχος παραγωγός δημιουργεί έξυπνα\, ταιριαστά μεταξύ τους μουσικά κομμάτια από εθιστικές μελωδίες\, απαλούς ρυθμούς και ήχους που καταγράφει στην καθημερινή ζωή. Διερευνά ιδιαίτερα μουσικά ακούσματα ενώ η εντυπωσιακή μελωδική του ευρηματικότητα\, στέρεα εδραιωμένη και γεμάτη με ηλεκτρονικά στοιχεία\, οδηγεί σε νέες ηχητικές εμπειρίες. \nΕισιτήρια: \n15€ – Περιορισμένη Προπώληση \n18€ – Γενική Προπώληση \n21€ – Ταμείο \nΔίκτυο Προπώλησης: \nOnline: https://www.viva.gr/tickets/music/fuzz/christian-loffler  \nΤηλεφωνικά: 11876 \nΣημεία Προπώλησης: \nReload \nΚαταστήματα Wind \nΕυριπίδης Βιβλιοπωλεία \nYoleni’s Greek Gastronomy Center (Σόλωνος 9) \nViva Spot Τεχνόπολης (μέσα στο χώρο της Τεχνόπολης\, είσοδος από οδό Περσεφόνης\, Δευτ-Σαβ 11:00-19:00) \nΧώρος: \nFuzz Live Music Club \nΠειραιώς 209 & Πατριάρχου Ιωακείμ 1 Ταύρος\, 177 78 \nΤηλ: 210 345 0817 \nwww.fuzzclub.gr \nLINKS \nWebsite – www.christian-loeffler.net  \nFacebook – www.facebook.com/christianloefflerofficial \nTwitter –  www.twitter.com/chris_loeffler \nInstagram –  www.instagram.com/christianloeffler \nYouTube – www.youtube.com/user/medikit2  \nWebsite – www.parraforcuva.de \nFacebook – www.facebook.com/parraforcuva.official \nTwitter –   www.twitter.com/Parra_for_Cuva \nInstagram –  www.instagram.com/parra_for_cuva \nYouTube  – www.youtube.com/user/ParraforCuva \nCOVID FREE EVENT \nΟ κάτοχος του εισιτηρίου\, βάση της σχετικής νομοθεσίας\, υποχρεούται να επιδείξει κατά την είσοδο: \n• Πιστοποιητικό εμβολιασμού κατά του COVID-19. \n• Πιστοποιητικό ανάρρωσης από COVID-19 που εκδίδεται τριάντα (30) ημέρες μετά από τον πρώτο θετικό έλεγχο και η ισχύς του διαρκεί έως εκατόν ογδόντα (180) ημέρες μετά από αυτόν. \n• Αστυνομική ταυτότητα ή δίπλωμα οδήγησης ή διαβατήριο ή άλλο αποδεικτικό ταυτότητας\, προκειμένου να διενεργηθεί έλεγχος ταυτοπροσωπείας.
URL:https://www.fuzzclub.gr/event/christian-loffler-2/
LOCATION:Fuzz Club\, PIREOS 209 KAI PATRIARXOU IOAKIM 1\, Athens\, Greece
CATEGORIES:Concerts
ATTACH;FMTTYPE=image/png:https://www.fuzzclub.gr/wp-content/uploads/2021/10/Screenshot-2021-10-11-at-17-52-13-Facebook.png
END:VEVENT
BEGIN:VEVENT
DTSTART;TZID=UTC:20211120T203000
DTEND;TZID=UTC:20211120T233000
DTSTAMP:20260420T111331
CREATED:20211101T131423Z
LAST-MODIFIED:20211101T131423Z
UID:7058-1637440200-1637451000@www.fuzzclub.gr
SUMMARY:Monolink
DESCRIPTION:Monolink (plus guests) το Σάββατο 20/11 στο Fuzz Live Music Club\n\nΓια πολύ κόσμο τα “τραγουδιστής\, συνθέτης\, μουσικός παραγωγός” είναι ιδιότητες ασυμβίβαστες για την κουλτούρα του σύγχρονου ήχου\, αλλά αυτό ακριβώς είναι που κάνει τον Monolink\, που ζει και δημιουργεί στο Βερολίνο\, συναρπαστικό: το ότι όλα μπερδεύονται γλυκά. Το μουσικό στυλ του συνδέει την αφηγηματικότητα των τραγουδιών με τον ρυθμό των ηλεκτρονικών ήχων. Η κιθάρα μπλέκεται με τον ψηφιακό ήχο\, οι δονήσεις του μπάσου με τα συναισθηματικά φωνητικά μέρη\, η παθιασμένη σωματικότητα με τη διέγερση του μυαλού.\n\nΤο background του Steffen Linck είναι αυτό που ονομάζουμε “κιθαριστικό”\, βορειοαμερικάνικη φολκ\, μπλουζ – ποτέ δεν δεσμεύτηκε αποκλειστικά σε ένα είδος. Όσο και αν αγαπάει την κιθάρα του\, τον πιστό σύντροφο στο μουσικό του ταξίδι\, όση αδυναμία και αν έχει στις μελωδικές δομές και τα φωνητικά που έχουν τη δύναμη να πουν μια ιστορία\, όλα αυτά τελειώνουν πολύ γρήγορα – και εκεί είναι που έρχεται η έλξη του παραγωγού για ένα άλλο είδος\, συνώνυμο της διάρκειας: την ηλεκτρονική χορευτική σκηνή. Οι υπνωτιστικοί ρυθμοί είναι αυτοί που δημιουργούν τη σωματική εμπειρία των πολύωρων πάρτυ\, που αγαπούσε ούτως ή άλλως\, καθώς ήταν πάντα και DJ εκτός από κιθαρίστας και τραγουδιστής.\n\nΜια αντιπροσωπευτική παραγωγή του Monolink επικεντρώνεται σε ένα τραγούδι γραμμένο στην κιθάρα\, που αποτελεί τον σκελετό για τα κρουστά\, τα samples και τα φωνητικά μέρη που συνήθως ηχογραφούνται σε αυθόρμητα τζαμαρίσματα. Στις ζωντανές εμφανίσεις του παίζει το κομμάτι σε πραγματικό χρόνο\, με έμφαση σε μια καθαρή και απαλή ακουστική εμπειρία\, πράγμα που έχει ως αποτέλεσμα μια εκρηκτική εμπειρία στο dancefloor. Είναι πασίγνωστα τα ευφορικά του sets σε Fusion\, Fuchsbau και 3000° Festival\, αλλά και σε άλλους υπαίθριους χώρους\, όπως και οι εμφανίσεις του στα Ritter Butzke\, Sisyphos\, Keller και άλλα θρυλικά βερολινέζικα κλαμπ. Το 2014 το remix του σε συνεργασία με τον Be Svendsen σκαρφάλωσε στο top 20 του electronica chart του Beatport και το 2015 ένωσε τις δυνάμεις του με τον Acid Pauli για το ΕΡ “The End”. To ανοιχτόμυαλο\, crossover στυλ του Monolink είναι ακαταμάχητο.\n\n\nΕισιτήρια: \n\nEarly Bird: 24€\nΓενική Είσοδος: 28€\nΤαμείο: 33€\n\nΠόρτες ανοίγουν στις 20:30\n\nΣημεία Προπώλησης: \nhttps://www.viva.gr/tickets/music/fuzz/monolink/\nReload\nΚαταστήματα Wind\nΕυριπίδης Βιβλιοπωλεία\nYoleni’s Greek Gastronomy Center (Σόλωνος 9)\nViva Spot Τεχνόπολης (μέσα στο χώρο της Τεχνόπολης\, είσοδος από οδό Περσεφόνης\, Δευτ-Σαβ 11:00-19:00) \n\n\n\nLinks\nwww.facebook.com/monolinkmusic\nwww.soundcloud.com/monolink\nwww.instagram.com/monolinkmusic/\nwww.residentadvisor.net/dj/monolin\nwww.monolink.org \nMonolink Spotify\n\n\n\nVideos\nBurning Man\nCercle\nMonolink-Return to Oz (Artbat Remix)\nMonolink-Under Dark\n\n\n\nΧώρος:\nFuzz Live Music Club\nΠειραιώς 209 & Πατριάρχου Ιωακείμ 1\nΤαύρος\, 177 78\nΤηλ: 210 345 0817\nwww.fuzzclub.gr
URL:https://www.fuzzclub.gr/event/monolink/
LOCATION:Fuzz Club\, PIREOS 209 KAI PATRIARXOU IOAKIM 1\, Athens\, Greece
CATEGORIES:Concerts
ATTACH;FMTTYPE=image/jpeg:https://www.fuzzclub.gr/wp-content/uploads/2021/11/mono.jpg
END:VEVENT
BEGIN:VEVENT
DTSTART;TZID=UTC:20211127T200000
DTEND;TZID=UTC:20211127T233000
DTSTAMP:20260420T111331
CREATED:20211104T061150Z
LAST-MODIFIED:20211112T100729Z
UID:7065-1638043200-1638055800@www.fuzzclub.gr
SUMMARY:Βήτα Πεις
DESCRIPTION:Το Σάββατο 27 Νοεμβρίου (άλλαξε η 13/11 που ήταν προγραμματισμένη)\, οι Βήτα Πεις παρουσιάζουν την “Ροή Του Μέλλοντος” ζωντανά στο Fuzz Live Music Club της Αθήνας και θα είμαστε όλοι εκεί! \n\n\n\n\n\n\n\n\n\n ΑΝΑΚΟΙΝΩΣΗ ΤΩΝ BHTA PEIS (OFFICIAL) \n\n\nΑΛΛΑΓΗ ΗΜΕΡΟΜΗΝΙΑΣ ΚΑΙ ΣΗΜΑΝΤΙΚΗ ΑΝΑΚΟΙΝΩΣΗ ΓΙΑ ΤΟΥΣ ΚΑΤΟΧΟΥΣ ΕΙΣΙΤΗΡΙΩΝ\n\n Λόγω προβλήματος υγείας μέλους της ομάδας παραγωγής\, η συναυλία των Βήτα Πεις στην Αθήνα μεταφέρεται για το Σάββατο 27/11.\n Τα ήδη αγορασμένα εισιτήρια ισχύουν κανονικά για τη νέα ημερομηνία.\n\n\n\nΔΙΑΒΑΣΤΕ ΜΕ ΠΡΟΣΟΧΗ ΤΑ ΠΑΡΑΚΑΤΩ\, ΑΦΟΡΟΥΝ ΤΑ ΝΕΑ ΜΕΤΡΑ \nΜε βάση τα νέα μέτρα κατά της διασποράς του κορονοϊού που ανακοινώθηκαν και σε συνδυασμό με τον κανονσιμό λειτουργίας του Fuzz Live Music Club (μιας που κάθε μαγαζί έχει την δική του κανονισμό βάσει της άδειας λειτουργίας του – γι’ αυτό είναι καλό να παρακολουθείτε κάθε εκδήλωση ξεχωριστά και να μας ρωτάτε όποτε χρειάζεται)\, στην συναυλία των Βήτα Πεις\, μπορούν να μπουν ΜΟΝΟ όσοι:\n Επιδεικνύουν έγγραφο ταυτοπροσωπίας (ταυτότητα / διαβατήριο / δίπλωμα οδήγησης)\n Πιστοποιητικό εμβολιασμού κατά του Covid-19\n Ή πιστοποιητικό νόσησης Covid-19 που εκδίδεται τριάντα (30) ημέρες μετά από τον πρώτο θετικό έλεγχο και η ισχύς του διαρκεί έως εκατόν ογδόντα (180) ημέρες μετά από αυτόν.\n\n\n\nΣτο χώρο μας μπορούν να μπουν και εμβολιασμένα παιδιά κάτω των 16 με τον κηδεμόνα τους (απαραίτητα γονιός\, προφανώς εμβολιασμένος).  Το παιδι χρειάζεται και έγγραφο πιστοποίησης -ταυτότητα. \n\n\n\n\nΓια οτιδήποτε άλλο\, μπορείτε να επικοινωνήσετε μαζί μας στο advance@dynasty.gr.\n\n\n\n\n\n\n\n19 χρόνια μας χωρίζουν από το μακρινό 2002 και τις πρώτες ζωντανές εμφανίσεις και δισκογραφικές απόπειρες των Βήτα Πεις. Ακόμη επίκαιροι\, για πάντα διαχρονικοί\, θεωρούνται δικαίως ένα από τα πιο ιδιαίτερα acts που πέρασαν ποτέ από το ελληνικό rap στερέωμα. Οι ΒΠ αγαπήθηκαν από τους οπαδούς στην πορεία των ετών\, όχι μόνο για το ιδιαίτερο στυλ και το ποιοτικό υλικό τους\, αλλά και για την αφοσίωσή τους στο underground spirit\, την οποία άλλωστε υποστήριξαν διανέμοντας δωρεάν ψηφιακά τις περισσότερες κυκλοφορίες τους. \n\nΕισιτήρια προπωλούνται μέσω του viva.gr και του δικτύου καταστημάτων του (σύντομα και στα Colour Skates και The Finest Cuts – stay tuned!)\nΗλεκτρονική προπώληση: https://www.viva.gr/tickets/festival/music/bp-rtm-ath2021-fuzz/\nΤα εισιτήρια κοστίζουν 12€ (προπώληση & ταμείο)\n\nΚρατώντας πάντα χαμηλά τους τόνους off-stage και ψηλά το ποιοτικό επίπεδο κάθε μουσικής τους απόπειρας\, δεν σταμάτησαν να εκπλήσσουν ακόμη και τα τελευταία χρόνια\, με την σποραδική\, αλλά πάντα ηχηρή παρουσία τους. Το τελευταίο τους δισκογραφικό εγχείρημα\, με τίτλο “Ροή του Μέλλοντος”\, με τους Άσαρκο και Hatemost στα mics\, τον DWMNDV στην παραγωγή και τον Rigo στο μπάσο\, ήρθε να αναζοπυρώσει τον ενθουσιασμό μίας ολόκληρης γενιάς οπαδών που περίμενε την επόμενη μεγάλη κίνησή τους. \nCOVID-FREE EVENT: \nΟι κάτοχοι των εισιτηρίων\, υποχρεούνται να επιδείξουν κατά την είσοδο: \nΈγγραφο ταυτοπροσωπίας (ταυτότητα / διαβατήριο / δίπλωμα οδήγησης) \nΠιστοποιητικό εμβολιασμού κατά του Covid-19 \nΉ πιστοποιητικό νόσησης Covid-19 που εκδίδεται τριάντα (30) ημέρες μετά από τον πρώτο θετικό έλεγχο και η ισχύς του διαρκεί έως εκατόν ογδόντα (180) ημέρες μετά από αυτόν.
URL:https://www.fuzzclub.gr/event/bhtapeis/
LOCATION:Fuzz Club\, PIREOS 209 KAI PATRIARXOU IOAKIM 1\, Athens\, Greece
CATEGORIES:Concerts
ATTACH;FMTTYPE=image/jpeg:https://www.fuzzclub.gr/wp-content/uploads/2021/11/27.jpg
END:VEVENT
END:VCALENDAR