BEGIN:VCALENDAR
VERSION:2.0
PRODID:-//Fuzz Club - ECPv6.15.17.1//NONSGML v1.0//EN
CALSCALE:GREGORIAN
METHOD:PUBLISH
X-ORIGINAL-URL:https://www.fuzzclub.gr
X-WR-CALDESC:Events for Fuzz Club
REFRESH-INTERVAL;VALUE=DURATION:PT1H
X-Robots-Tag:noindex
X-PUBLISHED-TTL:PT1H
BEGIN:VTIMEZONE
TZID:UTC
BEGIN:STANDARD
TZOFFSETFROM:+0000
TZOFFSETTO:+0000
TZNAME:UTC
DTSTART:20190101T000000
END:STANDARD
END:VTIMEZONE
BEGIN:VEVENT
DTSTART;TZID=UTC:20200229T230000
DTEND;TZID=UTC:20200301T183000
DTSTAMP:20260421T224037
CREATED:20200114T081217Z
LAST-MODIFIED:20200217T151900Z
UID:6671-1583017200-1583087400@www.fuzzclub.gr
SUMMARY:TRASHFORMERS / ταξίδι στο χρόνο
DESCRIPTION:(ακολουθεί ηχητικό μήνυμα από τα μεγάφωνα)\n♪♪ Τουν Τουν Τουν ♬ \nΑγαπητοί επιβάτες\, η Trashform Air σας καλωσορίζει στο πιο όμορφο ταξίδι που κάνατε ποτέ! \n/////////////// ΜΑΣΚΕ //////////// ΠΑΡΤΥ //////////////////\n… και επειδή έχουμε απόκριες και οι Trashformers έχουν την τιμητική τους\, η πτήση θα γίνει με μεταμφίεση.\n>> Το θέμα το ξέρετε… το all time classic “ΝΤΥΣΟΥ ΣΤΙΧΟΣ”.\nΒάλτε λοιπόν τις μουσικές να παίζουν και τσιμπήστε τον αγαπημένο σας πιασάρικο στίχο και… δημιουργήστε ελεύθερα! \n> Φυσικά θα γίνει διαγωνισμός στολής και προφανώς θα δώσουμε ένα μπουκάλι δώρο στον νικήτη για να απολαύσει ντυμένος… στίχος! Ο νικητής στο προηγούμενο “Ντύσου στίχος” μασκέ είχε ντυθεί “Τραβάω λοιπόν σ’ όλα μια κόκκινη γραμμή”. Έτσι το αναφέρουμε για να χαμογελάσετε και να στίψετε τα μυαλά σας! \nΟι πρωτοπόροι στα Show χρονικής\, διαχρονικής και χωροχρονικής ακραίας διασκέδασης σας υποδέχονται σε μια παγκόσμια μοναδική κρουαζιέρα στο χρόνο. \nΘα ακολουθήσουμε μια διαδρομή με ελλειπτική τροχιά “δύο-πι-ρο” σε πιλοτική διάβαση με πορεία: \n⦿ Πρώτη στάση τα “μαγικά” 80s\n⦿ Επόμενος σταθμός τα “διαφορετικά” 90s\n⦿ Διασχίζουμε τα “ανέμελα” 00s\n⦿ Διακτινιζόμαστε στο μέλλον\n⦿ Κάνουμε στοπ όβερ σε μυστικούς καλλιτεχνικούς σταθμούς με τον Super-Wow-Secret Guest επιβάτη και…\n⦿ Προσγειωνόμαστε σε ακομπλεξάριστη διαχρονική διασκέδαση \nΌλα αυτά σε ένα μοναδικό ταξίδι χωρίς επιστροφή.\n…γιατί άμα μπεις στον κόσμο των TRASHFORMERS όλα τα άλλα σου φαίνονται… ΑΠΛΑ ΒΑΡΕΤΑ ! \nΟι οδηγίες είναι πολύ απλές σε μια τόσο πολύπλοκη έννοια όσο της χωροχρονικής διαστρέβλωσης όπου είναι απαραίτητη για τα ταξίδια στο χρόνο (wτφ?!). \nΒρείτε τη θέση σας στη πιο όμορφη πτήση και εφαρμόστε σφιχτά την καλύτερη σας διάθεση. \nΣας ευχαριστούμε που επιλέξατε την Trashform Air για αυτό το ταξίδι χωρίς επιστροφή… στην κανονικότητα! \n♬ Τουν Τουν Τουν ♪♪\n(τέλος ηχητικού μηνύματος) \nΜπουκαDoors Open : 23:01\nShow starts : 00:16\nAfter Party Starts : 03:16\nParty Never Ends : xx:xx \n—————————————————–\n– Departure Date –\nSaturday 29 Feb 2020 \n– Terminal 1 εκτός ΣΕΝΓΚΕΝ\, Gate A35 –\nFuzz Club\, Athens\n—————————————————– \nΠαρακαλούμε όπως εισέλθετε απο το πρυμνιαίο κλιμακοστάσιο και αναμένεται για περισσότερες πληροφορίες εκ του αμέσου!\n(ό\,τι και αν σημαίνει αυτό…) \nπροπώληση 6 – ταμείο 7\nμπίρα/κρασί 4 – ποτό 7\nφιάλη 80 \nΤο bar στο κατάστρωμα θα παραμείνει ανοιχτό για άλλα… μέχρι να τελειώσουν τα ποτά! \nΓια έκδοση boarding pass απευθυνθείτε στη ρεσεψιόν:\n• Φυσικά σημεία / Kαταστήματα Reload\, Media Markt\, Ευριπίδης\, στον πολυχώρο Yoleni‘s (Σόλωνος 9\, καθημερινά 8:00-00:00\, Σάββατο 9:00-00:00\, Κυριακή 10:00-20:00) και στο Viva Spot Τεχνόπολης (μέσα στον χώρο της Τεχνόπολης\, είσοδος από οδό Περσεφόνης\, Δευτ-Σαβ 11:00-19:00)\n• Τηλεφωνικά / στο 11876\n• Online / στο viva.gr
URL:https://www.fuzzclub.gr/event/trashformers-6/
LOCATION:Fuzz Club\, PIREOS 209 KAI PATRIARXOU IOAKIM 1\, Athens\, Greece
CATEGORIES:Concerts
ATTACH;FMTTYPE=image/jpeg:https://www.fuzzclub.gr/wp-content/uploads/2020/01/trashs.jpg
END:VEVENT
BEGIN:VEVENT
DTSTART;TZID=UTC:20200306T200000
DTEND;TZID=UTC:20200306T200000
DTSTAMP:20260421T224037
CREATED:20200225T115653Z
LAST-MODIFIED:20200225T115653Z
UID:6796-1583524800-1583524800@www.fuzzclub.gr
SUMMARY:Ved Buens Ende
DESCRIPTION:Η 3 Shades of Black και η Temple Productions παρουσιάζουν τους Ved Buens Ende! \nΠαρασκευή 06 Μαρτίου 2019: Fuzz Live Music Club\nSpecial guests: Insect Ark + more TBA \nΜε το «Written in Waters» να λειτουργεί ως άλλη κρυφή χειραψία στο μουσικό underground\, οι Ved Buens Ende είναι ξεκάθαρα απ’τους σημαντικότερους εκφραστές του\, με το κοινό τους να βρίσκεται αντιστοίχως στον ακραίο έως τον progressive και τον πειραματικό ήχο. \nΔημιουργημένοι από δύο πραγματικούς θρύλους της black/extreme/avant-garde metal σκηνής το 1993\, τους Carl «Czral» Michael Eide και Yusaf «Vikotnic» Parvés\, οι Ved Buens Ende επανασυνδέονται μετά από 24 χρόνια για να κάνουν πρώτη φορά live εμφανίσεις. \n«Ημασταν κι οι δύο παιδιά τότε και ο μόνος χρόνος που είχαμε για πρόβα ήταν οι μικρές νυχτερινές ώρες κι έπρεπε να δραπετεύσω απ’το σπίτι των γονιών μου» λέει ο Czral\, «ο Vikotnic πήγαινε σχολίο σε συνορεύουσα πόλη και με το που ερχόταν πίναμε μία κανάτα καφέ\, μιλούσαμε ασταμάτητα για το θάνατο κι όταν νιώθαμε έτοιμοι αρχίζαμε το τζαμάρισμα για να καταλήξουμε να δημιουργούμε ένα πολύ ιδιαίτερο είδος του metal δια μέσω των μεταμεσονύχτιων ορών». \nΜε την πρόσθεση του Hugh «Scoll» Mingay οι VBE θα κυκλοφορήσουν ένα demo\, το Those Who Caress the Pale και το ντεμπούτο και μόνο τους πλήρη δίσκο\, το Written in Waters. \nΚαι φτάνοντας στο 2020\, με πραγματική συγκίνηση μιας και αυτή η μεθυσμένη κουβέντα με το Vicotnik το 2016 έρχεται να γίνει πραγματικότητα και να φιλοξενήσουμε για δύο συναυλίες τους Ved Buens Ende στην Ελλάδα. \nΤΙΜΕΣ ΕΙΣΙΤΗΡΙΩΝ:\n• Limited: 20€\n• Προπώληση: 22€\n• Ταμείο: 25€ \nΣΗΜΕΙΑ ΠΡΟΠΩΛΗΣΗΣ:\n• Monsterville (Αγίας Ειρήνης 13\, Μοναστηράκι\, τηλ.: 2103648180)\n• Le Disque Noir Records Shop (Θεμιστοκλέους 29\, Αθήνα\, τηλ.: 211 214 3554)\n• Metal Era (Εμ. Μπενάκη 22\, τηλ.: 2103304133)\n• Τηλεφωνικά στο 11876\n• Reload Stores\n• Seven Spots\n• Βιβλιοπωλεία Ευριπίδης – Evripidis Bookstores\n• Viva Kiosks (Συνταγμα & Τεχνόπολις)\n• WIND\n• Yoleni’s Hellas (Σόλωνος 9\, Αθήνα\, τηλ.: 2122223623 – www.yolenis.com)\n• Ηλεκτρονική προπώληση: https://bit.ly/2U3rzfzLINKS:\n• 3 Shades of Black: www.facebook.com/threeshadesofblack \nΕΠΙΚΟΙΝΩΝΙΑ:\n• Website: http://thetemple.gr\n• FB: www.facebook.com/templeliveclub\n• Τηλ.: 30 210 3468523\n• E-mail: stathis@thetemple.gr\, jim@thetemple.gr
URL:https://www.fuzzclub.gr/event/ved-buens-ende/
LOCATION:Fuzz Club\, PIREOS 209 KAI PATRIARXOU IOAKIM 1\, Athens\, Greece
CATEGORIES:Concerts
ATTACH;FMTTYPE=image/jpeg:https://www.fuzzclub.gr/wp-content/uploads/2020/02/83515974_2703208529774422_1080414107233943552_o.jpg
ORGANIZER;CN="3 shades of Black":MAILTO:contact@3shadesofblack.net
END:VEVENT
BEGIN:VEVENT
DTSTART;TZID=UTC:20200307T210000
DTEND;TZID=UTC:20200307T233000
DTSTAMP:20260421T224037
CREATED:20200116T101051Z
LAST-MODIFIED:20200116T101052Z
UID:6677-1583614800-1583623800@www.fuzzclub.gr
SUMMARY:Christian Löffler
DESCRIPTION:Ο ταλαντούχος deep house και techno παραγωγός Christian Löffler\, ένας από τους πιο δημιουργικούς και καινοτόμους καλλιτέχνες της σύγχρονης ηλεκτρονικής σκηνής\, θα βρεθεί στην Αθήνα στο πλαίσιο της Ευρωπαϊκής του περιοδείας για μία και μοναδική εμφάνιση το Σάββατο 7 Μαρτίου 2020 στο Fuzz Club. \nΗ έκφραση και η καλαισθησία της μουσικής του χαρισματικού techno παραγωγού Christian Löffler\, αναδύει στην επιφάνεια και οδηγεί τους ακροατές της στο να βιώσουν ένα ευρύ φάσμα πολύπλοκων και έντονων συναισθημάτων μελαγχολίας και θλίψης ενώ ταυτόχρονα σε προχωράει σε μία διάσταση ευφορίας και ψυχικής ευεξίας με αποτέλεσμα να τον καθιστά μοναδικό στο είδος του. Η συναισθηματική επίδραση που ασκεί\, η πολυ-ποικιλότητα που διαφαίνεται στην μουσική του με προσοχή στην λεπτομέρεια και η διαφορετική προσέγγιση του στην techno μας δίνει μία καλή γεύση του εύρους του ταλέντου του και τον τοποθετούν ανάμεσα στους πιο αξιόπιστους σύγχρονους δημιουργούς. \nΣυνθέτης και εικαστικός\, ο Christian Löffler μεγάλωσε σε μία απομονωμένη επαρχία της Γερμανίας και άρχισε να ασχολείται με την μουσική στην ηλικία των 14 ετών. Ενώ όλος ο περίγυρος του πρωτοπιανόταν με την κιθάρα\, ο ίδιος έστρεψε κατευθείαν το ενδιαφέρον του στον προγραμματισμό και την παραγωγή μουσικής μέσω του υπολογιστή του. Η παραγωγή του ήχου του οφείλει την ύπαρξή της στην περιοχή που ανατράφηκε όπου και μέχρι σήμερα περνάει το μεγαλύτερο μέρος του χρόνου του. Κλεισμένος σε μια καμπίνα στην μέση του πουθενά\, ο Christian Löffler έμαθε μόνος του να χρησιμοποιεί μία ποικιλία προγραμμάτων και μουσικών οργάνων ενώ παράλληλα ανέπτυξε τις δεξιότητες του στην φωτογραφία και επιδόθηκε στην συλλογή και καταγραφή των πολλαπλών φυσικών προοπτικών του ήχου. \nΩς επί των πλείστων\, για τον Löffler η δημιουργία μουσικής ήταν ένα σημαντικό και ευχάριστο μέσο για την έκφραση και απελευθέρωση των συναισθημάτων του. Όλα άλλαξαν το 2008 με την ιδέα ενός στενού φίλου του να ιδρύσουν την δική τους δισκογραφική εταιρεία\, την Ki Records. Μέσω αυτής κυκλοφόρησε το ντεμπούτο του EP «Heights» το 2009. Μετέπειτα και σχεδόν κάθε χρόνο προχωρούσε σε κυκλοφορίες EP\, μέσω πάντα της Ki Records\, με εξαίρεση την κυκλοφορία του «York» το 2015 από την Βρετανική εταιρεία 20:20 Vision. \nΤο 2012 ανακοίνωσε το πολυαναμενόμενο άλμπουμ του «A Forest» με συμμετοχές από μουσικούς όπως Gry Bagøien και Mohna. Ακολούθησε η δεύτερη προσωπική δουλειά του το 2016 «Mare»\, το οποίο έλαβε εγκωμιαστικά σχόλια. Ένα άλμπουμ αντιπροσωπευτικό του ήχου του με αρκετά οργανικά στοιχεία\, ηχογραφήσεις πεδίου και σκοτεινά deep – house μοτίβα. Η ανοδική του πορεία δεν σταματά αλλά εκτοξεύεται\, ενσωματώνοντας όλο και περισσότερα στοιχεία techno και ambient στην μουσική του\, με την κυκλοφορία του τρίτου άλμπουμ «Graal (Prologue)»\, τον Απρίλιο του 2019\, το οποίο έλαβε διθυραμβικές κριτικές. \nΣύνδεσμοι:\nWebsite: www.christian-loeffler.net/\nFacebook: www.facebook.com/christianloefflerofficial/\nTwitter: www.twitter.com/chris_loeffler\nInstagram: www.instagram.com/christianloeffler/\nYouTube: www.youtube.com/user/medikit2 \nΕισιτήρια:\n17€ – Περιορισμένη Προπώληση \n20€ – Γενική Προπώληση\n23€ – Ταμείο  \nΔίκτυο Προπώλησης:\nOnline: https://www.viva.gr/tickets/music/fuzz-club/christian-loffler-live/\nΤηλεφωνικά: 11876 \nΣημεία Προπώλησης:\nReload Stores\nSeven Spots\nΚαταστήματα WIND\nΒιβλιοπωλεία Ευριπίδης – Evripidis Bookstores\nYoleni’s Greek Gastronomy Center Center (Σόλωνος 9)\nViva.gr Spot Τεχνόπολης (μέσα στο χώρο της Τεχνόπολης\, είσοδος από οδό Περσεφόνης\, Δευτ-Σαβ 11:00-19:00)
URL:https://www.fuzzclub.gr/event/christian-loffler/
LOCATION:Fuzz Club\, PIREOS 209 KAI PATRIARXOU IOAKIM 1\, Athens\, Greece
CATEGORIES:Concerts
ATTACH;FMTTYPE=image/jpeg:https://www.fuzzclub.gr/wp-content/uploads/2020/01/816-x-465-CHRISTIAN-LÖFFLER.jpg
END:VEVENT
BEGIN:VEVENT
DTSTART;TZID=UTC:20200321T200000
DTEND;TZID=UTC:20200321T200000
DTSTAMP:20260421T224037
CREATED:20200309T113948Z
LAST-MODIFIED:20200309T113948Z
UID:6805-1584820800-1584820800@www.fuzzclub.gr
SUMMARY:Zoro & Buzz
DESCRIPTION:★ Zoro&Buzz Live στην Αθήνα ★ \nΠαρασκευή 20 και Σάββατο 21 Μαρτίου 2020 \n► On Decks : Dolos\n★ Special Guest την Παρασκευή 20 Μαρτίου : Εθισμος Ε-Θ-Σ\n★ Special Guest το Σάββατο 21 Μαρτίου : Mi55t \n★ Το Live της Παρασκευής 20 Μαρτίου είναι SOLD OUT\, δεν θα υπάρχουν εισιτήρια στην είσοδο ★ \n► Προπώληση Μόνο για το Σάββατο 21 Μαρτίου.\n8 € τα πρώτα 1000 εισιτήρια\, στα εξής σημεία :\n// The Finest Cuts ATH Barbershop – Μιλτιάδου 13-15\, Περιστέρι\n// Artisti Copy Center – Αγίου Σπυρίδωνος 54\, ΤΕΙ Αιγάλεω\n// Ministry Of Concrete – Αξαρλιάν 5\, Σύνταγμα\n// Rhythm Records – Εμμανουήλ Μπενάκη 74\, Εξάρχεια\n// Imantas Records – Σαρρή 46\, Θησείο\n// Shoot Dice Clothing – Κοιμήσεως Θεοτόκου 8\, Μαρούσι\n// Jackals Tattoo – Σωτήρος Διός & Βούλγαρη\, Πειραιάς \nΥπόλοιπη Προπώληση και Ταμείο : 10 €\n= = = = = = = = = = = = = = = = = = = = = = = = = = = = = \nZoro & Buzz Official Facebook Page\nhttps://www.facebook.com/zorobuzzofficial \nZoro & Buzz Official Instagram Profile\nhttps://www.instagram.com/zorobuzzofficial/ \nZoro & Buzz Official YouTube Channel\nhttps://www.youtube.com/c/ZoroBuzzOfficialTV\n= = = = = = = = = = = = = = = = = = = = = = = = = = = = = = = =
URL:https://www.fuzzclub.gr/event/zoro-buzz/
LOCATION:Fuzz Club\, PIREOS 209 KAI PATRIARXOU IOAKIM 1\, Athens\, Greece
CATEGORIES:Concerts
ATTACH;FMTTYPE=image/jpeg:https://www.fuzzclub.gr/wp-content/uploads/2020/03/87956018_2759489394158363_2884231102321393664_o.jpg
END:VEVENT
BEGIN:VEVENT
DTSTART;TZID=UTC:20200322T200000
DTEND;TZID=UTC:20200322T200000
DTSTAMP:20260421T224037
CREATED:20191120T123038Z
LAST-MODIFIED:20200312T164519Z
UID:6391-1584907200-1584907200@www.fuzzclub.gr
SUMMARY:Balthazar (αναβολή)
DESCRIPTION:ΑΝΑΚΟΙΝΩΣΗ \nΟπως έκανε γνωστό η διοργανώτρια High Priority Promotions\, η συναυλία των Balthazar στο Fuzz Live Music Club\, δεν θα πραγματοποιηθεί λόγω των εκτάκτων συνθηκών. \nΜείνετε συντονισμένοι στην επίσημη ιστοσελίδα highpriority.gr και στο High Priority Promotions\nΣύντομα θα υπάρξει ενημέρωση σχετικά με νέα ημερομηνία διεξαγωγής\, εάν καταστεί δυνατό. \n  \nOι Balthazar\, κάνουν δυναμική επιστροφή στη χώρα μας την Κυριακή 22 Μαρτίου 2020 στο Fuzz Club. \nΑπό τα πρώτα ακούσματα του μπάσου στο Fever μπορείς να καταλάβεις ότι οι Βέλγοι πιoνέροι της indie pop Balthazar έχουν αλλάξει. “Μετά από μήνες γραψίματος προς όλες τις κατευθύνσεις\, δίχως να βγαίνει κάτι καλό” το παραπάνω τραγούδι ήταν αρκετό για να δώσει το έναυσμα της δημιουργίας του 4ου δίσκου τους\, μαζί με το όνομα αυτού\, όπως δήλωσε ο frontman της μπάντας Maarten Devoldere. \nΜόνο εύκολο δεν ήταν το μουσικό ταξίδι των Balthazar καθώς οι Devoldere και Jinte Deprez\, προσπαθούσαν να συνυπάρξουν καλλιτεχνικά από το σχολείο. Η ιστορία τους λοιπόν ξεκινά το 2004 και ακροβατεί ανάμεσα στις Indie rock επιρροές τους και την λατρεία για την κλασική ποπ και τον Serge Gainsbourg. \nTo “Applause” τάραξε τα νερά της σκηνής\, στεγάζοντας τις μουσικές ανησυχίες του διδύμου και την αστείρευτη δημιουργικότητά τους. Τα “Rats” και “Thin Walls” που ακολούθησαν έγιναν το soundtrack για όσους τιμάνε το groove και θέλουν την indie rock τους\, να λοξοκοιτά σε funk και pop χωράφια. \nΚαι κάπως έτσι ήρθε στη ζωή μας το “Fever” με τους κύριους Maarten Devoldere\, Jinte Deprez\, Simon Casier\, Michiel Balcaen και Tijs Delbeke\, να αφήνουν στην άκρη τα solo projects τους και να μας δίνουν λίγο από τον πυρετό τους. Κάνοντας το break που χρειαζόντουσαν επανήλθαν δριμύτεροι με ένα δίσκο γεμάτα ραδιοφωνικά hits σαν το “Wrong Vibration” που τερμάτισε όλα τα ρεκόρ στο airplay! \nΤο ελληνικό κοινό τους αγάπησε ακόμη περισσότερο\, όσο εκείνοι σόλνταραν τα περισσότερα από τα venues που έπαιξαν στον κόσμο. Πιο ώριμοι από ποτέ οι Βέλγοι παρουσίασαν ένα ζεστό γλυκόπιοτο απόσταγμα που τιμά τις ρίζες τους\, ανεβάζοντας τη θερμοκρασία με μια Southern πινελιά και ξεσκονίζει το θρόνο της Indie pop για να στρογγυλοκαθίσουν! \nΚυριακή 22 Μαρτίου στο Fuzz Club\, θα ζήσουμε μία βράδια στον πυρετό των Balthazar και μετράμε τις μέρες για να συμβεί! \nΠληροφορίες \nΤα εισιτήρια ξεκινούν από 28€Σημεία προπώλησης:\nwww.highpriority.gr\nwww.ticketmaster.gr\nΤηλεφωνικό κέντρο Ticketmaster 2108938111\nΔίκτυο καταστημάτων Public\n(Για αγορές μέσω Internet & Public υπάρχει επιβάρυνση 10% στην τιμή του εισιτηρίου) \nΦυσικά σημεία προπώλησης \nΑΘΗΝΑ\nReload Stores\nΑκαδημίας 81\, Αθήνα\nΤηλέφωνο: 2103801464\nΩράριο λειτουργίας:\nΔευτέρα έως Παρασκευή 09:30-21:00\nΣάββατο 10:00-20:00 \nΘΕΣΣΑΛΟΝΙΚΗ\nWE\nΓ’ Σεπτεμβρίου & Γρηγορίου Λαμπράκη\, Θεσσαλονίκη\nΤηλέφωνο: 2310284700\nΩράριο λειτουργίας:\nΔευτέρα έως Κυριακή 10:00-22:00 \nΓια περισσότερες πληροφορίες και πλήρη δημοσιογραφική ενημέρωση απευθυνθείτε στο: press@highpriority.gr & στο ssmyrnis@yahoo.gr (+306932526436)
URL:https://www.fuzzclub.gr/event/balthazar/
LOCATION:Fuzz Club\, PIREOS 209 KAI PATRIARXOU IOAKIM 1\, Athens\, Greece
CATEGORIES:Concerts
ATTACH;FMTTYPE=image/jpeg:https://www.fuzzclub.gr/wp-content/uploads/2019/11/bb.jpg
END:VEVENT
BEGIN:VEVENT
DTSTART;TZID=UTC:20200328T193000
DTEND;TZID=UTC:20200328T193000
DTSTAMP:20260421T224037
CREATED:20200203T071500Z
LAST-MODIFIED:20200313T114624Z
UID:6773-1585423800-1585423800@www.fuzzclub.gr
SUMMARY:Sodom (αναβολή)
DESCRIPTION:Ανακοίνωση των διοργανωτών:\nΔεδομένου ότι ο αριθμός των παγκοσμίων περιπτώσεων του Covid-19 (η ασθένεια που προκαλείται από τον κορωνοϊό) συνεχίζει να αυξάνεται\, πρέπει να δωθούν άμεσα λύσεις για τον περιορισμό αυτού. \nΕίμαστε αναγκασμένοι να αναπρογραμματίσουμε τις δύο επερχόμενες συναυλίες των Sodom στην Ελλάδα. \n\nΤα αγορασθέντα εισιτήρια μπορούν να εξαργυρωθούν από τα επίσημα σημεία πώλησης εισιτηρίων ή μπορούν να κρατηθούν από τους κατόχους και θα ισχύουν κανονικά για τις νέες ημερομηνίες. Μόλις αυτές επιβεβαιωθούν\, θα ανακοινωθούν. \n\n\nSodom… Είναι σίγουρα μια μπάντα που δεν χρειάζεται συστάσεις…. Για τους λάτρεις και μη του thrash ήχου\, οι Sodom αποτελούν ένα από τα “Big Four” σχήματα του Γερμανικού thrash παρέα με τους Kreator\, Destruction & Tankard. \nΜε καινούργια αλλά περισσότερο από ποτέ πολύ γνώριμα πλέον νέα μέλη στην μπάντα τους σαν να γύρισαν από το παρελθόν θα επισκεφτούν για 2 εμφανίσεις την Ελλάδα\, για δύο Special Anniversary Old School Shows μόνο για το ελληνικό και όπως ανέφερε ο Tom Angelripper\, για ένα από τα πιο αγαπημένα του κοινά και χώρα…την Ελλάδα. \nΣτις 18 Μαΐου 2019\, στο Rock Hard Festival στη Γερμανία\, εμφανίστηκαν για πρώτη φορά live με το νέο τους line-up. Μαζί με τον τραγουδιστή/μπασίστα/ιδρυτικό μέλος\, Thomas “Angelripper” Such συμμετέχουν πλέον oι Frank “Blackfire” Gosdzik (Assassin\, ex-Kreator) στην κιθάρα\, Stefan “Husky” Hüskens (Asphyx\, ex-Desaster) στα drums και Yorck Segatz (Neck Cemetery\, ex-Beyondition) στην κιθάρα. Ο “Blackfire” μάλιστα\, έχει ξαναπαίξει προηγουμένως με τους Sodom στα albums “Persecution Mania” και “Agent Orange”. “Οι δύο κιθαρίστες μας δίνουν πολλές περισσότερες δυνατότητες σε live εμφανίσεις\, οπότε στο μέλλον θα μπορούμε να παίζουμε κομμάτια που προηγουμένως ως τρίο δεν μπορούσαμε”\, δήλωσε ο Thomas “Angelripper” Such. \nΟι Skull Koraptor που θα εμφανιστούν λίγο πριν τους Sodom\, είναι μια thrash metal μπάντα από την Αθήνα. Κυκλοφόρησε το EP της με τίτλο “Dead Ahead” τον Μάιο του 2014 και έχει μοιραστεί την σκηνή με μπάντες όπως οι Skull Fist\, Destroyer 666 και Tankard ανάμεσα σε άλλες. Μετά από προετοιμασία αρκετών χρόνων ετοίμασαν το πρώτο τους full length δίσκο με τίτλο “Chaos Station”\, το οποίο προσέλκυσε το ενδιαφέρον αρκετών εταιρειών σε Ελλάδα και εξωτερικό. Τελικά\, αφού συμφώνησαν με τη σημαντική και παραδοσιακή για το είδος τους\, Γερμανική εταιρεία Ragnarok Records\, κυκλοφόρησαν το πρώτο άλμπουμ στις 17 Ιανουαρίου και ήδη αποσπά διθυραμβικές κριτικές σε παγκόσμιο επίπεδο.\nUrl: https://www.facebook.com/SkullKoraptor/ \nΟι Fragments Of Despair που θα ανοίξουν την συναυλία\, δημιουργήθηκαν στην Πάρο το 2013 από τον τραγουδιστή και κιθαρίστα Ρωμύλο (Romulus) Χονδρογιωργάκη και τον κιθαρίστα Στέλιο “The Youth” Ζουμή. Έχοντας κυκλοφορήσει τον Ιούλιο του 2014 δυο singles\, τα “Under The Same Sky” & “Eradicate War” κέντρισαν το ενδιαφέρον του μουσικού παραγωγού Clive Martin κι έγιναν αφορμή να κυκλοφορήσει στις 17/01/2015 το πρώτο EP του συγκροτήματος σε παραγωγή του. Τρία χρόνια αργότερα\, με αρκετές ζωντανές εμφανίσεις και αρκετές αλλαγές μελών\, οι Fragments Of Despair κυκλοφορούν το “Broken Lost Mistakes”\, το πρώτο τους άλμπουμ με παραγωγό και πάλι τον Clive Martin. Στα τύμπανα πλέον είναι ο Sevan Barsam (Memorain\, Karma Violens) και στο μπάσο ο Ιάσωνας Ιωακείμ (Lycans). \nΤιμή Εισιτηρίων: 27€ Προπώληση\, 30€ Ταμείο\nΏρα Έναρξης: 20:00 (Οι πόρτες ανοίγουν 19:30) \nΠροπώληση εισιτηρίων:\nEat Metal (Σπυρίδωνος Τρικούπη 45\, Εξάρχεια)\nSirens Records (Νικηταρά 14 Αθήνα) 210 3822304\nMonsterville (Αγ. Ειρήνης 13 – Μοναστηράκι)\nOld School (Σολωμού 13\, Εξάρχεια)\nMetal Era (Εμμανουήλ Μπενάκη 22\, Αθήνα)
URL:https://www.fuzzclub.gr/event/sodom/
LOCATION:Fuzz Club\, PIREOS 209 KAI PATRIARXOU IOAKIM 1\, Athens\, Greece
CATEGORIES:Concerts
ATTACH;FMTTYPE=image/jpeg:https://www.fuzzclub.gr/wp-content/uploads/2020/02/84574533_2934746603242033_5165293258338729984_n.jpg
END:VEVENT
END:VCALENDAR