BEGIN:VCALENDAR
VERSION:2.0
PRODID:-//Fuzz Club - ECPv6.15.17.1//NONSGML v1.0//EN
CALSCALE:GREGORIAN
METHOD:PUBLISH
X-ORIGINAL-URL:https://www.fuzzclub.gr
X-WR-CALDESC:Events for Fuzz Club
REFRESH-INTERVAL;VALUE=DURATION:PT1H
X-Robots-Tag:noindex
X-PUBLISHED-TTL:PT1H
BEGIN:VTIMEZONE
TZID:UTC
BEGIN:STANDARD
TZOFFSETFROM:+0000
TZOFFSETTO:+0000
TZNAME:UTC
DTSTART:20180101T000000
END:STANDARD
END:VTIMEZONE
BEGIN:VEVENT
DTSTART;TZID=UTC:20191208T200000
DTEND;TZID=UTC:20191208T200000
DTSTAMP:20260422T041406
CREATED:20191002T065259Z
LAST-MODIFIED:20191002T065259Z
UID:6161-1575835200-1575835200@www.fuzzclub.gr
SUMMARY:Scott Bradlee's Postmodern Jukebox
DESCRIPTION:Welcome to the Twenties 2.0 World Tour Κυριακή 08 Δεκεμβρίου 2019 – Fuzz Club \nA Great Gatsby party…in 2019 \n“Αμερική\, αρχές 1920. Σε μία πολυτελή έπαυλη\, δίπλα στην πισίνα με θέα την ακτή\, άνδρες με κοστούμια και παπιγιόν και γυναίκες με φορέματα μέχρι το γόνατο\, πέρλες στο λαιμό και μαλλιά κομμένα καρέ\, πίνουν Cosmopolitan και χορεύουν στους ρυθμούς της live μπάντας που βρίσκεται εκεί για να τους διασκεδάσει”. \nΗ παραπάνω σκηνή μοιάζει να έχει βγει από τις σελίδες του Great Gatsby. Όταν όμως οι μουσικοί εκτελούν τις μεγαλύτερες επιτυχίες των τελευταίων δεκαετιών\, σε ρυθμούς jazz\, swing\, foxtrot και soul\, τότε μόλις ήρθατε στο μεγάλο party των Postmodern Jukebox! \nΈτοιμοι για ένα tap dance υπό τους “ήχους” του Bad Romance;\nΗ ιστορία αυτής της μουσικής “κολεκτίβας” δεν είναι σε καμία περίπτωση συνηθισμένη. \nΟ Scott Bradlee ξεκίνησε το 2009 να επανεκτελεί γνωστά τραγούδια σε πιο…jazz εκδοχή θέλοντας να βρει έναν ενδιαφέροντα τρόπο για να εξασκηθεί στο πιάνο. Λίγα χρόνια αργότερα\, αποφασίζει τη δημιουργία ενός σχήματος\, μιας συνάντησης διαφορετικών μουσικών με κοινή αγάπη στο πιάνο και το Motown! \nΕκτός από τον ιδρυτή και ιθύνοντα νου\, Scott Bradlee\, τα μέλη των PMJ δεν είναι σταθερά. Αντίθετα εναλλάσσονται – ξεπερνώντας συνολικά τα 70 – αναλόγως τη διασκευή\, ώστε το αποτέλεσμα κάθε φορά να είναι μοναδικό! \nΜετρούν περισσότερες από ένα δισεκατομμύριο προβολές στο YouTube και εκατομμύρια followers. Μάλιστα\, αναρτώντας κάθε εβδομάδα ένα νέο video\, οι PMJ φροντίζουν να ικανοποιούν τους φανατικούς οπαδούς τους και\, φυσικά\, να ανανεώνονται τα playlist μας! \nΤο “Motown Tribute to Nickelback” κέρδισε τις εντυπώσεις και έδωσε στους PMJ το ιδανικό έναυσμα για να συνεχίσουν να προσεγγίζουν με τον δικό τους\, ξεχωριστό τρόπο\, τις μεγαλύτερες ραδιοφωνικές επιτυχίες. Έτσι\, εκτός από τους Nickelback\, Eminem\, Adele\, Lady Gaga\, Sia\, Rihanna\, Justin Bieber\, Katy Perry και Metallica είναι μόνο μερικοί από εκείνους που «ταξιδεύουν» σε δεκαετίες που κανείς δεν θα μπορούσε ποτέ να φανταστεί! \nΌπως σχολιάζει κι ο ίδιος ο Bradlee για την επερχόμενη Welcome to the Twenties 2.0 περιοδεία των PMJ\, «χρησιμοποιούμε το μικρό μερίδιο που έχουμε στην ποπ κουλτούρα για να προτρέψουμε το κοινό να ξεχάσει τα προβλήματά του και να έρθει σε εμάς\, για μία βραδιά που θα γιορτάσουμε το πραγματικό μουσικό ταλέντο και το διαχρονικό στυλ – ζωντανά και στην πραγματική ζωή». \nΔύο μήνες λοιπόν πριν ανακαλύψουμε τι μας επιφυλάσσει το 2020\, οι Scott Bradlee’s Postmodern Jukebox μας ταξιδεύουν στον χρόνο\, σε ένα εντυπωσιακό 1920s party με 2020s δημιουργίες!\nΦέρτε την καλή σας διάθεση\, βρείτε τον χορευτικό σας παρτενέρ και ετοιμαστείτε για χορό! \nΜέχρι το ραντεβού μας την Κυριακή 8 Δεκεμβρίου στο Fuzz Club\, απολαύστε τις playlists των PMJ: \nWeb: http://postmodernjukebox.com/\nYouTube: https://www.youtube.com/user/ScottBradleeLovesYa\nFacebook: https://www.facebook.com/postmodernjukebox\nSpotify: https://open.spotify.com/artist/5HYNPEO2NNBONQkp3Mvwvc \nSCOTT BRADLEE’S POSTMODERN JUKEBOX \nΚυριακή 8 Δεκεμβρίου – Fuzz Club \nΚάντε attend στην εκδήλωση στο Facebook εδώ \n\nΗ προπώληση συνεχίζεται\nΤα εισιτήρια γενικής εισόδου κοστίζουν 30€ \nVIP Meet & Greet – 172\,7 € (Διαθέσιμα αποκλειστικά ηλεκτρονικά και σε εξαιρετικά περιορισμένο αριθμό. Ισχύει όριο αγοράς 8 εισιτηρίων) \nΣτο VIP πακέτο περιλαμβάνονται:\nΕισιτήριο γενικής εισόδου\nΑποκλειστική δυνατότητα για Meet & Greet με τους Postmodern Jukebox\nΑναμνηστική φωτογραφία με τους Postmodern Jukebox\nΣυλλεκτική υπογεγραμμένη αφίσα του Welcome to the Twenties 2.0 Tour\nΑναμνηστικό πάσο του Welcome to the Twenties 2.0 Tour \nΣημεία Προπώλησης\nwww.highpriority.gr\nwww.ticketmaster.gr\nΤηλεφωνικό Kέντρο Ticketmaster 210 893 8111\nΔίκτυο καταστημάτων Public\n* Για αγορές μέσω internet υπάρχει επιβάρυνση 10% στην τιμή του εισιτηρίου \nΦυσικό σημείο προπώλησης (διαθέσιμα μόνο τα εισιτήρια γενικής εισόδου):\nReload Stores\nΑκαδημίας 81\, Αθήνα\nΩράριο λειτουργίας:\nΔευτέρα έως Παρασκευή 09:30-21:00\nΣάββατο 10:00-20:00 \n  \n 
URL:https://www.fuzzclub.gr/event/scott-bradlees-postmodern-jukebox/
LOCATION:Fuzz Club\, PIREOS 209 KAI PATRIARXOU IOAKIM 1\, Athens\, Greece
CATEGORIES:Concerts
ATTACH;FMTTYPE=image/png:https://www.fuzzclub.gr/wp-content/uploads/2019/10/PMJ-1920x1011.png
END:VEVENT
BEGIN:VEVENT
DTSTART;TZID=UTC:20191213T210000
DTEND;TZID=UTC:20191213T233000
DTSTAMP:20260422T041406
CREATED:20191127T101426Z
LAST-MODIFIED:20191127T101426Z
UID:6446-1576270800-1576279800@www.fuzzclub.gr
SUMMARY:The Stranglers
DESCRIPTION:Οι θρυλικοί Stranglers επιστρέφουν στη χώρα μας για μια μοναδική εμφάνιση αφιερωμένη σε όσους αγαπούν τα ‘70s και τα ‘80s! \nΟι “The Guilford Stranglers”\, όπως ήταν το αρχικό όνομα τους\, άρχισαν να ξεσηκώνουν το βρετανικό κοινό από τα τέλη του 1974. Χαρακτηρίστηκαν ως πρωτοπόροι της πανκ ροκ σκηνής κυρίως λόγο της επιθετικής και ασυμβίβαστης συμπεριφοράς τους\, αλλά μουσικά δεν περιορίστηκαν σε ένα μόνο στυλ. Συνδυάζοντας την αντιδραστική ιδιοσυγκρασία και το μαύρο χιούμορ τους με τον «ψαγμένο» και ποιοτικό στίχο\, πειραματίστηκαν με αρκετά είδη μουσικής όπως το new wave\, το punk\, το art rock\, το gothic rock\, αλλά και η pop. Το αποτέλεσμα ήταν μοναδικό\, καθώς δημιούργησαν τον δικό τους ιδιαίτερο και χαρακτηριστικό ήχο ο οποίος δεν κατηγοριοποιείται\, αλλά καταφέρνει να κερδίσει την αγάπη του ευρύτερου μουσικόφιλου κοινού. \nΜε 2 πλατινένιους και 6 χρυσούς δίσκους\, δώδεκα τραγούδια στο βρετανικό top20 και μια σταδιοδρομία που μετράει πάνω από 4 δεκαετίες\, οι Stranglers είναι ένα από τα μακροβιότερα και πιο επιτυχημένα συγκροτήματα όλων των εποχών\, έχοντας κυκλοφορήσει τραγούδια-σταθμούς\, όπως τα “Always the Sun”\, “No More Heroes”\, “Peaches”\, “Nice ‘n’ Sleazy”\, “Hanging Around”\, αλλά και το single “Golden Brown” που κυκλοφόρησε το 1982 και αποτελεί την μεγαλύτερη εμπορική επιτυχία του συγκροτήματος και ένα από τα σημαντικότερα τραγούδια στην ιστορία της ροκ μουσικής. \nΤην Παρασκευή 13 Δεκεμβρίου 2019\, το FUZZ club υποδέχεται τους πολυαγαπημένους «άντρες με τα μαύρα» του ελληνικού κοινού\, σε μια βραδιά γεμάτη κέφι\, χορό και τραγούδια που έχουν μεγαλώσει γενιές και γενιές. \nTHE STRANGLERS \nΠαρασκευή 13 Δεκεμβρίου 2019\nΟι πόρτες ανοίγουν: 21:00\nΔιεύθυνση: Πειραιώς 209 και Πατριάρχου Ιωακείμ 1\, Ταύρος\, 17778 \nΤιμές εισιτηρίων:\n(25 ευρώ (early bird) – SOLD OUT\, – 30 ευρώ (αρχική φάση προπώλησης) – SOLD OUT)\n– 33 ευρώ (τελική φάση προπώλησης και ταμείο) \nΠροπώληση εισιτηρίων: Καταστήματα PUBLIC\, εκδοτήριο TICKET SERVICES (Πανεπιστημίου 39\, εντός στοάς Πεσαμαζόγλου)\, τηλεφωνικά: 210 72 34 567\, ηλεκτρονικά: www.ticketservices.gr & www.tickets.public.gr \nΟι μεταπωλητές των εισιτηρίων χρεώνουν έξοδα διαχείρισης ανάλογα με το τιμολόγιo τους.
URL:https://www.fuzzclub.gr/event/stranglers/
LOCATION:Fuzz Club\, PIREOS 209 KAI PATRIARXOU IOAKIM 1\, Athens\, Greece
CATEGORIES:Concerts
ATTACH;FMTTYPE=image/jpeg:https://www.fuzzclub.gr/wp-content/uploads/2019/11/sss.jpg
END:VEVENT
BEGIN:VEVENT
DTSTART;TZID=UTC:20191214T200000
DTEND;TZID=UTC:20191214T200000
DTSTAMP:20260422T041406
CREATED:20190920T053350Z
LAST-MODIFIED:20191211T123902Z
UID:6049-1576353600-1576353600@www.fuzzclub.gr
SUMMARY:Hooverphonic
DESCRIPTION:Oι Hooverphonic επιστρέφουν στη χώρα μας για δύο μοναδικές βραδιές\, γεμάτες από τις επιτυχίες που αγαπά το ελληνικό κοινό\, την Παρασκευή 13 Δεκεμβρίου στο Fix Factory of sound της Θεσσαλονίκης και το Σάββατο 14\, στο Fuzz live music club στην Αθήνα. \nΠρόλαβε το εισιτήριό σου!\nΤο πρόγραμμα:\nΠόρτες / ταμείο 20:00\nMarva von Theo 21:25\nHooverphonic 22:30 \n \n\n \nΕτοιμαστείτε να ξανακούσουμε live όλες τις μεγάλες επιτυχίες τους: “Mad About You“\, “Eden“\, “Inhaler“\, “2 Wicky“\, “Jackie Cane”\, “Sometimes”\, “Club Montepulciano“\, “Vinegar & Salt”\, “This Strange Effect“\, “Gentle Storm”\, “Amalfi” και πολλές ακόμα. \nΥπεύθυνοι για μερικές από τις πιο υπέροχες μελωδίες που έχουμε ακούσει τα τελευταία 25 χρόνια\, οι Alex Callier και Raymond Geerts\, έχουν κατορθώσει να συνδυάσουν με μοναδικό τρόπο στοιχεία από alternative rock\, electro-pop\, trip-hop\, dream-pop με μία ρομαντική κινηματογραφική αισθητική. \nΠαραθέτουν δισκογραφικά και επί σκηνής\, σε ένα άψογα προσεγμένο show\, τις πολυποίκιλες επιρροές τους\, δημιουργώντας την ιδανική ατμόσφαιρα που ζητά ο καθένας σε μια συναυλία. Την ίδια στιγμή\, το μεγάλο “όπλο” τους είναι μια νέα τραγουδίστρια\, η 18χρονη Luka Cruysberghs. Με τεράστιες φωνητικές ικανότητες\, κατόρθωσε να χρωματίσει τον ήχο τους άμεσα\, αποδίδοντας ιδανικά τόσο το νέο όσο και το παλαιότερο υλικό της μπάντας\, κάτι που διαπιστώσαμε και το καλοκαίρι. \nO τελευταίος δίσκος τους\, “Looking For Stars”\, 10ος της καριέρας τους\, κυκλοφόρησε πριν λίγους μήνες\, χαρίζοντάς μας πανέμορφα singles\, όπως το σαγηνευτικό “Romantic” και το funky “Uptight”\, που έχουν ήδη κατακτήσει το ελληνικό airplay\, μαζί και με το “Looking For Stars”\, το εντυπωσιακό video του οποίου γυρίστηκε στο παλιό αεροδρόμιο του Ελληνικού. \nInfo | Music \nwww.hooverphonic.com\nhttps://www.facebook.com/HooverphonicOff/\nhttps://www.instagram.com/hooverphonicoff/\nhttps://twitter.com/hooverphonicoff\nwww.youtube.com/user/hooverphonicVEVO \nΤιμές εισιτηρίων:\nΑθήνα (14/12) / 25 ευρώ (προπώληση) – 30 ευρώ (ταμείο)\nΘεσσαλονίκη (13/12) / 23 ευρώ (προπώληση) – 28 ευρώ (ταμείο) \nΔιάθεση: \nΤηλεφωνικά / στο 11876\nOnline / viva.gr \nΦυσικά σημεία / Kαταστήματα Reload\, Seven Spots\, Media Markt\, Ευριπίδης\, στον πολυχώρο Yoleni‘s (Σόλωνος 9\, καθημερινά 8:00-00:00\, Σάββατο 9:00-00:00\, Κυριακή 10:00-20:00) και στο Viva Spot Τεχνόπολης (μέσα στον χώρο της Τεχνόπολης\, είσοδος από οδό Περσεφόνης\, Δευτ-Σαβ 11:00-19:00) \nΟι πόρτες ανοίγουν στις 20:00. To ακριβές πρόγραμμα και το support act θα γίνουν γνωστά από www.fuzzclub.gr / www.fixfactoryofsound.gr και τα social media. \nΕπικοινωνία:\nΘωμάς Μαχαίρας / thomasmachairas@fuzzproductions.gr/ 6936 161979\nΓιάννης Λυμπέρης / johnlimberis@fuzzproductions.gr / 6945 622781\nΙωάννα Μεταξοπούλου (Θεσσαλονίκη) / metaxopoulou@gmail.com / 6944 188878
URL:https://www.fuzzclub.gr/event/hooverphonic-2/
LOCATION:Fuzz Club\, PIREOS 209 KAI PATRIARXOU IOAKIM 1\, Athens\, Greece
CATEGORIES:Concerts
ATTACH;FMTTYPE=image/jpeg:https://www.fuzzclub.gr/wp-content/uploads/2019/09/hoover.jpg
END:VEVENT
BEGIN:VEVENT
DTSTART;TZID=UTC:20191215T090000
DTEND;TZID=UTC:20191215T233000
DTSTAMP:20260422T041406
CREATED:20191114T115046Z
LAST-MODIFIED:20191114T115046Z
UID:6383-1576400400-1576452600@www.fuzzclub.gr
SUMMARY:The Christmas Boogie #8 - The Class of '58 live in Athens
DESCRIPTION:Οι Rollin Foxes σας προσκαλούμε στο Christmas Boogie #8!\nΌσοι έχετε βρεθεί σε κάποια από τα προηγούμενα ανάλογα events\, ξέρετε τι σημαίνει.. Όσοι όχι\, ελάτε να ζήσετε μία αμιγώς rock ‘n’ roll βραδιά βγαλμένη από τη δεκαετία του ’50\, σε ένα από τα μεγαλύτερα και σημαντικότερα events που διοργανώνει η χορευτική ομάδα των Rollin Foxes! \nΌπως όλες μας οι εκδηλώσεις\, έτσι και τo Christmas Boogie\, αποτελεί χάρη στη συνέπεια και την υψηλή ποιότητά του\, θεσμό στην εγχώρια rock’n’roll σκηνή\, όντας εκτός των άλλων\, βασισμένο σε αντίστοιχα rock’n’roll events του εξωτερικού\, και επηρεασμένο από αυτά. \nΤο πρόγραμμα περιλαμβάνει (όπως πάντα\, έτσι και αυτή τη φορά): live μπάντες και καλλιτέχνες από την Ελλάδα και το εξωτερικό\, DJ sets\, υπέροχες μουσικές και\, φυσικά\, πολύ χορό! \nKαλεσμένοι μας αυτή τη φορά\, είναι η υπέροχη μπάντα από την Αγγλία “The Class of ’58”!! Μία οικογένεια (κυριολεκτικά\, είναι πατέρας\, μητέρα και οι δύο γιοι!!) rock ‘n’ roll\, που θα μας ξεσηκώσουν με τις 50s μουσικές τους!! Και ξέρουν πολύ καλά πώς να το κάνουν!! \nΤο live θα ανοίξουν οι “δικοί μας” Jitterbugs! Πρόκειται για μία από τις παλαιότερες μπάντες του είδους και σίγουρα η καλύτερη! Αυτό σημαίνει πως θα έχουμε το καλύτερο ζέσταμα για ό\,τι πρόκειται να ακολουθήσει. \nΠριν την έναρξη της συναυλίας\, στα διαλείμματα ανάμεσα στις εμφανίσεις των καλλιτεχνών αλλά και μετά το πέρας αυτών\, οι DJs Manos K και Silvery Theodore θα φροντίσουν να κρατήσουν ζεστή την υπέροχη πίστα του καλύτερου live stage της Αθήνας\, του Fuzz Live Music Club. \nΤο 8ο Christmas Boogie\, θα είναι σίγουρα μια βραδιά που θα σας μείνει αξέχαστη! \n– ΕΙΣΙΤΗΡΙΑ\n* ΤΙΜΗ EARLY BIRD: 10 ευρώ.\nΗ πώληση εισιτηρίων Early Bird ξεκινάει την Τρίτη 26 Νοεμβρίου και ισχύει μέχρι το Σάββατο 30 Νοεμβρίου \nΤΙΜΗ ΠΡΟΠΩΛΗΣΗΣ: 12 ευρώ.\nΗ προπώληση εισιτηρίων ξεκινάει την Τρίτη 3 Δεκεμβρίου και ισχύει μέχρι το Σάββατο 14 Δεκεμβρίου \nΤΙΜΗ ΣΤΗΝ ΕΙΣΟΔΟ ΤΟΥ FUZZ\nΤΟ ΒΡΑΔΥ ΤΗΣ ΕΚΔΗΛΩΣΗΣ: 14 ευρώ\n-Τα εισιτήρια Early Bird και προπώλησης μπορείτε να τα προμηθευτείτε αποκλειστικά από το Blue Fox\, Ασκληπιού 91 – Εξάρχεια\, Τρίτη με Σάββατο και ώρες 18:00 με 21:00. Δεν γίνονται κρατήσεις εισιτηρίων\, μόνο αγορά. \n——–\nThe Class of ’58 – Βιογραφικό \nΗ οικογένεια Coleman είναι οι “The Class of ’58”\, μία από τις καλύτερες και πιο γνωστές μπάντες Rock & Roll και Doowop Vocal Harmony Group της Ευρώπης. Έχουν αναγνωριστεί διεθνώς ως ένας από τους κορυφαίους εκπροσώπους της ’50s μουσικής σήμερα.\nΑποτελείται από τον πατέρα (Howie) σε κιθάρα και τραγούδι\, τη μητέρα (Chris) στο κόντρα μπάσο και τραγούδι και τους γιους John στα drums και τραγούδι και David στο πιάνο και τα φωνητικά .\nΈχουν συμμετάσχει πρόσφατα ως πρώτα ονόματα σε μεγάλα φεστιβάλ\, όπως: “Chromefest”\, NSW (Australia)\, The Summer Jamboree (Italy)\, Bethune Retro (France)\, Rockin’ Doowop (Gran Canaria) και αρκετά άλλα!!
URL:https://www.fuzzclub.gr/event/the-christmas-boogie-2/
LOCATION:Fuzz Club\, PIREOS 209 KAI PATRIARXOU IOAKIM 1\, Athens\, Greece
CATEGORIES:Concerts
ATTACH;FMTTYPE=image/jpeg:https://www.fuzzclub.gr/wp-content/uploads/2019/11/FB-COVER-_-Christmas-Boogie-8-1.jpg
END:VEVENT
BEGIN:VEVENT
DTSTART;TZID=UTC:20191220T200000
DTEND;TZID=UTC:20191221T233000
DTSTAMP:20260422T041406
CREATED:20190918T055931Z
LAST-MODIFIED:20191219T094756Z
UID:6044-1576872000-1576971000@www.fuzzclub.gr
SUMMARY:Planet of Zeus
DESCRIPTION:Οι καταιγιστικοί Planet Οf Zeus παρουσιάζουν το εξαιρετικό νέο album τους\, “Faith in Physics”\, μαζί με όλα τα εκρηκτικά τραγούδια από τη μέχρι τώρα πορεία τους\, σε ένα διήμερο-φωτιά! Την Παρασκευή 20 και το Σάββατο 21 Δεκεμβρίου\, στο Fuzz Live Music Club\, τα Χριστούγεννα θα έρθουν νωρίτερα!\nΟpening acts: Sadhus (20/12) και Κροταλίας (21/12) \n\nΗ προπώληση ξεκινάει στα 10 ευρώ και για περιορισμένο αριθμό εισιτηρίων. Μετά την εξάντλησή τους\, θα συνεχιστεί στα 12 ευρώ. Η τελική τιμή προπώλησης και ταμείου\, θα είναι 14 ευρώ.\n\n \n\n \nΟι πόρτες και το ταμείο ανοίγουν στις 20:00. \n 21:15  Sadhus (20/12) και Κροταλίας (21/12)\n22:30 Planet of Zeus\n \nΔιάθεση εισιτηρίων: Τηλεφωνικά: 11876 Online: www.viva.gr\nwww.fuzzclub.gr/event/planetofzeus/   Φυσικά σημεία: Kαταστήματα Reload\, Seven Spots\, Media Markt\, Ευριπίδης\, στον πολυχώρο Yoleni‘s (Σόλωνος 9\, καθημερινά 8:00-00:00\, Σάββατο 9:00-00:00\, Κυριακή 10:00-20:00) και στο Viva Spot Τεχνόπολης (μέσα στον χώρο της Τεχνόπολης\, είσοδος από οδό Περσεφόνης\, Δευτ-Σαβ 11:00-19:00). \nΜια μπάντα που δεν χρειάζεται συστάσεις\, με αξιοζήλευτη πορεία και μια αδιαφιλονίκητη χημεία επί σκηνής. Με τη μία sold out συναυλία να διαδέχεται την άλλη\, σε κάθε πόλη και σε κάθε venue\, έχουν ξεπεράσει τα στενά όρια της χώρας μας εδώ και πολύ καιρό\, ταξιδεύοντας τα βαριά\, γεμάτα groove\, riffs τους σε ολόκληρο τον κόσμο. \nΗ φετινή εμφάνισή τους στο Release Athens\, στο πλάι των Clutch και Black Rebel Motorcycle Club\, μνημονεύεται ακόμα. Η σχέση του αθηναϊκού heavy rock κουαρτέτου με το κοινό είναι μοναδική και πλέον οι εμφανίσεις τους δεν αφήνουν κανένα περιθώριο αμφισβήτησης! \nΤο ντεμπούτο τους\, “Eleven The Hard Way“\, το έπαιξε μέχρι και ο Bruce Dickinson στο BBC radio. Τα “Macho Libre” και “Vigilante” εδραίωσαν τη φήμη τους με τραγούδια σαν τα “Leftovers”\, “Vanity suit”\, “Vigilante” . Το “Loyal to the Pack”\, με τη μελωδία να βγαίνει μπροστά\, έγινε το πιο επιτυχημένο album τους. Το “Live in Athens” απλά απέδειξε την εξέλιξή τους. \nΟ νέος δίσκος τους ακούγεται ως το ιδανικό soundtrack της δυστοπικής κατάστασης του πλανήτη μας\, ένα heavy rock ξέσπασμα! Στιχουργικά είναι σίγουρα ο δίσκος με τον πιο έντονο κοινωνικοπολιτικό στίχο. Όπως αναφέρουν οι ίδιοι\, έγραψαν το album «σε έναν κόσμο όπου βασιλεύει ο παραλογισμός\, οι ακροδεξιές πολιτικές βρίσκουν παντού έδαφος\, όπως και ο θρησκευτικός φανατισμός και η ελευθερία του λόγου δοκιμάζεται καθημερινά». Ψηφιοποίηση\, θρησκεία\, ψευτο-επανάσταση των social media\, κάθε είδους εθισμός. \nΗ μπάντα ηχητικά επιλέγει τον “βρώμικο” δρόμο\, δημιουργώντας μια ηλεκτρισμένη και φορτισμένη ατμόσφαιρα μέσα στην οποία ταξιδεύουν τα μηνύματά τους. Heavy groove riffs\, πανέξυπνα και γεμάτα\, που θυμίζουν τις ένδοξες στιγμές των Rage Against The Machine\, την ενέργεια των MC5 και τα pop ερεθίσματα των Queens Of The Stone Age. \nO δίσκος κυκλοφορεί από την περίφημη Heavy Psych Sounds. \nΈγραψαν για το “Faith in Physics“: \n“To παιδί του έρωτα των Clutch με τους Soundgarden με τον έντονο σχολιασμό των RATM. Μια επίκαιρη επιστροφή.” / Metal Hammer \n“Αυτή η μοναδική αρμονία μεταξύ των τραγουδιών\, φέρνει το album να κοντράρεται στην πρώτη θέση με προηγούμενά τους\, αφού εδώ μιλάμε για το απόγειο της μουσική ωριμότητας τους.” / Rockway.gr \n“Σε κάθε τους βήμα μας παρουσιάζουν την αλήθεια τους\, είναι δεμένοι σαν οικογένεια επί σκηνής και στηρίζουν έμπρακτα οποιαδήποτε αλλαγή στον ήχο τους.” / Rocking.gr \n“Μεγάλη επιστροφή! Aνυπομονούμε να ακούσουμε τα τραγούδια και ζωντανά\, εκεί που το συγκρότημα δίνει πάντοτε το 101% των δυνάμεών του.” / I–Jukebox.gr \nInfo | Music \nOfficial site \nFacebook \nInstagram \nYouTube \n \n  \n 
URL:https://www.fuzzclub.gr/event/planetofzeus/
LOCATION:Fuzz Club\, PIREOS 209 KAI PATRIARXOU IOAKIM 1\, Athens\, Greece
CATEGORIES:Concerts
ATTACH;FMTTYPE=image/jpeg:https://www.fuzzclub.gr/wp-content/uploads/2019/09/ΖΕ.jpg
END:VEVENT
BEGIN:VEVENT
DTSTART;TZID=UTC:20191225T230000
DTEND;TZID=UTC:20191226T060000
DTSTAMP:20260422T041406
CREATED:20190925T120620Z
LAST-MODIFIED:20191213T092039Z
UID:6125-1577314800-1577340000@www.fuzzclub.gr
SUMMARY:Trashformers XMAS Special
DESCRIPTION:Χω Χω Χω! … Χω-ρίς καμία καθυστέρηση ετοιμαζόμαστε για μαγικό ταξίδι στον Πόλο της Ακραίας Διασκέδασης… δηλαδή στον κόσμο των Trashformers! \nTετάρτη 25/12. – XMAS \nΤρίτη 31/12. – NYE \nΓια όσους δεν κατάλαβαν… οι Trashformers ετοιμάζουν\, όχι ένα\, αλλά Δύο (2) εορταστικά υπερ-events που θα κάνουν όλους αυτούς που έκλεισαν για γιορτές στη Νέα Υόρκη να ξενερώσουν όσο δεν πάει που δεν θα είναι Αθήνα… γιατί καλά τα ταξίδια Παρίσια\, Λονδίνο κτλ.. αλλά ακόμη καλύτερα είναι τα ταξίδια στο χρόνο! \n \n\n\nΓια πάμε λοιπόν! \n(ακολουθεί ηχητικό μήνυμα από τα μεγάφωνα) \n♪♪ Τουν Τουν Τουν ♬ \nΑγαπητοί επιβάτες\, η Trashform-Air σας καλωσορίζει στα πιο όμορφα μουσικά ταξίδια που κάνατε ποτέ! \nΤετάρτη 25 Δεκεμβρίου (Χριστούγεννα) και Τρίτη 31 Δεκεμβρίου (Παραμονή Πρωτοχρονιά) οι πρωτοπόροι στα Show χρονικής\, διαχρονικής και χωροχρονικής ακραίας διασκέδασης σας υποδέχονται σε δυο μοναδικές κρουαζιέρες στο χρόνο! \nΘα ακολουθήσουμε μια διαδρομή με ελλειπτική τροχιά “δύο-πι-ρο” σε πιλοτική διάβαση με πορεία: \n\n⦿ Πρώτη στάση τα “μαγικά” 80s\n⦿ Επόμενος σταθμός τα “διαφορετικά” 90s\n⦿ Διασχίζουμε τα “ανέμελα” 00s\n⦿ Διακτινιζόμαστε στο μέλλον\n⦿ Κάνουμε στοπ όβερ σε μυστικούς καλλιτεχνικούς σταθμούς με τον/την Super-Wow-Secret Guest μας και…\n⦿ Προσγειωνόμαστε σε ακομπλεξάριστη διαχρονική διασκέδαση\n\nκαι εννοείται τα ταξίδια είναι χωρίς επιστροφή. …γιατί άμα μπεις στον κόσμο των TRASHFORMERS όλα τα άλλα σου φαίνονται…  ΑΠΛΑ ΒΑΡΕΤΑ ! \n♬ Τουν Τουν Τουν ♪♪ (τέλος ηχητικού μηνύματος) \n>>>>>>>>>>>>>>>>>>>>>>>>>>>>>>>>>>>>>>>>>>>>>>>>>>>>>>>>>>>>>>> \n– Departure Dates – \nWednesday 25 Dec 2019 (Christmas ανήμερα) – Boarding at 23:01 / Intergalactic Take-off at 00:16 \nΓια έκδοση boarding pass απευθυνθείτε στη ρεσεψιόν \nΦυσικά σημεία / Kαταστήματα Reload\, Seven Spots\, Media Markt\, Ευριπίδης\, στον πολυχώρο Yoleni‘s (Σόλωνος 9\, καθημερινά 8:00-00:00\, Σάββατο 9:00-00:00\, Κυριακή 10:00-20:00)  και στο Viva Spot Τεχνόπολης (μέσα στον χώρο της Τεχνόπολης\, είσοδος από οδό Περσεφόνης\, Δευτ-Σαβ 11:00-19:00)\nΤηλεφωνικά στο 11876 \nTuesday 31 Dec 2019 (λίγο μετά την αλλαγή) – Boarding at 00:21 / Intergalactic Take-off at 01:24 \n– Terminal 1 εκτός ΣΕΝΓΚΕΝ\, Gate A35 – Fuzz Club\, Athens \n>>>>>>>>>>>>>>>>>>>>>>>>>>>>>>>>>>>>>>>>>>>>>>>>>>>>>>>>> \nΠαρακαλούμε όπως εισέλθετε απο το πρυμνιαίο κλιμακοστάσιο και αναμείνατε για περισσότερες πληροφορίες εκ του αμέσου!  (ό\,τι και αν σημαίνει αυτό…) \nΤο bar στο κατάστρωμα θα παραμείνει ανοιχτό για άλλα… μέχρι να τελειώσουν τα ποτά! \nπροπώληση 6 – ταμείο 7 \nμπίρα/κρασί 4 – ποτό 7 \nφιάλη 80\, κρατήσεις στον 2103450817 \nΓια έκδοση boarding pass απευθυνθείτε στη ρεσεψιόν… \n\nΦυσικά σημεία / Kαταστήματα Reload\, Seven Spots\, Media Markt\, Ευριπίδης\, στον πολυχώρο Yoleni‘s (Σόλωνος 9\, καθημερινά 8:00-00:00\, Σάββατο 9:00-00:00\, Κυριακή 10:00-20:00) και στο Viva Spot Τεχνόπολης (μέσα στον χώρο της Τεχνόπολης\, είσοδος από οδό Περσεφόνης\, Δευτ-Σαβ 11:00-19:00)\nΤηλεφωνικά / στο 11876\nOnline / https://www.viva.gr\n\n \n 
URL:https://www.fuzzclub.gr/event/trashformers-xmas/
LOCATION:Fuzz Club\, PIREOS 209 KAI PATRIARXOU IOAKIM 1\, Athens\, Greece
CATEGORIES:Concerts
ATTACH;FMTTYPE=image/jpeg:https://www.fuzzclub.gr/wp-content/uploads/2019/09/for.jpg
END:VEVENT
BEGIN:VEVENT
DTSTART;TZID=UTC:20191227T223000
DTEND;TZID=UTC:20191227T223000
DTSTAMP:20260422T041406
CREATED:20191220T090154Z
LAST-MODIFIED:20191220T090154Z
UID:6536-1577485800-1577485800@www.fuzzclub.gr
SUMMARY:The EPIC Xmas Party
DESCRIPTION:Το EPIC επιστρέφει με Χριστουγεννιάτικο mood\, για ένα ΕΠΙΚΟ Party! \nΈνα μουσικό ταξίδι με όλα τα αγαπημένα μας GUILTY PLEASURES και PARTY ANTHEMS από τα 80s μέχρι και σήμερα. \n80s / 90s / 00s / POP / DISCO / RNB / TRASH \nΠαρασκευή 27 Δεκεμβρίου\nFuzz Live Music Club\nΏρα έναρξης: 22:30\nΕίσοδος : 5€ \nΟλες οι πληροφορίες από εδώ\nhttps://www.facebook.com/events/539995909885508/
URL:https://www.fuzzclub.gr/event/epic/
LOCATION:Fuzz Club\, PIREOS 209 KAI PATRIARXOU IOAKIM 1\, Athens\, Greece
CATEGORIES:Concerts
ATTACH;FMTTYPE=image/jpeg:https://www.fuzzclub.gr/wp-content/uploads/2019/12/EPIC-XMAS-ATHENS.jpg
END:VEVENT
BEGIN:VEVENT
DTSTART;TZID=UTC:20191228T200000
DTEND;TZID=UTC:20191228T200000
DTSTAMP:20260422T041406
CREATED:20191002T065603Z
LAST-MODIFIED:20191002T065604Z
UID:6164-1577563200-1577563200@www.fuzzclub.gr
SUMMARY:SL Theory | Album release show
DESCRIPTION:SL Theory . Album Release Show  \n28 Δεκεμβρίου 2019 – Fuzz Club \nΝοely Rayn presenting their new album “Perfect is not Enough” \n& Cellar Stone \nΤο Σάββατο 28 Δεκεμβρίου οι SL Theory θα ταρακουνήσουν το Fuzz\, παρουσιάζοντας τον νέο τους δίσκο! Η μπάντα που έχει προσελκύσει το ενδιαφέρον κοινού και κριτικών\, σε μια headline εμφάνιση που θα θυμόμαστε για καιρό. \nΟι SL Theory είναι ένα Heavy Rock συγκρότημα το οποίο κινείται σε ένα ηχητικό φάσμα που αγκαλιάζει από το Heavy Prog έως το AOR. Με όπλο τους μια σειρά από ποιοτικές συνθέσεις\, είναι αναμφίβολα μια από τις πιο ενδιαφέρουσες μουσικές προτάσεις του σκληρού ήχου. Μέσα από πολυσυζητημένες Live εμφανίσεις σε συνθήκες υψηλών απαιτήσεων\, οι SL Theory προκαλούν και προσκαλούν τον ακροατή σε ένα αξέχαστο μουσικό ταξίδι\, που έχει αποσπάσει τα εύσημα οπαδών\, εντός και εκτός συναυλιακών τειχών. \nΤο συγκρότημα έχει ως τώρα κυκλοφορήσει δύο στούντιο άλμπουμ σε CD\, ενώ πρόσφατα κυκλοφόρησε το πρώτο του live CD / DVD και βλέπει την δημοτικότητά του να μεγαλώνει μέσα από τις θεαματικές του οπτικοακουστικές ζωντανές εμφανίσεις. \nH καινούργια στούντιο δουλειά των SL Theory έχει τον τίτλο “Cipher” και πρόκειται σίγουρα για μια από τις πιο ενδιαφέρουσες κυκλοφορίες της χρονιάς. Με το “Cipher”\, οι SL Theory καταφέρνουν να ανεβάσουν τον πήχη με την προσοχή την οποία το συγκρότημα έχει\, για μια ακόμα φορά\, δείξει στη λεπτομέρεια\, κάνοντας τη διαφορά με μουσική η οποία δείχνει τα «δόντια» της\, ενώ παράλληλα αγγίζει και γεννά συναισθήματα στον ακροατή. Στο Fuzz\, πρόκειται να δώσουν ένα μοναδικό show\, για όσους τυχερούς παρευρεθούν στον χώρο! \nMαζί τους οι Νοely Rayn\, θα παρουσιάσουν τον νέο τους δίσκο “Perfect is not Enough”\, σαν γνήσια τέκνα των Thin Lizzy και της ιρλανδικής hard rock σκηνής. \nΤη συναυλία θα ανοίξουν οι Cellar Stone\, με το heavy rock τους το αλήτικο να μην χαρίζεται σε κανένα! \nΗ ελληνική σκηνή δείχνει τα δόντια της και σε καλεί να δεις από κοντά πόσα απίδια πιάνει ο σάκος της! Δίνουμε ραντεβού λοιπόν\, επί σκηνής το Σάββατο 28 Δεκεμβρίου στο Fuzz. \nΟι SL Theory είναι: \nΜιχάλης Καρασούλης (φωνή) \nΆλεξ Φλούρος (κιθάρα) \nΓιάννης Νίγδελης (κιθάρα) \nΧρήστος Κόλλιας (μπάσο) \nΜανώλης Γαβαλάς (πλήκτρα) \nΣωτήρης Λαγωνίκας (drums) \nΣτα φωνητικά είναι: \nΜαργαρίτα Παπαδημητρίου Άννα Τάρμπα \nhttps://www.sltheory.com/ \nhttps://www.youtube.com/sltheory \nhttps://www.facebook.com/sltheory \nhttps://sotirislagonikas.bandcamp.com/album/progressively-dark \n  \nΠληροφορίες εισιτηρίων \n  \nΗ προπώληση θα ξεκινήσει την Τετάρτη 2 Οκτωβρίου 2019. \n  \nΤιμές εισιτηρίων \nΠροπώληση: 10€ \nΤαμείο: 12€
URL:https://www.fuzzclub.gr/event/sl-theory-album-release-show/
LOCATION:Fuzz Club\, PIREOS 209 KAI PATRIARXOU IOAKIM 1\, Athens\, Greece
CATEGORIES:Concerts
ATTACH;FMTTYPE=image/jpeg:https://www.fuzzclub.gr/wp-content/uploads/2019/10/SLTHEORY800x538.jpg
END:VEVENT
BEGIN:VEVENT
DTSTART;TZID=UTC:20191231T233000
DTEND;TZID=UTC:20200101T180000
DTSTAMP:20260422T041406
CREATED:20191213T092631Z
LAST-MODIFIED:20191230T074648Z
UID:6466-1577835000-1577901600@www.fuzzclub.gr
SUMMARY:Trashformers Παραμονή Πρωτοχρονιάς
DESCRIPTION:Χω Χω Χω! … Χω-ρίς καμία καθυστέρηση ετοιμαζόμαστε για μαγικό ταξίδι στον Πόλο της Ακραίας Διασκέδασης… δηλαδή στον κόσμο των Trashformers! \nΤρίτη 31/12. – NYE \nΓια όσους δεν κατάλαβαν… οι Trashformers ετοιμάζουν\, όχι ένα\, αλλά Δύο (2) εορταστικά υπερ-events που θα κάνουν όλους αυτούς που έκλεισαν για γιορτές στη Νέα Υόρκη να ξενερώσουν όσο δεν πάει που δεν θα είναι Αθήνα… γιατί καλά τα ταξίδια Παρίσια\, Λονδίνο κτλ.. αλλά ακόμη καλύτερα είναι τα ταξίδια στο χρόνο! \n \n\n \nΑγαπητοί επιβάτες\, η Trashform-Air σας καλωσορίζει στα πιο όμορφα μουσικά ταξίδια που κάνατε ποτέ! \nΤρίτη 31 Δεκεμβρίου (Παραμονή Πρωτοχρονιά) οι πρωτοπόροι στα Show χρονικής\, διαχρονικής και χωροχρονικής ακραίας διασκέδασης σας υποδέχονται σε δυο μοναδικές κρουαζιέρες στο χρόνο! \n\n⦿ Πρώτη στάση τα “μαγικά” 80s\n⦿ Επόμενος σταθμός τα “διαφορετικά” 90s\n⦿ Διασχίζουμε τα “ανέμελα” 00s\n⦿ Διακτινιζόμαστε στο μέλλον\n⦿ Κάνουμε στοπ όβερ σε μυστικούς καλλιτεχνικούς σταθμούς με τον/την Super-Wow-Secret Guest μας και…\n⦿ Προσγειωνόμαστε σε ακομπλεξάριστη διαχρονική διασκέδαση\n\nκαι εννοείται τα ταξίδια είναι χωρίς επιστροφή. …γιατί άμα μπεις στον κόσμο των TRASHFORMERS όλα τα άλλα σου φαίνονται…  ΑΠΛΑ ΒΑΡΕΤΑ ! \n♬ Τουν Τουν Τουν ♪♪ (τέλος ηχητικού μηνύματος) \nEXOYN AΠΟΜΕΙΝΕΙ ΜΟΝΟ ΕΙΣΙΤΗΡΙΑ ΟΡΘΙΩΝ\nΠΡΟΛΑΒΕ ΤΟ ΔΙΚΟ ΣΟΥ! \nπροπώληση 6 – ταμείο 7\nμπίρα/κρασί 4 – ποτό 7 \nΦυσικά σημεία / Kαταστήματα Reload\, Seven Spots\, Media Markt\, Ευριπίδης\, στον πολυχώρο Yoleni‘s (Σόλωνος 9\, καθημερινά 8:00-00:00\, Σάββατο 9:00-00:00\, Κυριακή 10:00-20:00)  και στο Viva Spot Τεχνόπολης (μέσα στον χώρο της Τεχνόπολης\, είσοδος από οδό Περσεφόνης\, Δευτ-Σαβ 11:00-19:00)\nΤηλεφωνικά στο 11876 \nTuesday 31 Dec 2019 (λίγο μετά την αλλαγή) – Boarding at 00:21 / Intergalactic Take-off at 01:24 \n– Terminal 1 εκτός ΣΕΝΓΚΕΝ\, Gate A35 – Fuzz Club\, Athens \n\n 
URL:https://www.fuzzclub.gr/event/trashformers-nye/
LOCATION:Fuzz Club\, PIREOS 209 KAI PATRIARXOU IOAKIM 1\, Athens\, Greece
CATEGORIES:Concerts
ATTACH;FMTTYPE=image/jpeg:https://www.fuzzclub.gr/wp-content/uploads/2019/12/DSC_9548-1.jpg
END:VEVENT
END:VCALENDAR